Workbook
Name AbaDeprec: '5. Depreciação'!$B$3
Name AbaRemun: '6.Remuneração de capital'!$B$3

Sheet 1. Coleta Domiciliar
B4: PLANILHA DE CUSTOS MENSAIS
B5: PREFEITURA MUNICIPAL DE CAMPOS BORGES
B6: 1. Coleta de Resíduos Sólidos
B7: Planilha de Composição de Custos
B8: Orçamento Sintético
B9: Descrição do Item | F9: Custo (R$/mês) | G9: %
B10: =B45 -> 1. Mão-de-obra
B11: =B46 -> 1.1. Coletor Turno Dia
B12: =B59 -> 1.2. Coletor Turno Noite
B13: =B78 -> 1.2. Motorista Turno do Dia
B14: =B129 -> 1.3. Auxílio Alimentação (mensal)
B15: =B137 -> 2. Uniformes e Equipamentos de Proteção Individual
B16: =B169 -> 3. Veículos e Equipamentos
B17: =B170 -> 3.1. Veículo Coletor Compactador 15 m³
B18: =B171 -> 3.1.1. Depreciação
B19: =B187 -> 3.1.2. Remuneração do Capital
B20: =B203 -> 3.1.3. Impostos e Seguros
B21: =B211 -> 3.1.4. Consumos
B22: =B227 -> 3.1.5. Manutenção
B23: =B233 -> 3.1.6. Pneus
B24: =B244 -> 4. Ferramentas e Materiais de Consumo
B25: =B255 -> 5. Monitoramento da Frota
B26: =B267 -> 6. Benefícios e Despesas Indiretas - BDI
B27: =B277 -> 7. Destinação Final do Lixo R$ (mês)
B28: PREÇO TOTAL MENSAL COM A COLETA
B31: Quantitativos
B32: Mão-de-obra | F32: Quantidade
B33: =+B46 -> 1.1. Coletor Turno Dia | F33: 2
B34: =+B59 -> 1.2. Coletor Turno Noite | F34: =D75 -> 0
B35: =+B78 -> 1.2. Motorista Turno do Dia | F35: 1
B36: =+B93 -> 1.4. Motorista Turno Noite | F36: =D111 -> 0
B37: Total de mão-de-obra (postos de trabalho) | F37: =SUM(F33:F36) -> 3
B39: Veículos e Equipamentos | F39: Quantidade
B40: =+B170 -> 3.1. Veículo Coletor Compactador 15 m³ | F40: 1
B42: Fator de utilização (FU) | C42: 1
B45: 1. Mão-de-obra
B46: 1.1. Coletor Turno Dia
B47: Discriminação | C47: Unidade | D47: Quantidade | E47: Custo unitário | F47: Subtotal | G47: Total (R$)
B48: Piso da categoria | C48: mês
B49: Horas Extras (100%) | C49: hora | H49: Excluir esta linha caso a contratação não tenha previsão de horas extras 100% explícita no edital
...

Sheet 2.Encargos Sociais
B4: 2. Composição dos Encargos Sociais
B5: Código | C5: Descrição | D5: Valor
B6: A1 | C6: INSS | D6: 0.2
B7: A2 | C7: SESI | D7: 0.015
B8: A3 | C8: SENAI | D8: 0.01
B9: A4 | C9: INCRA | D9: 0.002
B10: A5 | C10: SEBRAE | D10: 0.006
B11: A6 | C11: Salário educação | D11: 0.025
B12: A7 | C12: Seguro contra acidentes de trabalho | D12: 0.03
B13: A8 | C13: FGTS | D13: 0.08
B14: A | C14: SOMA GRUPO A | D14: =SUM(D6:D13) -> 0.368
B16: B1 | C16: Férias gozadas | D16: =ROUND(IF('3.CAGED'!C39>24,(1-12/'3.CAGED'!C39)*0.1111,0.1111-D25),4) -> 0.0574
B17: B2 | C17: 13º salário | D17: =ROUND('3.CAGED'!C33/'3.CAGED'!C30,4) -> 0.0833
B18: B3 | C18: Licença Paternidade | D18: 0.0006
B19: B4 | C19: Faltas justificadas | D19: 0.0082
B20: B5 | C20: Auxilio acidente de trabalho | D20: 0.0031
B21: B6 | C21: Auxilio doença | D21: 0.0166
B22: B | C22: SOMA GRUPO B | D22: =SUM(D16:D21) -> 0.1692
B24: C1 | C24: Aviso prévio indenizado | D24: =ROUND(('3.CAGED'!C38) *'3.CAGED'!C29/'3.CAGED'!C30,4) -> 0.039
B25: C2 | C25: Férias indenizadas | D25: =ROUND(IF('3.CAGED'!C39>12,12/'3.CAGED'!C39*0.1111,0.1111),4) -> 0.0537
B26: C3 | C26: Férias indenizadas s/ aviso previo inden. | D26: =ROUND(('3.CAGED'!C32+'3.CAGED'!C31)/360*D24,4) -> 0.0043
B27: C4 | C27: Depósito rescisão sem justa causa | D27: =ROUND(('3.CAGED'!C30+'3.CAGED'!C31+'3.CAGED'!C33)/'3.CAGED'!C28*'3.CAGED'!C35*'3.CAGED'!C36*'3.CAGED'!C29/'3.CAGED'!C30,4) -> 0.0359
B28: C5 | C28: Indenização adicional | D28: =ROUND(('3.CAGED'!C32/'3.CAGED'!C30)*'3.CAGED'!C29/12,4) -> 0.0027
B29: C | C29: SOMA GRUPO C | D29: =SUM(D24:D28) -> 0.1356
B31: D1 | C31: Reincidência de Grupo A sobre Grupo B | D31: =ROUND(D14*D22,4) -> 0.0623
B32: D2 | C32: Reincidência de Grupo A sobre aviso prévio indenizado | D32: =ROUND((D24*D14),4) -> 0.0144
B33: D | C33: SOMA GRUPO D | D33: =SUM(D31:D32) -> 0.0767
C34: SOMA (A+B+C+D) | D34: =D33+D29+D22+D14 -> 0.7495

Sheet 3.CAGED
A1: CÁLCULO DAS VERBAS INDENIZATÓRIAS DOS EMPREGADOS NO SETOR DE COLETA DE RSU
A3: Para preencher esta planilha siga os passos 1 a 5:
A4: 1. Acesse o Portal do CAGED no link http://bi.mte.gov.br/cagedestabelecimento/pages/consulta.xhtml
A5: 2. Na Especificação da Consulta, selecione "Demonstrativo por período" e informe as competências relativas ao período Inicial e Final (últimos 12 meses)
A6: 3. Nível Geográfico: selecione "Unidade da Federação" e marque a opção "Rio Grande do Sul"
A7: 4. Nível Setorial: selecione "Classe de atividade econômica segundo a classificação CNAE – versão 2.0 (669 categorias)" e marque a opção "38114 – Coleta de Resíduos Não-Perigosos"
A8: 5. Clique em Gerar Relatório
A9: 6. Preencha as células em amarelo
B11: 3. CAGED
B12: Rio Grande do Sul - Coleta de Resíduos Não-Perigosos - CNAE 38114
B13: Admissões | C13: 2486
B14: Desligamentos | C14: 3303
B15: Dispensados com justa causa | C15: 81
B16: Dispensados sem justa causa | C16: 2336
B17: Espontâneos | C17: 342
B18: Fim de contrato por prazo determinado | C18: 18
B19: Término de contrato | C19: 500
B20: Aposentados | C20: 1
B21: Mortos | C21: 25
B22: Transferência de saída | C22: 0
B23: Indicadores
B24: Estoque recuperado início do Período 01-09-2016 | C24: 6400
B25: Estoque recuperado final do Período 31-08-2017 | C25: 5583
B26: Variação Emprego Absoluta de 01-09-2016 a 31-08-2017 | C26: -817
B28: Rotatividade | C28: =MEDIAN(C13,C14)/MEDIAN(C24,C25) -> 0.48310106 | G28: =12/C28 -> 24.839523
B29: Demitidos s/ Justa Causa em relação ao Estoque Médio | C29: =C16/MEDIAN(C24,C25) -> 0.38988567
B30: Dias ano | C30: 360
B31: 1/3 de férias (dias) | C31: 10
B32: Férias (dias) | C32: 30 | G32: =TRUNC(G37) -> 0
B33: 13º Salário (dias) | C33: 30
B34: Estoque Médio | C34: =MEDIAN(C24,C25) -> 5991.5
B35: FGTS | C35: 0.08 | K35: =IF(C39>12,C39-12,C39) -> 12.839523
B36: Multa FGTS | C36: 0.5 | K36: =IF(#REF!>12,#REF!-12,#REF!) -> #REF!
B37: Fração de tempo para gozo férias | C37: =((1/C28)-TRUNC(E37)) -> 0.069960269 | D37: =TRUNC(E37) -> 2 | E37: =1/C28 -> 2.0699603 | F37: =((1/C28)-TRUNC(E37)) -> 0.069960269 | G37: =12*F37 -> 0.83952323 | K37: =IF(#REF!>12,#REF!-12,#REF!) -> #REF!
B38: Dias de Aviso prévio | C38: =30+D38 -> 36 | D38: =3*D37 -> 6 | G38: =G37/12*40/360 -> 0.0077733633 | K38: =IF(#REF!>12,#REF!-12,#REF!) -> #REF!
B39: Rotatividade temporal (meses) | C39: =12/C28 -> 24.839523 | K39: =IF(#REF!>12,#REF!-12,#REF!) -> #REF!
K40: =IF(K39>12,K39-12,K39) -> #REF!
K41: =IF(K40>12,K40-12,K40) -> #REF!

Sheet 4.BDI
B1: Orientações para preenchimento:
B2: 1. Esta planilha é somente um modelo-base e deve ser ajustada conforme cada caso concreto.
B3: 2. Preencher somente células em amarelo
B6: 4. Composição do BDI - Benefícios e Despesas Indiretas
B8: Item | D8: % | E8: Referência estudo TCE
E9: 1° Quartil | F9: Médio | G9: 3° Quartil
B10: Administração Central | C10: AC | D10: 0.0508 | E10: 0.0297 | F10: 0.0508 | G10: 0.0627
B11: Seguros/Riscos/Garantias | C11: SRG | D11: 0.0133 | E11: =0.3%+0.56% -> 0.0086 | F11: =0.48%+0.85% -> 0.0133 | G11: =0.82%+0.89% -> 0.0171
B12: Lucro | C12: L | D12: 0.1085 | E12: 0.0778 | F12: 0.1085 | G12: 0.1355
B13: Despesas Financeiras | C13: DF | D13: =(1+F13)^(F14/252)-1 -> 0.00046158307 | E13: i | F13: 0.0053
B14: Tributos - ISS | C14: T | D14: 0.03 | E14: DU | F14: 22
B15: Tributos - PIS/COFINS | D15: 0.0365
B16: Fórmula para o cálculo do BDI:
B17: {[(1+AC+SRG) x (1+L) x (1+DF)] / (1-T)} -1
B18: Resultado do cálculo do BDI: | D18: =ROUND((((1+D10+D11)*(1+D12)*(1+D13))/(1-(D14+D15))-1),4) -> 0.2642 | E18: 0.2143 | F18: 0.2717 | G18: 0.3362

Sheet 5. Depreciação
B3: 5. Depreciação Referencial TCE/RS (%)
B4: Idade do veículo (ano) | C4: Depreciação Média
B5: 1 | C5: 33.63
B6: 2 | C6: 43.13
B7: 3 | C7: 48.68
B8: 4 | C8: 52.62
B9: 5 | C9: 55.68
B10: 6 | C10: 58.18
B11: 7 | C11: 60.29
B12: 8 | C12: 62.12
B13: 9 | C13: 63.73
B14: 10 | C14: 65.18
B15: 11 | C15: 66.48
B16: 12 | C16: 67.67
... B19: 15 | C19: 70.73

Sheet 6.Remuneração de capital
B3: 6. Remuneração de Capital
B5: Fórmula de cálculo da remuneração de capital:
B14: Jm = remuneração de capital mensal
B15: i = taxa de juros do mercado (sugere-se adotar a taxa SELIC)
B16: Im = investimento médio
B17: V0 = valor inicial do bem
B18: Vr = valor residual do bem
B19: n = vida útil do bem em anos

Sheet 7. Dimensionamento
B1: Orientações para preenchimento:
B2: 1. Esta planilha é somente um modelo de cálculo expedito e deve ser ajustada conforme cada caso concreto.
B3: 2. Dimensionar separadamente setores atendidos por veículos de capacidade de carga diferentes.
B4: 3. Preencher somente células em amarelo
B6: 7. Dimensionamento da frota
B7: Indicador | C7: Unid | D7: Valor
B8: População (H) | C8: hab | D8: 3613
B9: Geração per capita (G) | C9: Kg/hab.dia | D9: =0.0362741*D8^0.2336249 -> 0.24592529
B10: Geração total diária (Qd) | C10: ton/dia | D10: =D8*D9/1000 -> 0.88852807
B11: Geração Mensal | C11: ton | D11: =(D10*30) -> 26.655842
B12: Número de dias de coleta por semana (Dc) | C12: dia | D12: 4
B13: Quantitativo diário de coleta (Qc) | C13: ton/dia | D13: =IFERROR(D10*7/D12,0) -> 1.5549241
B14: Densidade RSU compactado | C14: Kg/m³ | D14: 500
B15: Tipo de Veículo (1 = toco, 2 = truck) | D15: 1
B16: Capacidade do Compactador | C16: m³ | D16: 15
B17: Capacidade nominal de carga (Cc) | C17: ton | D17: =IF(AND(D16>=15,D15=1),5.8,D16/2) -> 5.8
B18: Número de Cargas por dia (Nc) | D18: =IFERROR(D13/D17,0) -> 0.26809037
B19: Número total de percursos de coleta por veículo, por dia (Np) | D19: 1
B20: Número de veículos da Frota (F) | D20: =IFERROR(D18/D19,0) -> 0.26809037
E23: 1
