Workbook
Name AbaDeprec: '10. Depr'!$A$1
Name AbaRemun: #REF!
Name AbaRemun: #REF!
Name AbaRemun: #REF!
Name AbaRemun: '12. Rem capital'!$A$1
Name Horário: #REF!
Name Horário: #REF!

Sheet Resumo
A1: Prefeitura Municipal de Ernestina
A2: Resumo Custo Edital Coleta de Resíduos Sólidos
A3: Ordem | B3: Descrição | C3: Valor atual R$ | D3: IPCA | E3: Valor Atual | F3: PO Novo | G3: Diferença | H3: Diferença %
A4: 1 | B4: Coleta orgânica e transporte | C4: =9901.41+8807.51+4497.81 -> 23206.73 | E4: =C4*D4 -> 0 | F4: ='1. Coleta Orgânica'!F315 -> 9159.8175 | G4: =F4-C4 -> -14046.912 | H4: =F4/C4-1 -> -0.60529478
A5: 2 | B5: Coleta seletiva e transporte | C5: =4649.22+2392.89 -> 7042.11 | E5: =C5*D5 -> 0 | F5: ='2. Coleta Seletiva e Interior'!F315 -> 8237.5174 | G5: =F5-C5 -> 1195.4074 | H5: =F5/C5-1 -> 0.16975131
A6: 3 | B6: Contentores | F6: ='3. Contentores'!E18 -> 5975.3262
A8: Subtotal Geral | C8: =SUM(#REF!) -> #REF! | E8: =SUM(#REF!) -> #REF! | F8: =SUM(F4:F7) -> 23372.661
B11: Total Atual
B13: Valor atualizado
A14: Resumo
A15: 10 | B15: Lucro
A16: 5 | B16: Admin.
A17: 5 | B17: Encargos Soc.
A18: =SUM(A15:A17) -> 20 | B18: Total %
A19: =#REF!*A18/100 -> #REF! | B19: Total Margem
A24: Comparação com o Edital Anterior
A25: Ordem | B25: Descrição | C25: Valor atual R$ | D25: IPCA | E25: Valor Atual | I25: + Inflac. | J25: Atual | K25: Variação
A26: 1 | B26: Coleta orgânica e seletiva | C26: =9901.41+8807.51+4497.81 -> 23206.73 | E26: =C26*D26 -> 0 | I26: =F26*1.052 -> 0 | J26: =F4+F5+#REF! -> #REF! | K26: =J26-I26 -> #REF!
A27: 2 | B27: Contentores | I27: =F27*1.052 -> 0 | J27: =F6 -> 5975.3262 | K27: =J27-I27 -> 5975.3262
E28: =C28*D28 -> 0 | K28: =J28-I28 -> 0
A29: Total Geral | C29: =SUM(C26:C28) -> 23206.73 | E29: =SUM(E26:E28) -> 0 | I29: =SUM(I26:I28) -> 0 | J29: =SUM(J26:J28) -> #REF! | K29: =J29-I29 -> #REF!
A30: Toneladas Total | I30: =#REF! -> #REF! | J30: =#REF! -> #REF! | K30: =J30-I30 -> #REF!
A31: Custo R$/Ton | I31: =I26/I30 -> #REF! | J31: =J26/J30 -> #REF!

Sheet 1. Coleta Orgânica
A1: Orientações para preenchimento:
A2: 1. Esta planilha é somente um modelo-base, devendo ser adaptada para cada caso concreto.
A3: Qualquer custo previsto no edital e não contemplado nesta planilha deverá ser devidamente incluído.
A4: 2. Antes de preenchê-la, leia a Orientação Técnica - Serviço de coleta de resíduos sólidos domiciliares
A5: 3. Preencher somente células em amarelo
A6: 4. As células azuis deverão ter seus valores preenchidos em outra planilha do arquivo.
A8: O TCE/RS não se responsabiliza pelo uso incorreto desta planilha.
A9: O orçamento deve ser realizado por responsável técnico habilitado e é de responsabilidade do seu autor.
A11: Prefeitura Municipal de Ernestina
A12: 1. Coleta e Transportes de Resíduos Orgânicos
A13: Planilha de Composição de Custos
A15: Orçamento Sintético
A16: Descrição do Item | E16: Custo (R$/mês) | F16: %
A17: =A56 -> 1. Mão-de-obra | E17: =+F153 -> 2436.9616 | F17: =IFERROR(E17/$E$39,0) -> 0.26604914
A18: =A58 -> 1.1. Coletor Turno Dia | E18: =F69 -> 1168.9973 | F18: =IFERROR(E18/$E$39,0) -> 0.12762233
A19: =A71 -> 1.2. Coletor Turno Noite | E19: =F88 -> 0 | F19: =IFERROR(E19/$E$39,0) -> 0
A20: =A90 -> 1.2. Motorista Turno do Dia | E20: =F103 -> 752.60397 | F20: =IFERROR(E20/$E$39,0) -> 0.082163642
A21: =A106 -> 1.3. Encarregado/Supervisor | E21: =F125 -> 162.5189 | F21: =IFERROR(E21/$E$39,0) -> 0.017742591
A22: =A127 -> 1.4. Vale Transporte | E22: =F133 -> 92.074371 | F22: =IFERROR(E22/$E$39,0) -> 0.010051987
A23: =A135 -> 1.5. Vale Lanche (diário) | E23: =F139 -> 239.3442 | F23: =IFERROR(E23/$E$39,0) -> 0.0261298
A24: =A141 -> 1.6. Auxílio Alimentação (mensal) | E24: =F145 -> 15.912 | F24: =IFERROR(E24/$E$39,0) -> 0.0017371525
A25: =A147 -> 1.7. Plano de Benefício Social | E25: =F151 -> 5.5109091 | F25: =IFERROR(E25/$E$39,0) -> 0.00060163961
A26: =A155 -> 2. Uniformes e Equipamentos de Proteção Individual | E26: =+F187 -> 56.191288 | F26: =IFERROR(E26/$E$39,0) -> 0.0061345423
A27: =A189 -> 3. Veículos e Equipamentos | E27: =+F270 -> 4536.8924 | F27: =IFERROR(E27/$E$39,0) -> 0.4953038
A28: =A191 -> 3.1. Veículo Coletor com compactador | E28: =SUM(E29:E34) -> 4536.8924 | F28: =IFERROR(E28/$E$39,0) -> 0.4953038
A29: =A193 -> 3.1.1. Depreciação | E29: =F208 -> 454.6305 | F29: =IFERROR(E29/$E$39,0) -> 0.049633139
A30: =A210 -> 3.1.2. Remuneração do Capital | E30: =F225 -> 653.11406 | F30: =IFERROR(E30/$E$39,0) -> 0.071302082
A31: =A227 -> 3.1.3. Impostos e Seguros | E31: =F233 -> 91.49533 | F31: =IFERROR(E31/$E$39,0) -> 0.0099887721
A32: =A235 -> 3.1.4. Consumos | E32: =F253 -> 2410.0625 | F32: =IFERROR(E32/$E$39,0) -> 0.2631125
A33: =A255 -> 3.1.5. Manutenção | E33: =F258 -> 721.28386 | F33: =IFERROR(E33/$E$39,0) -> 0.078744348
A34: =A260 -> 3.1.6. Pneus | E34: =F267 -> 206.30617 | F34: =IFERROR(E34/$E$39,0) -> 0.022522956
A35: =A272 -> 4. Ferramentas, Materiais de Consumo | E35: =+F280 -> 17.833333 | F35: =IFERROR(E35/$E$39,0) -> 0.0019469092
A36: =A282 -> 5. Administração Local | E36: =F291 -> 252.5 | F36: =IFERROR(E36/$E$39,0) -> 0.027566051
A37: =A293 -> 6. Monitoramento da Frota | E37: =+F302 -> 24.545455 | F37: =IFERROR(E37/$E$39,0) -> 0.0026796882
A38: =A306 -> 7. Benefícios e Despesas Indiretas - BDI | E38: =+F312 -> 1834.8935 | F38: =IFERROR(E38/$E$39,0) -> 0.20031987
A39: PREÇO TOTAL MENSAL COM A COLETA | E39: =E17+E26+E27+E35+E37+E38+E36 -> 9159.8175 | F39: =F17+F26+F27+F35+F37+F38+F36 -> 1
A42: Quantitativos
A43: Mão-de-obra | E43: Quantidade
A44: =+A58 -> 1.1. Coletor Turno Dia | E44: =C68 -> 2
A45: =+A71 -> 1.2. Coletor Turno Noite | E45: =C87 -> 0
...

Sheet 2. Coleta Seletiva e Interior
A1: Orientações para preenchimento:
A2: 1. Esta planilha é somente um modelo-base, devendo ser adaptada para cada caso concreto.
A3: Qualquer custo previsto no edital e não contemplado nesta planilha deverá ser devidamente incluído.
A4: 2. Antes de preenchê-la, leia a Orientação Técnica - Serviço de coleta de resíduos sólidos domiciliares
A5: 3. Preencher somente células em amarelo
A6: 4. As células azuis deverão ter seus valores preenchidos em outra planilha do arquivo.
A8: O TCE/RS não se responsabiliza pelo uso incorreto desta planilha.
A9: O orçamento deve ser realizado por responsável técnico habilitado e é de responsabilidade do seu autor.
A11: Prefeitura Municipal de Ernestina
A12: 2. Coleta e Transportes de Resíduos Seletivos e Interior
A13: Planilha de Composição de Custos
A15: Orçamento Sintético
A16: Descrição do Item | E16: Custo (R$/mês) | F16: %
A17: =A56 -> 1. Mão-de-obra | E17: =+F153 -> 1497.4458 | F17: =IFERROR(E17/$E$39,0) -> 0.18178362
A18: =A58 -> 1.1. Coletor Turno Dia | E18: =F69 -> 667.99843 | F18: =IFERROR(E18/$E$39,0) -> 0.081092203
A19: =A71 -> 1.2. Coletor Turno Noite | E19: =F88 -> 0 | F19: =IFERROR(E19/$E$39,0) -> 0
A20: =A90 -> 1.2. Motorista Turno do Dia | E20: =F103 -> 585.35864 | F20: =IFERROR(E20/$E$39,0) -> 0.07106008
A21: =A106 -> 1.3. Encarregado/Supervisor | E21: =F125 -> 81.259449 | F21: =IFERROR(E21/$E$39,0) -> 0.0098645557
A22: =A127 -> 1.4. Vale Transporte | E22: =F133 -> 40.921943 | F22: =IFERROR(E22/$E$39,0) -> 0.0049677519
A23: =A135 -> 1.5. Vale-refeição/vale lanche (diário) | E23: =F139 -> 106.3752 | F23: =IFERROR(E23/$E$39,0) -> 0.012913502
A24: =A141 -> 1.6. Auxílio Alimentação (mensal) | E24: =F145 -> 12.383013 | F24: =IFERROR(E24/$E$39,0) -> 0.0015032457
A25: =A147 -> 1.7. Plano de Benefício Social | E25: =F151 -> 3.1490909 | F25: =IFERROR(E25/$E$39,0) -> 0.0003822864
A26: =A155 -> 2. Uniformes e Equipamentos de Proteção Individual | E26: =+F187 -> 34.88447 | F26: =IFERROR(E26/$E$39,0) -> 0.004234828
A27: =A189 -> 3. Veículos e Equipamentos | E27: =+F270 -> 4775.6245 | F27: =IFERROR(E27/$E$39,0) -> 0.57974075
A28: =A191 -> 3.1. Veículo Coletor com compactador | E28: =SUM(E29:E34) -> 4775.6245 | F28: =IFERROR(E28/$E$39,0) -> 0.57974075
A29: =A193 -> 3.1.1. Depreciação | E29: =F208 -> 353.6015 | F29: =IFERROR(E29/$E$39,0) -> 0.042925736
A30: =A210 -> 3.1.2. Remuneração do Capital | E30: =F225 -> 507.97761 | F30: =IFERROR(E30/$E$39,0) -> 0.061666347
A31: =A227 -> 3.1.3. Impostos e Seguros | E31: =F233 -> 71.163034 | F31: =IFERROR(E31/$E$39,0) -> 0.0086388933
A32: =A235 -> 3.1.4. Consumos | E32: =F253 -> 2774.8804 | F32: =IFERROR(E32/$E$39,0) -> 0.33685882
A33: =A255 -> 3.1.5. Manutenção | E33: =F258 -> 830.46663 | F33: =IFERROR(E33/$E$39,0) -> 0.10081516
A34: =A260 -> 3.1.6. Pneus | E34: =F267 -> 237.53531 | F34: =IFERROR(E34/$E$39,0) -> 0.028835789
A35: =A272 -> 4. Ferramentas, Materiais de Consumo | E35: =+F280 -> 17.833333 | F35: =IFERROR(E35/$E$39,0) -> 0.0021648917
A36: =A282 -> 5. Administração Local | E36: =F291 -> 242.5 | F36: =IFERROR(E36/$E$39,0) -> 0.029438481
A37: =A293 -> 6. Monitoramento da Frota | E37: =+F302 -> 19.090909 | F37: =IFERROR(E37/$E$39,0) -> 0.0023175561
A38: =A306 -> 7. Benefícios e Despesas Indiretas - BDI | E38: =+F312 -> 1650.1384 | F38: =IFERROR(E38/$E$39,0) -> 0.20031987
A39: PREÇO TOTAL MENSAL COM A COLETA | E39: =E17+E26+E27+E35+E37+E38+E36 -> 8237.5174 | F39: =F17+F26+F27+F35+F37+F38+F36 -> 1
A42: Quantitativos
A43: Mão-de-obra | E43: Quantidade
A44: =+A58 -> 1.1. Coletor Turno Dia | E44: =C68 -> 2
A45: =+A71 -> 1.2. Coletor Turno Noite | E45: =C87 -> 0
...

Sheet 3. Contentores
A1: Orientações para preenchimento:
A2: 1. Esta planilha é somente um modelo-base. Qualquer custo previsto no edital e não contemplado nesta planilha deverá ser devidamente incluído
A3: 2. Preencher somente células em amarelo
A4: 3. As células azuis deverão ter seus valores preenchidos em outra planilha do arquivo.
A7: Prefeitura Municipal de Ernestina
A8: 3. Locação, Higiênização e Manutenção de Contentores
A9: Planilha de Composição de Custos
A11: Orçamento Sintético
A12: Descrição do Item | E12: Custo (R$/mês) | F12: %
A13: =A27 -> 1. Contentores | E13: =SUM(E14:E16) -> 4778.3496 | F13: =IFERROR(E13/$E$18,0) -> 0.79968013
A14: =A29 -> 1.1.1. Depreciação | E14: =F43 -> 1635.67 | F14: =IFERROR(E14/$E$18,0) -> 0.27373736
A15: =A45 -> 1.1.2. Remuneração do Capital | E15: =F59 -> 1042.7396 | F15: =IFERROR(E15/$E$18,0) -> 0.17450756
A16: =A87 -> 1.1.3 Lavagem e manutenção dos contentores | E16: =F93 -> 2099.94 | F16: =IFERROR(E16/$E$18,0) -> 0.35143521
A17: =A97 -> 2. Benefícios e Despesas Indiretas - BDI | E17: =+F103 -> 1196.9766 | F17: =IFERROR(E17/$E$18,0) -> 0.20031987
A18: PREÇO TOTAL MENSAL COM A COLETA | E18: =E17+E13 -> 5975.3262 | F18: =F13+F17 -> 1
A21: Equipamentos | E21: Quantidade
A22: =+A27 -> 1. Contentores | E22: 60
A23: Total de Contentores | E23: =SUM(E22) -> 60
A25: Fator de utilização (FU) | B25: 1
A27: 1. Contentores
A29: 1.1.1. Depreciação
A30: Discriminação | B30: Unidade | C30: Quantidade | D30: Custo unitário | E30: Subtotal | F30: Total (R$)
A31: Custo de aquisição dos contentores | B31: unidade | C31: 1 | D31: 1635.67 | E31: =C31*D31 -> 1635.67
A32: Vida útil do contentor | B32: anos | C32: 5
A33: Idade do contentor | B33: anos | C33: 0
A34: Depreciação do contentor | B34: % | C34: 100 | D34: =E31 -> 1635.67 | E34: =C34*D34/100 -> 1635.67
A35: Depreciação mensal contentor | B35: mês | C35: =C32*12 -> 60 | D35: =IF(C33<=C32,E34,0) -> 1635.67 | E35: =IFERROR(D35/C35,0) -> 27.261167
A36: Custo de aquisição do compactador | B36: unidade | D36: 40000 | E36: =C36*D36 -> 0
A37: Vida útil do compactador | B37: anos | C37: 5
A38: Idade do compactador | B38: anos | C38: 3
A39: Depreciação do compactador | B39: % | C39: =IFERROR(VLOOKUP(C37,'[1]5. Depreciação'!A80:B94,2,FALSE),0) -> 0 | D39: =E36 -> 0 | E39: =C39*D39/100 -> 0
A40: Depreciação mensal do compactador | B40: mês | C40: =C37*12 -> 60 | D40: =IF(C38<=C37,E39,0) -> 0 | E40: =IFERROR(D40/C40,0) -> 0
A41: Total por veículo | E41: =E35+E40 -> 27.261167
A42: Total | B42: unidade | C42: =E23 -> 60 | D42: =E41 -> 27.261167 | E42: =C42*D42 -> 1635.67
D43: Fator de utilização | E43: =$B$25 -> 1 | F43: =E42*E43 -> 1635.67
A45: 1.1.2. Remuneração do Capital
A46: Discriminação | B46: Unidade | C46: Quantidade | D46: Custo unitário | E46: Subtotal | F46: Total (R$)
A47: Custo dos contentores | B47: unidade | C47: 1 | D47: =D31 -> 1635.67 | E47: =C47*D47 -> 1635.67
A48: Taxa de juros anual nominal | B48: % | C48: 12.75
A49: Valor do container proposto (V0) | B49: R$ | C49: =IFERROR(IF(C33<=C32,E31-(C34/(100*C32)*C33)*E31,E31-E34),0) -> 1635.67
...

Sheet 4.Enc Sociais
A1: Orientações para preenchimento:
A2: 1. Preencha previamente os dados de entrada na planilha 3.CAGED
A4: O TCE/RS não se responsabiliza pelo uso incorreto desta planilha.
A5: O orçamento deve ser realizado por responsável técnico habilitado e
A6: é de responsabilidade do seu autor.
A8: Composição dos Encargos Sociais
A9: Código | B9: Descrição | C9: Valor
A10: A1 | B10: INSS | C10: 0.2
A11: A2 | B11: SESI | C11: 0.015
A12: A3 | B12: SENAI | C12: 0.01
A13: A4 | B13: INCRA | C13: 0.002
A14: A5 | B14: SEBRAE | C14: 0.006
A15: A6 | B15: Salário educação | C15: 0.025
A16: A7 | B16: Seguro contra acidentes de trabalho | C16: 0.03
A17: A8 | B17: FGTS | C17: 0.08
A18: A | B18: SOMA GRUPO A | C18: =SUM(C10:C17) -> 0.368
A20: B1 | B20: Férias gozadas | C20: =ROUND(IF('5.CAGED'!C32>24,(1-12/'5.CAGED'!C32)*0.1111,0.1111-C29),4) -> 0.0657
A21: B2 | B21: 13º salário | C21: =ROUND('5.CAGED'!C36/'5.CAGED'!C33,4) -> 0.0833
A22: B3 | B22: Licença Paternidade | C22: 0.0006
A23: B4 | B23: Faltas justificadas | C23: 0.0082
A24: B5 | B24: Auxilio acidente de trabalho | C24: 0.0031
A25: B6 | B25: Auxilio doença | C25: 0.012
A26: B | B26: SOMA GRUPO B | C26: =SUM(C20:C25) -> 0.1729
A28: C1 | B28: Aviso prévio indenizado | C28: 0.021
A29: C2 | B29: Férias indenizadas | C29: =ROUND(IF('5.CAGED'!C32>12,12/'5.CAGED'!C32*0.1111,0.1111),4) -> 0.0454
A30: C3 | B30: Férias indenizadas s/ aviso previo inden. | C30: =C28*C29 -> 0.0009534
A31: C4 | B31: Depósito rescisão sem justa causa | C31: 0.018
A32: C5 | B32: Indenização adicional | C32: =ROUND(('5.CAGED'!C35/'5.CAGED'!C33)*'5.CAGED'!C30/12,4) -> 0.002
A33: C | B33: SOMA GRUPO C | C33: =SUM(C28:C32) -> 0.0873534
A35: D1 | B35: Reincidência de Grupo A sobre Grupo B | C35: =ROUND(C18*C26,4) -> 0.0636
A36: D2 | B36: Reincidência de FGTS sobre aviso prévio indenizado | C36: =ROUND((C28*C17),4) -> 0.0017
A37: D | B37: SOMA GRUPO D | C37: =SUM(C35:C36) -> 0.0653
B38: SOMA (A+B+C+D) | C38: =C37+C33+C26+C18 -> 0.6935534

Sheet 5.CAGED
A1: CÁLCULO DAS VERBAS INDENIZATÓRIAS DOS EMPREGADOS NO SETOR DE COLETA DE RSU
A3: Para preencher esta planilha siga os passos 1 a 5:
A4: 1. Acesse o Portal do CAGED no link http://bi.mte.gov.br/cagedestabelecimento/pages/consulta.xhtml
A5: 2. Na Especificação da Consulta, selecione "Demonstrativo por período" e informe as competências relativas ao período Inicial e Final (últimos 12 meses)
A6: 3. Nível Geográfico: selecione "Unidade da Federação" e marque a opção "Rio Grande do Sul"
A7: 4. Nível Setorial: selecione "Classe de atividade econômica segundo a classificação CNAE – versão 2.0 (669 categorias)" e marque a opção "38114 – Coleta de Resíduos Não-Perigosos"
A8: 5. Clique em Gerar Relatório
A9: 6. Preencha as células em amarelo
B11: 6. CAGED
B12: Rio Grande do Sul - Coleta de Resíduos Não-Perigosos - CNAE 38114
B13: Admissões | C13: 1932
B14: Desligamentos | C14: 2197
B15: Dispensados com justa causa | C15: 25
B16: Dispensados sem justa causa | C16: 1463
B17: Espontâneos | C17: 321
B18: Fim de contrato por prazo determinado | C18: 12
B19: Término de contrato | C19: 339
B20: Aposentados | C20: 0
B21: Mortos | C21: 22
B22: Transferência de saída | C22: 0
B23: Acordo | C23: 0
B24: Indicadores
B25: Estoque recuperado início do Período 01-03-2018 | C25: 5183
B26: Estoque recuperado final do Período 28-02-2019 | C26: 4918
B27: Variação Emprego Absoluta de 01-03-2018 a 28-02-2019 | C27: =C13-C14 -> -265
B29: Estoque Médio | C29: =MEDIAN(C25,C26) -> 5050.5
B30: % Demitidos s/ Justa Causa em relação ao Estoque Médio | C30: =C16/C29 -> 0.28967429
B31: Taxa de Rotatividade | C31: =MEDIAN(C13,C14)/C29 -> 0.40877141
B32: Rotatividade temporal (meses) | C32: =12/C31 -> 29.356261
B33: Dias ano | C33: 360
B34: 1/3 de férias (dias) | C34: 10
B35: Férias (dias) | C35: 30
B36: 13º Salário (dias) | C36: 30
B37: Dias de Aviso prévio | C37: =30+(3*TRUNC(1/C31)) -> 36
B38: FGTS | C38: 0.08
B39: Multa FGTS | C39: 0.4

Sheet 6.BDI
A1: Orientações para preenchimento:
A2: 1. Esta planilha é somente um modelo-base e deve ser ajustada conforme cada caso concreto.
A3: 2. Preencher somente células em amarelo
A5: O TCE/RS não se responsabiliza pelo uso incorreto desta planilha.
A6: O orçamento deve ser realizado por responsável técnico habilitado e é
A7: de responsabilidade do seu autor.
A9: Composição do BDI - Benefícios e Despesas Indiretas
D11: Referência estudo TCE
D12: 1° Quartil | E12: Médio | F12: 3° Quartil
A13: Administração Central | B13: AC | C13: 0.05 | D13: 0.0297 | E13: 0.0508 | F13: 0.0627
A14: Seguros/Riscos/Garantias | B14: SRG | C14: 0.0086 | D14: =0.3%+0.56% -> 0.0086 | E14: =0.48%+0.85% -> 0.0133 | F14: =0.82%+0.89% -> 0.0171
A15: Lucro | B15: L | C15: 0.1 | D15: 0.0778 | E15: 0.1085 | F15: 0.1355
A16: Despesas Financeiras | B16: DF | C16: =(1+E16)^(E17/252)-1 -> 0.0024718512 | D16: i | E16: 0.1325
A17: Tributos - ISS | B17: T | C17: 0.03 | D17: DU | E17: 5
A18: Tributos - PIS/COFINS/ e CPP se houver | C18: 0.0365
A19: Fórmula para o cálculo do BDI:
A20: {[(1+AC+SRG) x (1+L) x (1+DF)] / (1-T)} -1
A21: Resultado do cálculo do BDI: | C21: =ROUND((((1+C13+C14)*(1+C15)*(1+C16))/(1-(C17+C18))-1),4) -> 0.2505 | D21: 0.2143 | E21: 0.2717 | F21: 0.3362

Sheet 7. Ton
A1: Prefeitura Municipal de Ernestina
A2: Previsão de Toneladas de lixo coletados
A3: Período: Estimativa 2022
A6: Previsão Toneladas coletadas e enviadas ao aterro sanitário
A7: Ordem | B7: População Urbana 2021 | C7: KG/dia | D7: Ton/Mês
A8: 1 | B8: 3171 | C8: 0.4 | D8: =B8*C8*30/1000 -> 38.052
A10: Total Geral toneladas ano | D10: =D8*12 -> 456.624
A12: Obs: deste total considera-se que é possível reciclar cerca de 2ton/mês,
A13: ou seja, 20% da coleta seletiva

Sheet 8. Horários
A1: Prefeitura Municipal de Ernestina
A2: Planilha com os horários dos funcionários coleta de resíduos orgânicos e seletivos
A3: Periodicidade: Segunda, quarta e sexta
A4: Rota | B4: Coleta | C4: Dias | D4: Nr. Func. | E4: Cargo | F4: Entrada | G4: Saída | H4: Horas/dia | I4: Hrs/se-mana
A5: Rota 1 e 2 | B5: Orgânica c/orla | C5: Segunda | D5: 2 | E5: Coletor | F5: 0.29166667 | G5: 0.45833333 | H5: 0.16666667 | I5: =D5*4*1 -> 8 | K5: =I5+#REF!+#REF!+#REF!+#REF! -> #REF! | O5: =I6+#REF!+#REF!+#REF!+#REF! -> #REF!
D6: 1 | E6: Motorista | F6: 0.29166667 | G6: 0.5 | H6: 0.20833333 | I6: =D6*5*1 -> 5 | K6: 6 | O6: 2
A7: Rota 1 | B7: Seletiva c/orla, centro de triagem e aterro | C7: Quarta | D7: 2 | E7: Coletor | F7: 0.29166667 | G7: 0.45833333 | H7: 0.16666667 | I7: =D7*4*1 -> 8 | K7: =I7+#REF!+#REF!+#REF!+#REF! -> #REF! | L7: 15 | M7: 12 | N7: 6 | O7: =#REF!+#REF!+#REF!+#REF!+#REF! -> #REF!
D8: 1 | E8: Motorista | F8: 0.29166667 | G8: 0.625 | H8: 0.29166667 | I8: =D8*7 -> 7
A9: Rota 1 | B9: Orgânica | C9: Sexta | D9: 2 | E9: Coletor | F9: 0.29166667 | G9: 0.41666667 | H9: 0.125 | I9: =D9*3*1 -> 6
D10: 1 | E10: Motorista | F10: 0.29166667 | G10: 0.45833333 | H10: 0.16666667 | I10: =D10*4*1 -> 4
L11: =#REF!/4 -> #REF! | M11: =#REF!/3 -> #REF! | N11: =#REF!/3 -> #REF!
A12: Cargo: Coletor de resíduos orgânicos
A13: Total de horas por coletor | G13: 3.5
A14: Total de dias por semana | G14: 2
A15: Total de horas por semana | G15: =G13*G14 -> 7
A16: Dias úteis semana | G16: 6
A17: Total de dias com (DSR) Descanso Semanal Remunerado | G17: 7
A18: Total de horas/dia com (DSR) | G18: =G15/G16 -> 1.1666667
A19: Total de dias no mês (30 dias) | G19: 30
A20: Total geral de horas mês com (DSR) | G20: =G18*G19 -> 35
A21: Total geral de horas base mês com (DSR) | G21: 220
A22: Fator de utilização | G22: =G20/G21 -> 0.15909091
A24: Cargo: Motorista da coleta do lixo orgânico
A25: Total de horas por motorista | G25: 4.5
A26: Total de dias por semana | G26: 2
A27: Total de horas por semana | G27: =G25*G26 -> 9
A28: Dias úteis semana | G28: 6
A29: Total de dias com (DSR) Descanso Semanal Remunerado | G29: 7
A30: Total de horas/dia com (DSR) | G30: =G27/G28 -> 1.5
A31: Total de dias no mês (30 dias) | G31: 30
A32: Total geral de horas mês com (DSR) | G32: =G30*G31 -> 45
A33: Total geral de horas base mês com (DSR) | G33: 220
A34: Fator de utilização | G34: =G32/G33 -> 0.20454545
A36: Cargo: Coletor de resíduos seletivos, interior e orla
A37: Total de horas por coletor | G37: 4
A38: Total de dias por semana | G38: 1
A39: Total de horas por semana | G39: =G37*G38 -> 4
A40: Dias úteis semana | G40: 6
A41: Total de dias com (DSR) Descanso Semanal Remunerado | G41: 7
A42: Total de horas/dia com (DSR) | G42: =G39/G40 -> 0.66666667
...

Sheet 9. Roteiros 
B2: ROTAS DE COLETA | H2: TOTAL MENSAL = ROTAS DE COLETA + TRANSPORTE
B4: Rota 1 | H4: Total dos percursos Orgânicos
B5: Locais de coleta: Área urbana da cidade | H5: Rotas | I5: Coleta | J5: Dias da semana | K5: Nu. Coleta Semanal | M5: Distância: Coleta + Transporte | N5: Und.
B6: Trecho | C6: Cor Linha | D6: Ponto a Ponto | E6: Distância | F6: Unid
B7: Trecho 01 | D7: 1 - 2 | E7: 4284.14 | F7: m | H7: Rota 1 e 2 - Urbano e Orla | I7: Orgânica | J7: Segunda | K7: 1 | L7: x | M7: =E54 -> 130.85426 | N7: km
B8: Trecho 02 | D8: 2 - 3 | E8: 7200.16 | F8: m
B9: Trecho 03 | D9: 3 - 4 | E9: 3674.52 | F9: m | H9: Rota 1 - Urbano | I9: Orgânica | J9: Sexta | K9: 1 | L9: x | M9: =E63 -> 46.30318 | N9: km
B10: Trecho 04 | D10: 4 - 5 | E10: 3046.1 | F10: m
B11: Trecho 05 | D11: 5 - 6 | E11: 5698.26 | F11: m | H11: Total Semanal | M11: =(K7*M7)+(K9*M9) -> 177.15744 | N11: Km
B12: Distância total da Rota: | E12: =SUM(E7:E11)/1000 -> 23.90318 | F12: km | H12: Total Mensal | M12: =((M11/7)*30) -> 759.24617 | N12: Km
B15: Rota 2 | H15: Total dos percursos Seletivos
B16: Locais de coleta: Orla e Margens da BR 153 | H16: Rota | I16: Coleta | J16: Dias da semana | K16: Nu. Coleta Semanal | M16: Distância: Coleta + Transporte | N16: Und.
B17: Trecho | C17: Cor Linha | D17: Ponto a Ponto | E17: Distância | F17: Unid
B18: Trecho 01 | D18: 1 - 2 | E18: 1411.12 | F18: m | H18: Rota 1 e 2 - Urbano e Orla | I18: Seletiva | J18: Quarta | K18: 1 | L18: x | M18: =E73 -> 152.45426 | N18: km
B19: Trecho 02 | D19: 2 - 3 | E19: 2292.74 | F19: m
B20: Trecho 03 | D20: 3 - 4 | E20: 1315.62 | F20: m
B21: Trecho 04 | D21: 4 - 5 | E21: 5535.16 | F21: m | H21: Total Semanal | M21: =(K18*M18) -> 152.45426 | N21: Km
B22: Trecho 05 | D22: 5 - 6 | E22: 1469.3 | F22: m | H22: Total Mensal | M22: =((M21/7)*30) -> 653.3754 | N22: Km
B23: Trecho 06 | D23: 6 - 7 | E23: 1487.32 | F23: m
B24: Trecho 07 | D24: 7 - 8 | E24: 1559.91 | F24: m
B25: Trecho 08 | D25: 8 - 9 | E25: 5743.3 | F25: m | H25: DISTÂNCIA ATÉ O ATERRO SANITÁRIO
B26: Trecho 09 | D26: 9 - 10 | E26: 1469.13 | F26: m | H26: Percurso | M26: Distância | N26: Unidade
B27: Trecho 10 | D27: 10 - 11 | E27: 6090.87 | F27: m | H27: Centro de Triagem - Aterro Sanitário | M27: 43.7 | N27: km
B28: Trecho 11 | D28: 11 - 12 | E28: 1630.2 | F28: m | H28: Aterro Sanitário - Garagem | M28: 11.5 | N28: km
B29: Trecho 12 | D29: 12 - 13 | E29: 2594.89 | F29: m | H29: Total | M29: =SUM(M27:M28) -> 55.2 | N29: km
B30: Trecho 13 | D30: 13 - 14 | E30: 1523.26 | F30: m
B31: Trecho 14 | D31: 14 - 15 | E31: 3514.05 | F31: m | H31: Quantidade de viagens mensais: | M31: 4 | N31: vezes
B32: Trecho 15 | D32: 15 - 16 | E32: 2654.07 | F32: m
B33: Trecho 16 | D33: 16 - 17 | E33: 1423.88 | F33: m | H33: Quilometragem total mensal : | M33: =M29*M31 -> 220.8 | N33: Km
B34: Trecho 17 | D34: 17 - 18 | E34: 3001.92 | F34: m
B35: Trecho 18 | D35: 18 - 19 | E35: 4520.36 | F35: m
B36: Trecho 19 | D36: 19 - 20 | E36: 6693.79 | F36: m
B37: Trecho 20 | D37: 20 - 21 | E37: 2561.49 | F37: m
B38: Trecho 21 | D38: 21 - 22 | E38: 9273.98 | F38: m
B39: Trecho 22 | D39: 22 - 23 | E39: 8526.24 | F39: m
B40: Trecho 23 | D40: 23 - 24 | E40: 2384.88 | F40: m
B41: Trecho 24 | D41: 24 - 25 | E41: 4423.6 | F41: m
B42: Distância total da Rota: | E42: =SUM(E18:E41)/1000 -> 83.10108 | F42: km
B44: TOTAL = ROTAS DE COLETA + TRANSPORTE
B46: Resumo do Percurso - Coletas de Orgânico - Área Urbana e Orla
...

Sheet 10. Depr
A1: Depreciação Referencial TCE/RS (%)
A2: Idade do veículo (ano) | B2: Depreciação Média
A3: 1 | B3: 33.63
A4: 2 | B4: 43.13
A5: 3 | B5: 48.68
A6: 4 | B6: 52.62
A7: 5 | B7: 55.68
A8: 6 | B8: 58.18
A9: 7 | B9: 60.29
A10: 8 | B10: 62.12
A11: 9 | B11: 63.73
A12: 10 | B12: 65.18
A13: 11 | B13: 66.48
A14: 12 | B14: 67.67
... A17: 15 | B17: 70.73

Sheet 12. Rem capital
A1: Remuneração de Capital
A3: Fórmula de cálculo da remuneração de capital:
A12: Jm = remuneração de capital mensal
A13: i = taxa de juros do mercado (sugere-se adotar a taxa SELIC)
A14: Im = investimento médio
A15: V0 = valor inicial do bem
A16: Vr = valor residual do bem
A17: n = vida útil do bem em anos

Sheet 13. Dimens
A1: Orientações para preenchimento:
A2: 1. Esta planilha é somente um modelo de cálculo expedito e deve ser ajustada conforme cada caso concreto.
A3: 2. Dimensionar separadamente setores atendidos por veículos de capacidade de carga diferentes.
A4: 3. Preencher somente células em amarelo
A6: O TCE/RS não se responsabiliza pelo uso incorreto desta planilha.
A7: O orçamento deve ser realizado por responsável técnico habilitado e é de
A8: responsabilidade do seu autor.
A10: Dimensionamento da frota - Município de Ernestina
A12: Indicador | B12: Unid | C12: Valor
A13: População (H) | B13: hab | C13: 3171
A14: Geração per capita (G) | B14: Kg/hab.dia | C14: 0.4
A15: Geração total diária (Qd) | B15: ton/dia | C15: =C13*C14/1000 -> 1.2684
A16: Geração Mensal | B16: ton | C16: =(C15*30) -> 38.052
A17: Número de dias de coleta por semana (Dc) | B17: dia | C17: 3
A18: Quantitativo diário de coleta (Qc) | B18: ton/dia | C18: =IFERROR(C15*7/C17,0) -> 2.9596
A19: Densidade RSU compactado | B19: Kg/m³ | C19: 500
A20: Tipo de Veículo (1 = toco, 2 = truck) | C20: 1
A21: Capacidade do Compactador | B21: m³ | C21: 12
A22: Capacidade nominal de carga (Cc) | B22: ton | C22: =IF(AND(C21>=15,C20=1),5.8,C21/2) -> 6
A23: Número de Cargas por dia (Nc) | C23: =IFERROR(C18/C22,0) -> 0.49326667
A24: Número total de percursos de coleta por veículo, por dia (Np) | C24: 1
A25: Número de veículos da Frota (F) | C25: =IFERROR(C23/C24,0) -> 0.49326667
A27: Obs:
A28: > Informar a população do município a ser atendida
A29: > Caso o município possua informações de pesagem, ajustar com o valor da geração média per capita
A30: realizada nos últimos 12 meses
A31: > Informe o número de dias de coleta por semana
A32: > Informar 1 para caminhão toco; Informar 2 para caminhão truck
A33: > Informar a capacidade do compactador em m³
A34: > Informar o número de percursos de coleta (cargas) que cada caminhão realiza por dia, considerando
A35: todos os turnos de trabalho.

Sheet ANP
A1: AGÊNCIA NACIONAL DO PETRÓLEO, GÁS NATURAL E BIOCOMBUSTÍVEIS - ANP
A2: COORDENADORIA DE DEFESA DA CONCORRÊNCIA
A3: SISTEMA DE LEVANTAMENTO DE PREÇOS
A5: Síntese dos Preços Praticados - PASSO FUNDO
A6: Resumo I - OLEO DIESEL S10 R$/l
A7: Período: De 22/05/2022 a 28/05/2022
A9: RELAÇÃO DE POSTOS PESQUISADOS
A10: RAZÃO SOCIAL | B10: ENDEREÇO | C10: BAIRRO | D10: BANDEIRA | E10: PREÇO VENDA | F10: DATA COLETA
A11: AUTO POSTO PRESIDENTE LTDA | B11: AVENIDA RIO GRANDE, 850 | C11: Vera Cruz | D11: VIBRA ENERGIA | E11: 6.499 | F11: 44705
A12: S S COMERCIO DE COMBUSTIVEIS SA | B12: AVENIDA PRESIDENTE VARGAS, 1348 | C12: Vila Rodrigues | D12: IPIRANGA | E12: 6.699 | F12: 44704
A13: STT - COMERCIO DE COMBUSTIVEIS LTDA | B13: AVENIDA SETE DE SETEMBRO, 220 | C13: Centro | D13: VIBRA ENERGIA | E13: 6.749 | F13: 44705
A14: S S COMERCIO DE COMBUSTIVEIS SA | B14: AVENIDA ASPIRANTE JENNER, 1133 | C14: Lucas Araujo | D14: RAIZEN | E14: 6.799 | F14: 44704
A15: SIM REDE DE POSTOS LTDA | B15: AVENIDA PRESIDENTE VARGAS, 2023 | C15: Vila Rodrigues | D15: BRANCA | E15: 6.799 | F15: 44704
A16: S S COMERCIO DE COMBUSTIVEIS SA | B16: AVENIDA PRESIDENTE VARGAS, 3767 | C16: Sao Cristovao | D16: RAIZEN | E16: 6.799 | F16: 44704
A17: JCA COMERCIO DE COMBUSTIVEIS LTDA | B17: RUA BENJAMIN CONSTANT, 875 | C17: Centro | D17: VIBRA ENERGIA | E17: 6.84 | F17: 44705
A18: COMERCIAL BUFFON COMBUSTIVEIS E TRANSPORTES LIMITADA | B18: ESTRADA RS 324 KM 104, S/N | C18: Vila Matos | D18: VIBRA ENERGIA | E18: 6.899 | F18: 44704
A19: MP POSTOS E LOGISTICA LTDA | B19: RUA FAGUNDES DOS REIS, 125 | C19: Centro | D19: RAIZEN | E19: 6.899 | F19: 44705
A20: AUTO POSTO SETE DE SETEMBRO LTDA. | B20: AVENIDA SETE DE SETEMBRO, 569 | C20: Centro | D20: IPIRANGA | E20: 6.999 | F20: 44705
A22: PREÇO VENDA
A23: MÉDIA | B23: 6.798
A24: DESVIO PADRÃO | B24: 0.135
A25: VALOR MÍNIMO | B25: 6.499
A26: VALOR MÁXIMO | B26: 6.999
A27: Data de Emissão : 28/05/2022
