Workbook
Name _LO25: #REF!
Name AbaDeprec: '6. Depreciação'!$A$1
Name AbaRemun: #REF!
Name AbaRemun: #REF!
Name AbaRemun: #REF!
Name AbaRemun: #REF!
Name AbaRemun: '7.Remuneração de capital'!$A$1
Name Horário: #REF!
Name Horário: #REF!

Sheet Resumo
A1: PREFEITURA MUNICIPAL DE MORMAÇO
A2: Resumo Custo Edital Resíduos Sólidos
A3: Ordem | B3: Descrição | C3: PO R$
A4: 1 | B4: Coleta Orgânica e Seletiva | C4: ='1. Coleta Domiciliar'!F311 -> 15681.658
A5: 2 | B5: Destino Final | C5: ='2. Destino Final'!F37 -> 4878.7728
A7: Total Geral | C7: =SUM(C4:C5) -> 20560.431

Sheet 1. Coleta Domiciliar
A1: Orientações para preenchimento:
A2: 1. Esta planilha é somente um modelo-base, devendo ser adaptada para cada caso concreto.
A3: Qualquer custo previsto no edital e não contemplado nesta planilha deverá ser devidamente incluído.
A4: 2. Antes de preenchê-la, leia a Orientação Técnica - Serviço de coleta de resíduos sólidos domiciliares
A5: 3. Preencher somente células em amarelo
A6: 4. As células azuis deverão ter seus valores preenchidos em outra planilha do arquivo.
A8: O TCE/RS não se responsabiliza pelo uso incorreto desta planilha.
A9: O orçamento deve ser realizado por responsável técnico habilitado e é de responsabilidade do seu autor.
A11: Prefeitura Municipal de Mormaço - RS
A12: 1. Coleta de Resíduos Orgânicos e Seletivos
A13: Planilha de Composição de Custos
A15: Orçamento Sintético
A16: Descrição do Item | E16: Custo (R$/mês) | F16: %
A17: =A56 -> 1. Mão-de-obra | E17: =+F155 -> 4890.5801 | F17: =IFERROR(E17/$E$39,0) -> 0.31186626
A18: =A58 -> 1.1. Coletor Turno Dia | E18: =F69 -> 2532.4942 | F18: =IFERROR(E18/$E$39,0) -> 0.16149403
A19: =A71 -> 1.2. Coletor Turno Noite | E19: =F88 -> 0 | F19: =IFERROR(E19/$E$39,0) -> 0
A20: =A90 -> 1.3. Motorista Turno do Dia | E20: =F103 -> 1742.775 | F20: =IFERROR(E20/$E$39,0) -> 0.11113461
A21: =A106 -> 1.4. Encarregado/Supervisor | E21: =F125 -> 181.17083 | F21: =IFERROR(E21/$E$39,0) -> 0.01155304
A22: =A127 -> 1.5. Vale Transporte | E22: =F133 -> 167.57619 | F22: =IFERROR(E22/$E$39,0) -> 0.010686127
A23: =A135 -> 1.6. Vale-refeição (diário) | E23: =F140 -> 212.94818 | F23: =IFERROR(E23/$E$39,0) -> 0.013579443
A24: =A142 -> 1.7. Auxílio Alimentação (mensal) | E24: =F146 -> 39.740727 | F24: =IFERROR(E24/$E$39,0) -> 0.0025342172
A25: =A148 -> 1.8. Plano de Benefício Social | E25: =F152 -> 13.875 | F25: =IFERROR(E25/$E$39,0) -> 0.00088479164
A26: =A157 -> 2. Uniformes e Equipamentos de Proteção Individual | E26: =+F189 -> 117.37121 | F26: =IFERROR(E26/$E$39,0) -> 0.0074846175
A27: =A191 -> 3. Veículos e Equipamentos | E27: =+F271 -> 7300.9197 | F27: =IFERROR(E27/$E$39,0) -> 0.46557065
A28: =A193 -> 3.1. Veículo Coletor com compactador | E28: =SUM(E29:E34) -> 7300.9197 | F28: =IFERROR(E28/$E$39,0) -> 0.46557065
A29: =A195 -> 3.1.1. Depreciação | E29: =F210 -> 654.2525 | F29: =IFERROR(E29/$E$39,0) -> 0.041720875
A30: =A212 -> 3.1.2. Remuneração do Capital | E30: =F226 -> 845.02114 | F30: =IFERROR(E30/$E$39,0) -> 0.053885956
A31: =A228 -> 3.1.3. Impostos e Seguros | E31: =F234 -> 182.52614 | F31: =IFERROR(E31/$E$39,0) -> 0.011639467
A32: =A236 -> 3.1.4. Consumos | E32: =F254 -> 3754.0908 | F32: =IFERROR(E32/$E$39,0) -> 0.23939374
A33: =A256 -> 3.1.5. Manutenção | E33: =F259 -> 1459.9053 | F33: =IFERROR(E33/$E$39,0) -> 0.093096364
A34: =A261 -> 3.1.6. Pneus | E34: =F268 -> 405.12373 | F34: =IFERROR(E34/$E$39,0) -> 0.025834241
A35: =A273 -> 4. Ferramentas e Materiais de Consumo | E35: =+F281 -> 17.833333 | F35: =IFERROR(E35/$E$39,0) -> 0.0011372097
A36: =A283 -> 5. Administração Local | E36: =F289 -> 306.5 | F36: =IFERROR(E36/$E$39,0) -> 0.019545127
A37: =A291 -> 6. Monitoramento da frota | E37: =+F299 -> 49.090909 | F37: =IFERROR(E37/$E$39,0) -> 0.0031304667
A38: =A303 -> 7. Benefícios e Despesas Indiretas - BDI | E38: =+F308 -> 2999.3628 | F38: =IFERROR(E38/$E$39,0) -> 0.19126567
A39: PREÇO TOTAL MENSAL COM A COLETA | E39: =E17+E26+E27+E35+E37+E38+E36 -> 15681.658 | F39: =F17+F26+F27+F35+F37+F38+F36 -> 1
A42: Quantitativos
A43: Mão-de-obra | E43: Quantidade
A44: =+A58 -> 1.1. Coletor Turno Dia | E44: =C68 -> 2
A45: =+A71 -> 1.2. Coletor Turno Noite | E45: =C87 -> 0
...

Sheet 2. Destino Final
A1: Orientações para preenchimento:
A2: 1. Esta planilha é somente um modelo-base. Qualquer custo previsto no edital e não contemplado nesta planilha deverá ser devidamente incluído
A3: 2. Preencher somente células em amarelo
A4: 3. As células azuis deverão ter seus valores preenchidos em outra planilha do arquivo.
A5: Prefeitura Municipal de Mormaço
A6: 2. Destino Final
A7: Planilha de Composição de Custos
A9: Orçamento Sintético
A10: Descrição do Item | E10: Custo (R$/mês) | F10: %
A11: =A17 -> 1. Destinação final | E11: =+F23 -> 4385.808 | F11: =IFERROR(E11/$E$13,0) -> 0.89895721
A12: =A28 -> 2. Benefícios e Despesas Indiretas - BDI | E12: =+F34 -> 492.96482 | F12: =IFERROR(E12/$E$13,0) -> 0.10104279
A13: PREÇO TOTAL MENSAL COM O DESTINO FINAL | E13: =E11+E12 -> 4878.7728 | F13: =F11+F12 -> 1
A17: 1. Destinação final
A19: Discriminação | B19: Unidade | C19: Quantidade | D19: Custo unitário | E19: Subtotal | F19: Total (R$)
A20: Destinação Final | B20: Ton. | C20: =Ton!H7 -> 31.3272 | D20: 140 | E20: =C20*D20 -> 4385.808
F21: =SUM(E20:E20) -> 4385.808
A23: Custo Mensal com Destinação Final (R$/mês) | F23: =+F21 -> 4385.808
A26: CUSTO TOTAL MENSAL COM DESPESAS OPERACIONAIS (R$/mês) | F26: =F23 -> 4385.808
A28: 2. Benefícios e Despesas Indiretas - BDI
A30: Discriminação | B30: Unidade | C30: Quantidade | D30: Custo unitário | E30: Subtotal | F30: Total (R$)
A31: Benefícios e despesas indiretas | B31: % | C31: ='5.1.BDI Aterro'!C21*100 -> 11.24 | D31: =+F26 -> 4385.808 | E31: =C31*D31/100 -> 492.96482
F32: =+E31 -> 492.96482
A34: CUSTO MENSAL COM BDI (R$/mês) | F34: =F32 -> 492.96482
A37: PREÇO MENSAL TOTAL (R$/mês) | F37: =F26+F34 -> 4878.7728
A38: Preço total por Ton em reais | E38: =F37/C20 -> 155.736

Sheet 3.Encargos Sociais
A1: Orientações para preenchimento:
A2: 1. Preencha previamente os dados de entrada na planilha 3.CAGED
A4: O TCE/RS não se responsabiliza pelo uso incorreto desta planilha.
A5: O orçamento deve ser realizado por responsável técnico habilitado e
A6: é de responsabilidade do seu autor.
A8: 2. Composição dos Encargos Sociais
A9: Código | B9: Descrição | C9: Valor
A10: A1 | B10: INSS | C10: 0.2
A11: A2 | B11: SESI | C11: 0.015
A12: A3 | B12: SENAI | C12: 0.01
A13: A4 | B13: INCRA | C13: 0.002
A14: A5 | B14: SEBRAE | C14: 0.006
A15: A6 | B15: Salário educação | C15: 0.025
A16: A7 | B16: Seguro contra acidentes de trabalho | C16: 0.03
A17: A8 | B17: FGTS | C17: 0.08
A18: A | B18: SOMA GRUPO A | C18: =SUM(C10:C17) -> 0.368
A20: B1 | B20: Férias gozadas | C20: =ROUND(IF('4.CAGED'!C32>24,(1-12/'4.CAGED'!C32)*0.1111,0.1111-C29),4) -> 0.0657
A21: B2 | B21: 13º salário | C21: =ROUND('4.CAGED'!C36/'4.CAGED'!C33,4) -> 0.0833
A22: B3 | B22: Licença Paternidade | C22: 0.0006
A23: B4 | B23: Faltas justificadas | C23: 0.0082
A24: B5 | B24: Auxilio acidente de trabalho | C24: 0.0031
A25: B6 | B25: Auxilio doença | C25: 0.012
A26: B | B26: SOMA GRUPO B | C26: =SUM(C20:C25) -> 0.1729
A28: C1 | B28: Aviso prévio indenizado | C28: 0.021
A29: C2 | B29: Férias indenizadas | C29: =ROUND(IF('4.CAGED'!C32>12,12/'4.CAGED'!C32*0.1111,0.1111),4) -> 0.0454
A30: C3 | B30: Férias indenizadas s/ aviso previo inden. | C30: =C28*C29 -> 0.0009534
A31: C4 | B31: Depósito rescisão sem justa causa | C31: 0.018
A32: C5 | B32: Indenização adicional | C32: =ROUND(('4.CAGED'!C35/'4.CAGED'!C33)*'4.CAGED'!C30/12,4) -> 0.002
A33: C | B33: SOMA GRUPO C | C33: =SUM(C28:C32) -> 0.0873534
A35: D1 | B35: Reincidência de Grupo A sobre Grupo B | C35: =ROUND(C18*C26,4) -> 0.0636
A36: D2 | B36: Reincidência de FGTS sobre aviso prévio indenizado | C36: =ROUND((C28*C17),4) -> 0.0017
A37: D | B37: SOMA GRUPO D | C37: =SUM(C35:C36) -> 0.0653
B38: SOMA (A+B+C+D) | C38: =C37+C33+C26+C18 -> 0.6935534

Sheet 4.CAGED
A1: CÁLCULO DAS VERBAS INDENIZATÓRIAS DOS EMPREGADOS NO SETOR DE COLETA DE RSU
A3: Para preencher esta planilha siga os passos 1 a 5:
A4: 1. Acesse o Portal do CAGED no link http://bi.mte.gov.br/cagedestabelecimento/pages/consulta.xhtml
A5: 2. Na Especificação da Consulta, selecione "Demonstrativo por período" e informe as competências relativas ao período Inicial e Final (últimos 12 meses)
A6: 3. Nível Geográfico: selecione "Unidade da Federação" e marque a opção "Rio Grande do Sul"
A7: 4. Nível Setorial: selecione "Classe de atividade econômica segundo a classificação CNAE – versão 2.0 (669 categorias)" e marque a opção "38114 – Coleta de Resíduos Não-Perigosos"
A8: 5. Clique em Gerar Relatório
A9: 6. Preencha as células em amarelo
B11: 3. CAGED
B12: Rio Grande do Sul - Coleta de Resíduos Não-Perigosos - CNAE 38114
B13: Admissões | C13: 1932
B14: Desligamentos | C14: 2197
B15: Dispensados com justa causa | C15: 25
B16: Dispensados sem justa causa | C16: 1463
B17: Espontâneos | C17: 321
B18: Fim de contrato por prazo determinado | C18: 12
B19: Término de contrato | C19: 339
B20: Aposentados | C20: 0
B21: Mortos | C21: 22
B22: Transferência de saída | C22: 0
B23: Acordo | C23: 0
B24: Indicadores
B25: Estoque recuperado início do Período 01-03-2018 | C25: 5183
B26: Estoque recuperado final do Período 28-02-2019 | C26: 4918
B27: Variação Emprego Absoluta de 01-03-2018 a 28-02-2019 | C27: =C13-C14 -> -265
B29: Estoque Médio | C29: =MEDIAN(C25,C26) -> 5050.5
B30: % Demitidos s/ Justa Causa em relação ao Estoque Médio | C30: =C16/C29 -> 0.28967429
B31: Taxa de Rotatividade | C31: =MEDIAN(C13,C14)/C29 -> 0.40877141
B32: Rotatividade temporal (meses) | C32: =12/C31 -> 29.356261
B33: Dias ano | C33: 360
B34: 1/3 de férias (dias) | C34: 10
B35: Férias (dias) | C35: 30
B36: 13º Salário (dias) | C36: 30
B37: Dias de Aviso prévio | C37: =30+(3*TRUNC(1/C31)) -> 36
B38: FGTS | C38: 0.08
B39: Multa FGTS | C39: 0.4

Sheet 5.BDI
A1: Orientações para preenchimento:
A2: 1. Esta planilha é somente um modelo-base e deve ser ajustada conforme cada caso concreto.
A3: 2. Preencher somente células em amarelo
A5: O TCE/RS não se responsabiliza pelo uso incorreto desta planilha.
A6: O orçamento deve ser realizado por responsável técnico habilitado e é
A7: de responsabilidade do seu autor.
A9: 4. Composição do BDI - Benefícios e Despesas Indiretas
D11: Referência estudo TCE
D12: 1° Quartil | E12: Médio | F12: 3° Quartil
A13: Administração Central | B13: AC | C13: 0.05 | D13: 0.0297 | E13: 0.0508 | F13: 0.0627
A14: Seguros/Riscos/Garantias | B14: SRG | C14: 0.0086 | D14: =0.3%+0.56% -> 0.0086 | E14: =0.48%+0.85% -> 0.0133 | F14: =0.82%+0.89% -> 0.0171
A15: Lucro | B15: L | C15: 0.1 | D15: 0.0778 | E15: 0.1085 | F15: 0.1355
A16: Despesas Financeiras | B16: DF | C16: =(1+E16)^(E17/252)-1 -> 0.0018928642 | D16: i | E16: 0.1
A17: Tributos - ISS | B17: T | C17: 0.02 | D17: DU | E17: 5
A18: Tributos - PIS/COFINS/ e CPP se houver | C18: 0.0365
A19: Fórmula para o cálculo do BDI:
A20: {[(1+AC+SRG) x (1+L) x (1+DF)] / (1-T)} -1
A21: Resultado do cálculo do BDI: | C21: =ROUND((((1+C13+C14)*(1+C15)*(1+C16))/(1-(C17+C18))-1),4) -> 0.2365 | D21: 0.2143 | E21: 0.2717 | F21: 0.3362

Sheet 5.1.BDI Aterro
A1: Orientações para preenchimento:
A2: 1. Esta planilha é somente um modelo-base e deve ser ajustada conforme cada caso concreto.
A3: 2. Preencher somente células em amarelo
A5: O TCE/RS não se responsabiliza pelo uso incorreto desta planilha.
A6: O orçamento deve ser realizado por responsável técnico habilitado e é
A7: de responsabilidade do seu autor.
A9: Composição do BDI - Benefícios e Despesas Indiretas do Aterro Sanitário
D11: Referência estudo TCE
D12: 1° Quartil | E12: Médio | F12: 3° Quartil
A13: Administração Central | B13: AC | C13: 0.02 | D13: 0.0297 | E13: 0.0508 | F13: 0.0627
A14: Seguros/Riscos/Garantias | B14: SRG | C14: 0.0086 | D14: =0.3%+0.56% -> 0.0086 | E14: =0.48%+0.85% -> 0.0133 | F14: =0.82%+0.89% -> 0.0171
A15: Lucro | B15: L | C15: 0.04 | D15: 0.0778 | E15: 0.1085 | F15: 0.1355
A16: Despesas Financeiras | B16: DF | C16: =(1+E16)^(E17/252)-1 -> 0.0018928642 | D16: i | E16: 0.1
A17: Tributos - ISS | B17: T | C17: 0 | D17: DU | E17: 5
A18: Tributos - PIS/COFINS/ e CPP se houver | C18: 0.0365
A19: Fórmula para o cálculo do BDI:
A20: {[(1+AC+SRG) x (1+L) x (1+DF)] / (1-T)} -1
A21: Resultado do cálculo do BDI: | C21: =ROUND((((1+C13+C14)*(1+C15)*(1+C16))/(1-(C17+C18))-1),4) -> 0.1124 | D21: 0.2143 | E21: 0.2717 | F21: 0.3362

Sheet Ton
A1: Prefeitura Municipal de Mormaço
A2: Tolenadas de lixo coletados em Mormaço
A3: Período: Estimativa 2022
A5: Previsão Toneladas coletadas e enviadas ao centro de triagem | F5: Valores R$ | G5: Valores R$
A6: Ordem | B6: População 2022 | C6: KG/dia/habit | D6: Ton/Mês | E6: Triagem 5% | F6: 108.51 | H6: Ton/Aterro
A7: 1 | B7: 2748 | C7: 0.4 | D7: =B7*C7*30/1000 -> 32.976 | E7: =D7*0.05 -> 1.6488 | H7: =D7-E7 -> 31.3272
A9: Total geral toneladas ano | D9: =D7*12 -> 395.712 | E9: =E7*12 -> 19.7856 | H9: =H7*12 -> 375.9264

Sheet Horários
A1: Prefeitura Municipal de Mormaço
A2: Planilha com os horários dos funcionários coleta de lixo orgânica e seletiva
A3: Periodicidade: Terça, quarta, quinta e sábado
A4: Nr. Func. | B4: Cargo | C4: Dias | D4: Entrada | E4: Saída | F4: Total Horas
A5: 2 | B5: Coletor Org. e Sel. | C5: Terça, quinta e sábado | D5: 0.29166667 | E5: 0.4375 | F5: 0.14583333
A6: 1 | B6: Motorista Org. e Sel. | C6: Terça, quinta e sábado | D6: 0.29166667 | E6: 0.45833333 | F6: 0.16666667
A7: 2 | B7: Coletor Org. e Sel. Interior | C7: Quarta | D7: 0.29166667 | E7: 0.4375 | F7: 0.14583333
A8: 1 | B8: Motorista Org. e Sel. Inter. | C8: Quarta | D8: 0.29166667 | E8: 0.45833333 | F8: 0.16666667
A9: 1 | B9: Motorista Triag. At. San. | C9: Quinta | D9: 0.60416667 | E9: 0.6875 | F9: 0.083333333
A11: Cargo: Coletor de lixo orgânico e seletivo
A12: Total de horas por coletor | F12: 3.5
A13: Total de dias por semana | F13: 4
A14: Total de horas por semana | F14: =F12*F13 -> 14
A15: Dias úteis semana | F15: 6
A16: Total de dias com (DSR) Descanso Semanal Remunerado | F16: 7
A17: Total de horas/dia com (DSR) | F17: =F14/F15 -> 2.3333333
A18: Total de dias no mês (30 dias) | F18: 30
A19: Total geral de horas mês com (DSR) | F19: =F17*F18 -> 70
A20: Total geral de horas base mês com (DSR) | F20: 220
A21: Fator de utilização | F21: =F19/F20 -> 0.31818182
A23: Cargo: Motorista de lixo orgânico e seletivo
A24: Total de horas por motorista | F24: 4.5
A25: Total de dias por semana | F25: 4
A26: Total de horas por semana | F26: =F24*F25 -> 18
A27: Dias úteis semana | F27: 6
A28: Total de dias com (DSR) Descanso Semanal Remunerado | F28: 7
A29: Total de horas/dia com (DSR) | F29: =F26/F27 -> 3
A30: Total de dias no mês (30 dias) | F30: 30
A31: Total geral de horas mês com (DSR) | F31: =F29*F30 -> 90
A32: Total geral de horas base mês com (DSR) | F32: 220
A33: Fator de utilização | F33: =F31/F32 -> 0.40909091

Sheet Roteiros
A1: Prefeitura Municipal de Mormaço
A2: Rotas de Coleta de Lixo Orgânico e Seletivo
A3: Rota 1 - Coleta de Resíduos Domiciliares - Orgânicos e Seletivos | G3: Total dos percursos Orgânico e Seletivo
A4: Locais de coleta: Área urbana da cidade + Posse Godoy | G4: Dias da semana | H4: Nu. Coleta Semanal | J4: Distância da Rota + C. Triagem | K4: Und.
A5: Trecho | B5: Cor Linha | C5: Ponto a Ponto | D5: Distância | E5: Unid
A6: Trecho 01 | C6: 1 - 2 | D6: 10558.54 | E6: m | G6: Rota 1: Terça, quinta e sábado | H6: 3 | I6: x | J6: =D27 -> 49.65559 | K6: km
A7: Trecho 02 | C7: 2 - 3 | D7: 2600.02 | E7: m
A8: Trecho 03 | C8: 3 - 4 | D8: 1202.78 | E8: m
A9: Trecho 04 | C9: 4 - 5 | D9: 1552.11 | E9: m | G9: Total Semanal | J9: =(H6*J6)+(H7*J7) -> 148.96677 | K9: Km
A10: Trecho 05 | C10: 5 - 6 | D10: 2133.66 | E10: m | G10: Total Mensal | J10: =((J9/7)*30) -> 638.42901 | K10: Km
A11: Trecho 06 | C11: 6 - 7 | D11: 1607.51 | E11: m
A12: Trecho 07 | C12: 7 - 8 | D12: 9610.74 | E12: m | G12: Total dos percursos Interior
A13: Trecho 08 | C13: 8 - 9 | D13: 1035.65 | E13: m | G13: Dias da semana | H13: Nu. Coleta Semanal | J13: Distância da Rota + Triagem | K13: Und.
A14: Trecho 09 | C14: 9 - 10 | D14: 1885.22 | E14: m
A15: Trecho 10 | C15: 10 - 11 | D15: 1464.01 | E15: m | G15: Rota 3: Quarta | H15: 1 | I15: x | J15: =D46 -> 116.47781 | K15: km
A16: Trecho 11 | C16: 11 - 12 | D16: 1315.06 | E16: m
A17: Trecho 12 | C17: 12 - 13 | D17: 1272.83 | E17: m | G17: Total Semanal | J17: =J15*H15 -> 116.47781 | K17: Km
A18: Trecho 13 | C18: 13 - 14 | D18: 1035.4 | E18: m | G18: Total Mensal | J18: =J17/7*30 -> 499.19061 | K18: Km
A19: Trecho 14 | C19: 14 - 15 | D19: 1014.7 | E19: m
A20: Trecho 15 | C20: 15 - Fim | D20: 1367.36 | E20: m | G20: Rota do Centro Triagem até o Aterro Sanitário - Todas às quinta-feiras
A21: Distância total da Rota: | D21: =SUM(D6:D20)/1000 -> 39.65559 | E21: km | G21: Distância de Ida | J21: 37.6 | K21: km
A22: Trecho de Trasporte | G22: Distância de Volta | J22: 37.6 | K22: km
A23: Centro de triagem - Início da rota | D23: 5 | E23: km | G23: Distância Total | J23: =J21+J22 -> 75.2 | K23: Km
A24: Final da rota - Centro de triagem | D24: 5 | E24: km
A25: Distância total sem coleta: | D25: =SUM(D23:D24) -> 10 | E25: km | G25: Distância Total Mensal | J25: =J23/7*30 -> 322.28571 | K25: Km
A27: Distância total do percurso : | D27: =D21+D25 -> 49.65559 | E27: km | G27: Distância Total Mensal todas as rotas | J27: =J10+J18+J25 -> 1459.9053 | K27: Km
A29: Rota 2 - Coleta de Resíduos Domiciliares - Seletivos Interior
A30: Locais de coleta: Interior da cidade
A31: Trecho | B31: Cor Linha | C31: Ponto a Ponto | D31: Distância | E31: Unid
A32: Trecho 01 | C32: 1 - 2 | D32: 14300.61 | E32: m
A33: Trecho 02 | C33: 2 - 3 | D33: 16184.4 | E33: m
A34: Trecho 03 | C34: 3 - 4 | D34: 12420.07 | E34: m
A35: Trecho 04 | C35: 4 - 5 | D35: 13603 | E35: m
A36: Trecho 05 | C36: 5 - 6 | D36: 11593.37 | E36: m
A37: Trecho 06 | C37: 6 - 7 | D37: 13148.6 | E37: m
A38: Trecho 07 | C38: 7 - 8 | D38: 14694.28 | E38: m
A39: Trecho 08 | C39: 8 - Fim | D39: 7533.48 | E39: m
A40: Distância total da Rota: | D40: =SUM(D32:D39)/1000 -> 103.47781 | E40: km
A41: Trecho de Trasporte
A42: Centro de triagem - Início da rota | D42: 5 | E42: km
...

Sheet 6. Depreciação
A1: 5. Depreciação Referencial TCE/RS (%)
A2: Idade do veículo (ano) | B2: Depreciação Média
A3: 1 | B3: 33.63
A4: 2 | B4: 43.13
A5: 3 | B5: 48.68
A6: 4 | B6: 52.62
A7: 5 | B7: 55.68
A8: 6 | B8: 58.18
A9: 7 | B9: 60.29
A10: 8 | B10: 62.12
A11: 9 | B11: 63.73
A12: 10 | B12: 65.18
A13: 11 | B13: 66.48
A14: 12 | B14: 67.67
... A17: 15 | B17: 70.73

Sheet 7.Remuneração de capital
A1: 6. Remuneração de Capital
A3: Fórmula de cálculo da remuneração de capital:
A12: Jm = remuneração de capital mensal
A13: i = taxa de juros do mercado (sugere-se adotar a taxa SELIC)
A14: Im = investimento médio
A15: V0 = valor inicial do bem
A16: Vr = valor residual do bem
A17: n = vida útil do bem em anos

Sheet 8. Dimensionamento
A1: Orientações para preenchimento:
A2: 1. Esta planilha é somente um modelo de cálculo expedito e deve ser ajustada conforme cada caso concreto.
A3: 2. Dimensionar separadamente setores atendidos por veículos de capacidade de carga diferentes.
A4: 3. Preencher somente células em amarelo
A6: O TCE/RS não se responsabiliza pelo uso incorreto desta planilha.
A7: O orçamento deve ser realizado por responsável técnico habilitado e é de
A8: responsabilidade do seu autor.
A10: 7. Dimensionamento da frota
A12: Indicador | B12: Unid | C12: Valor
A13: População (H) | B13: hab | C13: 2748
A14: Geração per capita (G) | B14: Kg/hab.dia | C14: 0.4
A15: Geração total diária (Qd) | B15: ton/dia | C15: =C13*C14/1000 -> 1.0992
A16: Geração Mensal | B16: ton | C16: =(C15*30) -> 32.976
A17: Número de dias de coleta por semana (Dc) | B17: dia | C17: 4
A18: Quantitativo diário de coleta (Qc) | B18: ton/dia | C18: =IFERROR(C15*7/C17,0) -> 1.9236
A19: Densidade RSU compactado | B19: Kg/m³ | C19: 500
A20: Tipo de Veículo (1 = toco, 2 = truck) | C20: 1
A21: Capacidade do Compactador | B21: m³ | C21: 12
A22: Capacidade nominal de carga (Cc) | B22: ton | C22: 5.5
A23: Número de Cargas por dia (Nc) | C23: =C18/C22 -> 0.34974545
A24: Número total de percursos de coleta por veículo, por dia (Np) | C24: 1
A25: Número de veículos da Frota (F) | C25: =IFERROR(C23/C24,0) -> 0.34974545
A27: Obs:
A28: > Informar a população do município a ser atendida
A29: > Caso o município possua informações de pesagem, ajustar com o valor da geração média per capita
A30: realizada nos últimos 12 meses
A31: > Informe o número de dias de coleta por semana
A32: > Informar 1 para caminhão toco; Informar 2 para caminhão truck
A33: > Informar a capacidade do compactador em m³
A34: > Informar o número de percursos de coleta (cargas) que cada caminhão realiza por dia, considerando
A35: todos os turnos de trabalho.
