Workbook

Sheet Memória de Cálculo
A1: MEMÓRIA DE CÁLCULO DE PREÇO DE REFERÊNCIA Ref. DFD 48/2025
A2: 1. DESCRIÇÃO DO OBJETO: CONTRATAÇÃO DE EMPRESA PARA FORNECIMENTO DE CESTAS BASICAS PARA ATENDER AO PROGRAMA BENEFICIO EVENTUAL NO MUNICÍPIO DE RODEIO BONITO – RS.
A3: 2. DESCRIÇÃO DAS FONTES DE PREÇO: Pesquisa direta com fornecedores, mediante solicitação formal de cotação/orçamento, por meio de ofício, e-mail ou aplicativo WhatsApp, escolhidos de acordo com o ramo do objeto; Dados de pesquisa publicada em mídia especializada e de sítios eletrônicos especializados ou de domínio amplo com a data e a hora de acesso; Cfe. Art. 6°, Decreto Nº 4.354/23.
C4: Dos fornecedores diretos consultados: FLÁVIO DA CRUZ E CIA LTDA - 08.476.329/0001-35 - APRESENTOU PROPOSTA COMERCIAL - CNAE COMPÁTIVEL - FONTE APTA MARANGON PADARIA E SERVIÇOS LTDA - 11.065.870/0001-65 - APRESENTOU PROPOSTA COMERCIAL - CNAE COMPÁTIVEL - FONTE APTA MERCADO GODOIS - 10.671.651/0001-67 - APRESENTOU PROPOSTA COMERCIAL - CNAE COMPÁTIVEL - FONTE APTA
C5: Dos sitios eletrônicos consultados: LOJA CONSUL OFICIAL - https://www.consul.com.br/ - CONSULTA 10/03/25 16H - LOJA ESPECIALIZADA - FONTE APTA LOJA MIDEA OFICIAL - https://www.midea.com.br/ - CONSULTA 10/03/25 16H - LOJA ESPECIALIZADA - FONTE APTA LOJA PHILCO OFICIAL - https://www.philco.com.br/ - CONSULTA 10/03/25 16H - LOJA ESPECIALIZADA - FONTE APTA GAZIN INDÚSTRIA E COMÉRCIO DE MÓVEIS E ELETRODOMÉSTICOS LTDA - https://www.gazin.com.br/ - https://www.philco.com.br/ - CONSULTA 10/03/25 16H - LOJA ESPECIALIZADA - FONTE APTA BCM REFRIGERAÇÃO - https://bcminterservice.com.br/ - CONSULTA 11/03/25 08H - LOJA ESPECIALIZADA - FONTE APTA
A6: 3. PARCELAMENTO: ITEM
C7: Justificativa de parcelamento: Tratando-se de aquisição de pequeno vulto, onde não se vislumbra vantagens significativas com economia de escala, a contratação por lote único proporciona maior eficiência às aquisições pretendidas e ainda racionaliza a gestão e a fiscalização destas, considerando que o parcelamento pode representar um ônus excessivo de gestão, devido à eventual multiplicidade de contratações e ao emprego de recursos humanos e dificuldades de controle.
A8: 4. VALOR TOTAL DE REFERÊNCIA DO OBJETO: | D8: =SUM(N:N) -> 50550 | G8: (cinquenta mil quinhentos e cinquenta reais)
A9: 5. MEMÓRIA DE CÁLCULO: As escolhas do método estatístico para composição do preço de referência deu-se conforme DECRETO MUNICIPAL Nº 4.354/23 e MANUAL DE ORIENTAÇÃO - Pesquisa de preços - 4ª Edição | Lei 14.133/2021, do STJ - Superior Tribunal de Justiça: Cesta de preços com CV > 25, considera-se Heterogêneo, método estatístico de cálculo Mediana; Cesta de preços com CV ≤ 25, considera-se Homogêneo, método estatístico de cálculo Média. Segue tabela de composição de preços de referências:
A10: L O T E | B10: I T E M | C10: DESCRIÇÃO | D10: UND | E10: QTD | F10: FONTE 1 | G10: FONTE 2 | H10: FONTE 3 | I10: FONTE 4 | J10: FONTE 5 | K10: COEFICIENTE DE VARIAÇÃO | L10: CLASSIFICAÇÃO DA CESTA | M10: VALOR UNIT. | N10: VALOR TOTAL
F11: FLÁVIO DA CRUZ E CIA LTDA | G11: MARANGON PADARIA E SERVIÇOS LTDA | H11: MERCADO GODOIS
M12: =IF(L13="HOMOGÊNEO","MÉDIA","MEDIANA") -> MÉDIA
B13: 1 | C13: 01 pc de farinha de trigo tipo 01-05 kg (Marca de referência, similar a: Flor de pão); 01 pc de arroz branco tipo 1-5kg (Marca de referência, similar a: Tio val); 01 pc de açúcar branco -5kg (Marca de referência, similar a: Gasparin); 02 pc de feijão preto tipo 1-01kg (Marca de referência, similar a: Flor de pão); 01 dz ovos de granja (Marca de referência, similar a: Cantu); 01 pc de biscoito sortido 500g (Marca de referência, similar a: Girassol); 02 unid. de óleo de soja 900ml (Marca de referência, similar a: Soya); 01 pc de sal refinado 01kg (Marca de referência, similar a: Sol sul); 02 pc de farinha de milho tipo 01-01kg (Marca de referência, similar a: Do vale); | D13: UND | E13: 300 | F13: 151.1 | G13: 151.5 | H13: 202.9 | K13: =_xlfn.STDEV.S(F13:J13)/AVERAGE(F13:J13) -> 0.1768068 | L13: =IF((_xlfn.STDEV.S(F13:J13)/AVERAGE(F13:J13))<0.25,"HOMOGÊNEO","HETEROGÊNEO") -> HOMOGÊNEO | M13: =ROUND((IF(M12="MÉDIA",AVERAGE(F13:J13),MEDIAN(F13:J13))),2) -> 168.5 | N13: =M13*E13 -> 50550
A14: 6. APONTAMENTOS GERAIS:
A15: 1 | C15: Nos preços de referências obtidos com base em consulta em sitios eletrônicos estão inclusos custos de frete para entrega no CEP 98360-000 - RODEIO BONITO/RS calculados automaticamente pelas próprias plataformas consultadas, selecionado a opção mais barata ou grátis, se houver.
A25: John Lenon Triz
A26: Setor de Licitações
A27: Responsável pela elaboração da Memória de Cálculo

Sheet Seleção
A1: SELEÇÃO DAS PROPOSTAS Contratações Diretas Ref. DFD 48/2025
A2: 1. DESCRIÇÃO DO OBJETO: CONTRATAÇÃO DE EMPRESA PARA FORNECIMENTO DE CESTAS BASICAS PARA ATENDER AO PROGRAMA BENEFICIO EVENTUAL NO MUNICÍPIO DE RODEIO BONITO – RS.
A3: 2. FORMA DE SELEÇÃO: Nos termos do inciso IV, § 3º, § 5º, do Art. 5º, e § 3º, do Art. 7º, do Decreto Municipal Nº 4.354/23, durante a aferição dos valores estimados da contratação, concomitantemente a escolha do contratado com proposta economicamente mais vantajosa.
A4: 3. CRITÉRIO DE SELEÇÃO: Menor preço por item.
A5: 4. FONTES CONSIDERADAS:
B6: Dos fornecedores diretos consultados: FLÁVIO DA CRUZ E CIA LTDA - 08.476.329/0001-35 - APRESENTOU PROPOSTA COMERCIAL - CNAE COMPÁTIVEL - FONTE APTA MARANGON PADARIA E SERVIÇOS LTDA - 11.065.870/0001-65 - APRESENTOU PROPOSTA COMERCIAL - CNAE COMPÁTIVEL - FONTE APTA MERCADO GODOIS - 10.671.651/0001-67 - APRESENTOU PROPOSTA COMERCIAL - CNAE COMPÁTIVEL - FONTE APTA
A7: 5. LISTA DE ITENS VENCIDOS POR FORNECEDOR
A8: LOTE | B8: ITEM | C8: DESCRIÇÃO | D8: UND | E8: QTD | F8: VALOR UNIT. | G8: VALOR TOTAL | H8: VENCEDOR
A9: 1 | B9: ='Memória de Cálculo'!B13 -> 1 | C9: 01 pc de farinha de trigo tipo 01-05 kg (Marca de referência, similar a: Flor de pão); 01 pc de arroz branco tipo 1-5kg (Marca de referência, similar a: Tio val); 01 pc de açúcar branco -5kg (Marca de referência, similar a: Gasparin); 02 pc de feijão preto tipo 1-01kg (Marca de referência, similar a: Flor de pão); 01 dz ovos de granja (Marca de referência, similar a: Cantu); 01 pc de biscoito sortido 500g (Marca de referência, similar a: Girassol); 02 unid. de óleo de soja 900ml (Marca de referência, similar a: Soya); 01 pc de sal refinado 01kg (Marca de referência, similar a: Sol sul); 02 pc de farinha de milho tipo 01-01kg (Marca de referência, similar a: Do vale); | D9: ='Memória de Cálculo'!D13 -> UND | E9: ='Memória de Cálculo'!E13 -> 300 | F9: ='Memória de Cálculo'!F13 -> 151.1 | G9: =E9*F9 -> 45330 | H9: FLÁVIO DA CRUZ E CIA LTDA
A10: TOTAL: | G10: =SUM(G9:G9) -> 45330
A11: 6. VALOR TOTAL DA CONTRATAÇÃO: R$ 45.330,00 (quarenta e cinco mil trezentos e trinta reais)
A19: John Lenon Triz
A20: Setor de Licitações
A21: Responsável pela elaboração da Memória de Cálculo

Sheet Seleção (2)
A1: SELEÇÃO DAS PROPOSTAS Contratações Diretas Ref. DFD 32/2025
A2: 1. DESCRIÇÃO DO OBJETO: Aquisição de eletrodomésticos e eletrônicos para atendimento de diversos espaços da administração pública do Município de Rodeio Bonito/RS.
A3: 2. FORMA DE SELEÇÃO: Nos termos do inciso IV, § 3º, § 5º, do Art. 5º, e § 3º, do Art. 7º, do Decreto Municipal Nº 4.354/23, durante a aferição dos valores estimados da contratação, concomitantemente a escolha do contratado com proposta economicamente mais vantajosa.
A4: 3. CRITÉRIO DE SELEÇÃO: Menor preço por item.
A5: 4. FONTES CONSIDERADAS:
B6: Dos fornecedores diretos consultados: LOJAS QUERO-QUERO S.A. - FILIAL - 96.418.264/0406-02 - APRESENTOU PROPOSTA COMERCIAL - CNAE COMPÁTIVEL - FONTE APTA LOJAS BECKER LTDA. - FILIAL - 04.415.928/0138-42 - APRESENTOU PROPOSTA COMERCIAL - CNAE COMPÁTIVEL - FONTE APTA ARI PAULO PASQUETTI - 89.034.151/0001-74 - APRESENTOU PROPOSTA COMERCIAL - CNAE COMPÁTIVEL - FONTE APTA BETTI INDUSTRIA E COMERCIO DE EQUIPAMENTOS DE REFRIGERACAO LTDA - FILIAL - 94.299.468/0002-53 - APRESENTOU PROPOSTA COMERCIAL - CNAE COMPÁTIVEL - FONTE APTA JURACI MATIELO ZANCHIN - 07.378.341/0001-44 - APRESENTOU PROPOSTA COMERCIAL - CNAE COMPÁTIVEL - FONTE APTA ELISEU CAZAROTTO - 27.975.957/0001-00 - APRESENTOU PROPOSTA COMERCIAL - CNAE COMPÁTIVEL - FONTE APTA
A7: 5. LISTA DE ITENS VENCIDOS POR FORNECEDOR
A8: LOTE | B8: ITEM | C8: DESCRIÇÃO | D8: UND | E8: QTD | F8: VALOR UNIT. | G8: VALOR TOTAL | H8: VENCEDOR
B9: ='Memória de Cálculo'!B13 -> 1 | C9: ='Memória de Cálculo'!C13 -> 01 pc de farinha de trigo tipo 01-05 kg (Marca de referência, similar a: Flor de pão); 01 pc de arroz branco tipo 1-5kg (Marca de referência, similar a: Tio val); 01 pc de açúcar branco -5kg (Marca de referência, similar a: Gasparin); 02 pc de feijão preto tipo 1-01kg (Marca de referência, similar a: Flor de pão); 01 dz ovos de granja (Marca de referência, similar a: Cantu); 01 pc de biscoito sortido 500g (Marca de referência, similar a: Girassol); 02 unid. de óleo de soja 900ml (Marca de referência, similar a: Soya); 01 pc de sal refinado 01kg (Marca de referência, similar a: Sol sul); 02 pc de farinha de milho tipo 01-01kg (Marca de referência, similar a: Do vale); | D9: ='Memória de Cálculo'!D13 -> UND | E9: ='Memória de Cálculo'!E13 -> 300 | F9: ='Memória de Cálculo'!F13 -> 151.1 | G9: =E9*F9 -> 45330 | H9: LOJAS QUERO-QUERO S.A. - FILIAL
B10: ='Memória de Cálculo'!#REF! -> #REF! | C10: ='Memória de Cálculo'!#REF! -> #REF! | D10: ='Memória de Cálculo'!#REF! -> #REF! | E10: ='Memória de Cálculo'!#REF! -> #REF! | F10: ='Memória de Cálculo'!#REF! -> #REF! | G10: =E10*F10 -> #REF! | H10: LOJAS QUERO-QUERO S.A. - FILIAL
B11: ='Memória de Cálculo'!#REF! -> #REF! | C11: ='Memória de Cálculo'!#REF! -> #REF! | D11: ='Memória de Cálculo'!#REF! -> #REF! | E11: ='Memória de Cálculo'!#REF! -> #REF! | F11: ='Memória de Cálculo'!#REF! -> #REF! | G11: =E11*F11 -> #REF! | H11: LOJAS BECKER LTDA. - FILIAL
B12: ='Memória de Cálculo'!#REF! -> #REF! | C12: ='Memória de Cálculo'!#REF! -> #REF! | D12: ='Memória de Cálculo'!#REF! -> #REF! | E12: ='Memória de Cálculo'!#REF! -> #REF! | F12: 658 | G12: =E12*F12 -> #REF! | H12: LOJAS BECKER LTDA. - FILIAL
B13: ='Memória de Cálculo'!#REF! -> #REF! | C13: ='Memória de Cálculo'!#REF! -> #REF! | D13: ='Memória de Cálculo'!#REF! -> #REF! | E13: ='Memória de Cálculo'!#REF! -> #REF! | F13: 1451.5 | G13: =E13*F13 -> #REF! | H13: LOJAS BECKER LTDA. - FILIAL
B14: ='Memória de Cálculo'!#REF! -> #REF! | C14: ='Memória de Cálculo'!#REF! -> #REF! | D14: ='Memória de Cálculo'!#REF! -> #REF! | E14: ='Memória de Cálculo'!#REF! -> #REF! | F14: 1730 | G14: =E14*F14 -> #REF! | H14: LOJAS QUERO-QUERO S.A. - FILIAL
B15: ='Memória de Cálculo'!#REF! -> #REF! | C15: ='Memória de Cálculo'!#REF! -> #REF! | D15: ='Memória de Cálculo'!#REF! -> #REF! | E15: ='Memória de Cálculo'!#REF! -> #REF! | F15: 3700 | G15: =E15*F15 -> #REF! | H15: BETTI INDUSTRIA E COMERCIO DE EQUIPAMENTOS DE REFRIGERACAO LTDA
B16: ='Memória de Cálculo'!#REF! -> #REF! | C16: ='Memória de Cálculo'!#REF! -> #REF! | D16: ='Memória de Cálculo'!#REF! -> #REF! | E16: ='Memória de Cálculo'!#REF! -> #REF! | F16: 1200 | G16: =E16*F16 -> #REF! | H16: ELISEU CAZAROTTO
B17: ='Memória de Cálculo'!#REF! -> #REF! | C17: ='Memória de Cálculo'!#REF! -> #REF! | D17: ='Memória de Cálculo'!#REF! -> #REF! | E17: ='Memória de Cálculo'!#REF! -> #REF! | F17: 1599 | G17: =E17*F17 -> #REF! | H17: LOJAS BECKER LTDA. - FILIAL
A18: TOTAL: | G18: =SUM(G9:G17) -> #REF!
A19: 6. VALOR TOTAL DA CONTRATAÇÃO: R$ 38.947,50 (trinta e oito mil novecentos e quarenta e sete reais e cinquenta centavos)
A25: Diogo Righi
A26: Setor de Licitações
A27: Responsável pela elaboração da Memória de Cálculo
