Workbook

Sheet ORÇAMENTO SINAPI 2026
C2: PREFEITURA MUNICIPAL DE SALTO DO JACUÍ
C4: OBRA | D4: PAVIMENTAÇÃO TRECHO RUA GENERAL CÂMARA E RUA E. PUMPMAKER | G4: BDI | H4: NÃO DESONERADO | J4: 0.2097 | K4: 46082
C5: ÁREA | D5: 2.816 M² | F5: RESTANTE 1200 M² | G5: BDI | H5: MATERIAIS | J5: 0.1402
C6: CR | D6: 851027/2017
C7: PLANILHA ORÇAMENTÁRIA - NÃO DESONERADA
I8: CUSTO | J8: BDI | K8: CUSTO | L8: VALOR
C9: ITEM | D9: FONTE | E9: CÓDIGO | F9: DESCRIÇÃO | G9: UNID | H9: QUANT | I9: UNIT | J9: % | K9: UNIT+BDI | L9: TOTAL
F10: PAVIMENTAÇÃO DE RUAS E DRENAGEM | L10: =L11+L14+L39+L62 -> 106910.24
C11: 1.0 | F11: SERVIÇOS INICIAIS | L11: =L12+L13 -> 14152.54
C12: 1.1 | D12: SINAPI-I | E12: 103689 | F12: FORNECIMENTO E INSTALAÇÃO DE PLACA DE OBRA COM CHAPA GALVANIZADA E ESTRUTURA DE MADEIRA. AF_03/2022_PS (3,00X2,00M) | G12: M2 | H12: 6 | I12: 495.57 | J12: =$J$5 -> 0.1402 | K12: =I12+ (I12*$J$12) -> 565.04891 | L12: =ROUND(ROUND(H12,2)*ROUND(K12,2),2) -> 3390.3
C13: 1.2 | D13: SINAPI | E13: 90777 | F13: ENGENHEIRO CIVIL DE OBRA JUNIOR COM ENCARGOS COMPLEMENTARES | G13: H | H13: 64 | I13: 139.01 | J13: =$J$4 -> 0.2097 | K13: =I13+ (I13*$J$13) -> 168.1604 | L13: =ROUND(ROUND(H13,2)*ROUND(K13,2),2) -> 10762.24
C14: 2.0 | F14: PAVIMENTAÇÃO GENERAL CÂMARA - 1.200 M² | L14: =L15+L23+L28++L31+L34 -> 76312.89
C15: 2.1 | F15: DRENAGEM | L15: =L16+L17+L18+L19+L20+L21+L22 -> 7993.93
C16: 2.1.1 | D16: SINAPI | E16: 90105 | F16: ESCAVAÇÃO MECANIZADA DE VALA COM PROFUNDIDADE ATÉ 1,5 M (MÉDIA ENTRE MONTANTE E JUSANTE/UMA COMPOSIÇÃO POR TRECHO) COM RETROESCAVADEIRA (CAPACIDADE DA CAÇAMBA DA RETRO: 0,26 M3 / POTÊNCIA: 88 HP), LARGURA MENOR QUE 0,8 M, EM SOLO DE 1A CATEGORIA, LOCAISCOM BAIXO NÍVEL DE INTERFERÊNCIA. AF_02/2021 | G16: M3 | I16: 5.87 | J16: =$J$4 -> 0.2097 | K16: =(J16*I16)+I16 -> 7.100939 | L16: =ROUND(K16*H16,2) -> 0
C17: 2.1.2 | D17: SINAPI | E17: 93378 | F17: REATERRO MECANIZADO DE VALA COM RETROESCAVADEIRA (CAPACIDADE DA CAÇAMBA DA RETRO: 0,26 M³ / POTÊNCIA: 88 HP), LARGURA ATÉ 0,8 M, PROFUNDIDADE ATÉ 1,5 M, COM SOLO DE 1ª CATEGORIA EM LOCAIS COM BAIXO NÍVEL DE INTERFERÊNCIA. AF_04/2016 | G17: M3 | I17: 17.7 | J17: =$J$4 -> 0.2097 | K17: =(J17*I17)+I17 -> 21.41169 | L17: =K17*H17 -> 0
C18: 2.1.3 | D18: SINAPI-I | E18: 37451 | F18: TUBO DE CONCRETO SIMPLES PARA AGUAS PLUVIAIS, CLASSE PS1, COM ENCAIXE MACHO E FEMEA, DIAMETRO NOMINAL DE 400 MM | G18: M | I18: 38.44 | J18: =$J$5 -> 0.1402 | K18: =(J18*I18)+I18 -> 43.829288 | L18: =K18*H18 -> 0
C19: 2.1.4 | D19: SINAPI | E19: 92809 | F19: ASSENTAMENTO DE TUBO DE CONCRETO PARA REDES COLETORAS DE ÁGUAS PLUVIAIS, DIÂMETRO DE 400 MM, JUNTA RÍGIDA, INSTALADO EM LOCAL COM BAIXO NÍVEL DE INTERFERÊNCIAS (NÃO INCLUI FORNECIMENTO). AF_12/2015 | G19: M | I19: 38.67 | J19: =J13 -> 0.2097 | K19: =(J19*I19)+I19 -> 46.779099 | L19: =K19*H19 -> 0
C20: 2.1.5 | D20: SINAPI-I | E20: 37453 | F20: TUBO DE CONCRETO SIMPLES PARA AGUAS PLUVIAIS, CLASSE PS1, COM ENCAIXE MACHO E FEMEA, DIAMETRO NOMINAL DE 600 MM | G20: M | H20: 30.44 | I20: 112.82 | J20: =$J$5 -> 0.1402 | K20: =(J20*I20)+I20 -> 128.63736 | L20: =ROUND(ROUND(H20,2)*ROUND(K20,2),2) -> 3915.8
C21: 2.1.6 | D21: SINAPI | E21: 92811 | F21: ASSENTAMENTO DE TUBO DE CONCRETO PARA REDES COLETORAS DE ÁGUAS PLUVIAIS, DIÂMETRO DE 600 MM, JUNTA RÍGIDA, INSTALADO EM LOCAL COM BAIXO NÍVEL DE INTERFERÊNCIAS (NÃO INCLUI FORNECIMENTO). AF_12/2015 | G21: M | H21: 58.06 | I21: 58.06 | J21: =$J$13 -> 0.2097 | K21: =(J21*I21)+I21 -> 70.235182 | L21: =ROUND(ROUND(H21,2)*ROUND(K21,2),2) -> 4078.13
C22: 2.1.7 | D22: SINAPI | E22: 97949 | F22: CAIXA PARA BOCA DE LOBO SIMPLES RETANGULAR, EM ALVENARIA COM TIJOLOS CERÂMICOS MACIÇOS, DIMENSÕES INTERNAS: 0,6X1X1,2 M. AF_12/2020 | G22: UNID | I22: 1237.6 | J22: =$J$13 -> 0.2097 | K22: =(J22*I22)+I22 -> 1497.1247 | L22: =K22*H22 -> 0
C23: 2.2 | F23: PAVIMENTAÇÃO | L23: =L24+L27+L25+L26 -> 49589.25
C24: 2.1 | D24: SINAPI | E24: 94273 | F24: ASSENTAMENTO DE GUIA (MEIO-FIO) EM TRECHO RETO, CONFECCIONADA EM CONCRETO PRÉ-FABRICADO, DIMENSÕES 100X15X13X30 CM (COMPRIMENTO X BASE INFERIOR X BASE SUPERIOR X ALTURA). AF_01/2024 | G24: M | H24: 36 | I24: 53.01 | J24: =$J$13 -> 0.2097 | K24: =(J24*I24)+I24 -> 64.126197 | L24: =ROUND(ROUND(H24,2)*ROUND(K24,2),2) -> 2308.68
D25: SINAPI | E25: 94273 | F25: ASSENTAMENTO DE GUIA (MEIO-FIO) EM TRECHO RETO, CONFECCIONADA EM CONCRETO PRÉ-FABRICADO, DIMENSÕES 100X15X13X30 CM (COMPRIMENTO X BASE INFERIOR X BASE SUPERIOR X ALTURA) | G25: M | H25: 15 | I25: 53.01 | J25: =$J$13 -> 0.2097 | K25: =(J25*I25)+I25 -> 64.126197 | L25: =ROUND(ROUND(H25,2)*ROUND(K25,2),2) -> 961.95
D26: SINAPI | E26: 101850 | F26: REASSENTAMENTO DE PARALELEPÍPEDOS, REJUNTAMENTO COM PÓ DE PEDRA, COM REAPROVEITAMENTO DOS PARALELEPÍPEDOS - INCLUSO RETIRADA E COLOCAÇÃO DO MATERIAL. AF_12/2020 | G26: M² | H26: 83.8 | I26: 63.09 | J26: =$J$13 -> 0.2097 | K26: =(J26*I26)+I26 -> 76.319973 | L26: =ROUND(ROUND(H26,2)*ROUND(K26,2),2) -> 6395.62
C27: 2.2.2 | D27: SINAPI | E27: 101167 | F27: PAVIMENTO EM PARALELEPÍPEDO SOBRE COLCHÃO PÓ DE BRITA REJUNTADO AS VALAS COM ARGAMASSA DE CIMENTO E AREIA | G27: M2 | H27: 260 | I27: 126.93 | J27: =$J$13 -> 0.2097 | K27: =(J27*I27)+I27 -> 153.54722 | L27: =ROUND(ROUND(H27,2)*ROUND(K27,2),2) -> 39923
C28: 2.3 | F28: PASSEIOS | L28: =L29+L30 -> 15724.55
C29: 2.3.1 | D29: SINAPI | E29: 96385 | F29: EXECUÇÃO E COMPACTAÇÃO DE ATERRO COM SOLO PREDOMINANTEMENTE ARGILOSO - EXCLUSIVE SOLO, ESCAVAÇÃO, CARGA E TRANSPORTE. AF_11/2019 | G29: M3 | H29: ='memoria de cálculo'!F29 -> 379.09 | I29: 13.53 | J29: =J27 -> 0.2097 | K29: =(J29*I29)+I29 -> 16.367241 | L29: =ROUND(ROUND(H29,2)*ROUND(K29,2),2) -> 6205.7
C30: 2.3.2 | D30: SINAPI | E30: 94991 | F30: EXECUÇÃO DE PASSEIO (CALÇADA) OU PISO DE CONCRETO COM CONCRETO MOLDADO IN LOCO, USINADO, ACABAMENTO CONVENCIONAL, NÃO ARMADO. AF_07/2016 | G30: M3 | H30: ='memoria de cálculo'!F30 -> 10.08 | I30: 780.63 | J30: =J13 -> 0.2097 | K30: =(J30*I30)+I30 -> 944.32811 | L30: =ROUND(ROUND(H30,2)*ROUND(K30,2),2) -> 9518.85
C31: 2.4 | F31: RAMPAS | L31: =L32+L33 -> 896.64
C32: 2.4.1 | D32: SINAPI | E32: 94991 | F32: EXECUÇÃO DE PASSEIO (CALÇADA) OU PISO DE CONCRETO COM CONCRETO MOLDADO IN LOCO, USINADO, ACABAMENTO CONVENCIONAL, NÃO ARMADO. AF_07/2016 | G32: M3 | H32: ='memoria de cálculo'!F32 -> 0.61 | I32: 780.63 | J32: =J4 -> 0.2097 | K32: =(J32*I32)+I32 -> 944.32811 | L32: =ROUND(ROUND(H32,2)*ROUND(K32,2),2) -> 576.04
C33: 2.4.2 | D33: SINAPI-I | E33: 36178 | F33: PISO PODOTATIL DE CONCRETO - DIRECIONAL E ALERTA, *40 X 40 X 2,5* CM | G33: UN | H33: ='memoria de cálculo'!F33 -> 20 | I33: 14.06 | J33: =J5 -> 0.1402 | K33: =(J33*I33)+I33 -> 16.031212 | L33: =ROUND(ROUND(H33,2)*ROUND(K33,2),2) -> 320.6
C34: 2.5 | F34: SINALIZAÇÃO | L34: =L35+L36+L37+L38 -> 2108.52
C35: 2.5.1 | D35: SICRO | E35: 5213440 | F35: PLACA DE SINALIZACAO EM CHAPA DE ACO D= 0,60 M FORNECIMENTO E IMPLANTAÇÃO | G35: UN | H35: 3 | I35: 282.71 | J35: =J5 -> 0.1402 | K35: =(J35*I35)+I35 -> 322.34594 | L35: =ROUND(ROUND(H35,2)*ROUND(K35,2),2) -> 967.05
C36: 2.5.2 | D36: SICRO | E36: 5312416 | F36: PLACA DE ACO ESMALTADA PARA IDENTIFICACAO DE RUA, *45 CM X 20* CM | G36: UN | H36: ='memoria de cálculo'!F36 -> 2 | I36: 132 | J36: =J5 -> 0.1402 | K36: =(J36*I36)+I36 -> 150.5064 | L36: =ROUND(ROUND(H36,2)*ROUND(K36,2),2) -> 301.02
C37: 2.5.3 | D37: SINAPI-I | E37: 7696 | F37: TUBO ACO GALVANIZADO COM COSTURA, CLASSE MEDIA, DN 2", E = *3,65* MM, PESO *5,10* KG/M (NBR 5580) | G37: M | H37: ='memoria de cálculo'!F37 -> 9 | I37: 75 | J37: =J5 -> 0.1402 | K37: =(J37*I37)+I37 -> 85.515 | L37: =ROUND(ROUND(H37,2)*ROUND(K37,2),2) -> 769.68
C38: 2.5.4 | D38: SINAPI | E38: 94975 | F38: CONCRETO FCK = 15MPA, TRAÇO 1:3,4:3,5 (EM MASSA SECA DE CIMENTO/ AREIA MÉDIA/ BRITA 1) - PREPARO MANUAL. AF_05/2021 | G38: M3 | H38: ='memoria de cálculo'!F38 -> 0.11 | I38: 531.8 | J38: =J4 -> 0.2097 | K38: =(J38*I38)+I38 -> 643.31846 | L38: =ROUND(ROUND(H38,2)*ROUND(K38,2),2) -> 70.77
C39: 3.0 | F39: PAVIMENTAÇÃO GENERAL CÂMARA - 880 M² | L39: =L40+L48+L51+L54+L57 -> 16444.81
C40: 3.1 | F40: DRENAGEM | L40: =L41+L42+L43+L44+L45+L46+L47 -> 4580.84
C41: 3.1.1 | D41: SINAPI | E41: 90105 | F41: ESCAVAÇÃO MECANIZADA DE VALA COM PROFUNDIDADE ATÉ 1,5 M (MÉDIA ENTRE MONTANTE E JUSANTE/UMA COMPOSIÇÃO POR TRECHO) COM RETROESCAVADEIRA (CAPACIDADE DA CAÇAMBA DA RETRO: 0,26 M3 / POTÊNCIA: 88 HP), LARGURA MENOR QUE 0,8 M, EM SOLO DE 1A CATEGORIA, LOCAISCOM BAIXO NÍVEL DE INTERFERÊNCIA. AF_02/2021 | G41: M3 | J41: =J4 -> 0.2097 | K41: =(J41*I41)+I41 -> 0 | L41: =K41*H41 -> 0
C42: 3.1.2 | D42: SINAPI | E42: 93378 | F42: REATERRO MECANIZADO DE VALA COM RETROESCAVADEIRA (CAPACIDADE DA CAÇAMBA DA RETRO: 0,26 M³ / POTÊNCIA: 88 HP), LARGURA ATÉ 0,8 M, PROFUNDIDADE ATÉ 1,5 M, COM SOLO DE 1ª CATEGORIA EM LOCAIS COM BAIXO NÍVEL DE INTERFERÊNCIA. AF_04/2016 | G42: M3 | J42: =J4 -> 0.2097 | K42: =(J42*I42)+I42 -> 0 | L42: =K42*H42 -> 0
...

Sheet ORÇAMENTO SINAPI 2021
C2: PREFEITURA MUNICIPAL DE SALTO DO JACUÍ
C4: OBRA | D4: PAVIMENTAÇÃO TRECHO RUA GENERAL CÂMARA E RUA E. PUMPMAKER | G4: BDI | H4: NÃO DESONERADO | J4: 0.2097 | K4: SINAPI 12/2021
C5: ÁREA | D5: 2.816 M² | G5: BDI | H5: MATERIAIS | J5: 0.1402
C6: CR | D6: 851027/2017
C7: PLANILHA ORÇAMENTÁRIA - NÃO DESONERADA
I8: CUSTO | J8: BDI | K8: CUSTO | L8: VALOR
C9: ITEM | D9: FONTE | E9: CÓDIGO | F9: DESCRIÇÃO | G9: UNID | H9: QUANT | I9: UNIT | J9: % | K9: UNIT+BDI | L9: TOTAL
F10: PAVIMENTAÇÃO DE RUAS E DRENAGEM | L10: =L11+L14+L37+L60 -> 55160.849
C11: 1.0 | F11: SERVIÇOS INICIAIS | L11: =L12+L13 -> 5990.9315
C12: 1.1 | D12: SINAPI-I | E12: 4813 | F12: PLACA DE OBRA (PARA CONSTRUCAO CIVIL) EM CHAPA GALVANIZADA *N. 22*, ADESIVADA, DE *2,0 X 1,125* M | G12: M2 | H12: ='memoria de cálculo'!F11 -> 2.88 | I12: 174.03 | J12: =$J$5 -> 0.1402 | K12: =I12+ (I12*$J$12) -> 198.42901 | L12: =K12*H12 -> 571.47554
C13: 1.2 | D13: SINAPI | E13: 90777 | F13: ENGENHEIRO CIVIL DE OBRA JUNIOR COM ENCARGOS COMPLEMENTARES | G13: H | H13: 64 | I13: 70 | J13: =$J$4 -> 0.2097 | K13: =I13+ (I13*$J$13) -> 84.679 | L13: =K13*H13 -> 5419.456
C14: 2.0 | F14: PAVIMENTAÇÃO GENERAL CÂMARA - 1.200 M² | L14: =L15+L23+L26++L29+L32 -> 38729.275
C15: 2.1 | F15: DRENAGEM | L15: =L16+L17+L18+L19+L20+L21+L22 -> 3453.7728
C16: 2.1.1 | D16: SINAPI | E16: 90105 | F16: ESCAVAÇÃO MECANIZADA DE VALA COM PROFUNDIDADE ATÉ 1,5 M (MÉDIA ENTRE MONTANTE E JUSANTE/UMA COMPOSIÇÃO POR TRECHO) COM RETROESCAVADEIRA (CAPACIDADE DA CAÇAMBA DA RETRO: 0,26 M3 / POTÊNCIA: 88 HP), LARGURA MENOR QUE 0,8 M, EM SOLO DE 1A CATEGORIA, LOCAISCOM BAIXO NÍVEL DE INTERFERÊNCIA. AF_02/2021 | G16: M3 | I16: 5.87 | J16: =$J$4 -> 0.2097 | K16: =(J16*I16)+I16 -> 7.100939 | L16: =K16*H16 -> 0
C17: 2.1.2 | D17: SINAPI | E17: 93378 | F17: REATERRO MECANIZADO DE VALA COM RETROESCAVADEIRA (CAPACIDADE DA CAÇAMBA DA RETRO: 0,26 M³ / POTÊNCIA: 88 HP), LARGURA ATÉ 0,8 M, PROFUNDIDADE ATÉ 1,5 M, COM SOLO DE 1ª CATEGORIA EM LOCAIS COM BAIXO NÍVEL DE INTERFERÊNCIA. AF_04/2016 | G17: M3 | I17: 17.7 | J17: =$J$4 -> 0.2097 | K17: =(J17*I17)+I17 -> 21.41169 | L17: =K17*H17 -> 0
C18: 2.1.3 | D18: SINAPI-I | E18: 37451 | F18: TUBO DE CONCRETO SIMPLES PARA AGUAS PLUVIAIS, CLASSE PS1, COM ENCAIXE MACHO E FEMEA, DIAMETRO NOMINAL DE 400 MM | G18: M | I18: 38.44 | J18: =$J$5 -> 0.1402 | K18: =(J18*I18)+I18 -> 43.829288 | L18: =K18*H18 -> 0
C19: 2.1.4 | D19: SINAPI | E19: 92809 | F19: ASSENTAMENTO DE TUBO DE CONCRETO PARA REDES COLETORAS DE ÁGUAS PLUVIAIS, DIÂMETRO DE 400 MM, JUNTA RÍGIDA, INSTALADO EM LOCAL COM BAIXO NÍVEL DE INTERFERÊNCIAS (NÃO INCLUI FORNECIMENTO). AF_12/2015 | G19: M | I19: 38.67 | J19: =J13 -> 0.2097 | K19: =(J19*I19)+I19 -> 46.779099 | L19: =K19*H19 -> 0
C20: 2.1.5 | D20: SINAPI-I | E20: 37453 | F20: TUBO DE CONCRETO SIMPLES PARA AGUAS PLUVIAIS, CLASSE PS1, COM ENCAIXE MACHO E FEMEA, DIAMETRO NOMINAL DE 600 MM | G20: M | H20: 30.44 | I20: 67.6 | J20: =$J$5 -> 0.1402 | K20: =(J20*I20)+I20 -> 77.07752 | L20: =K20*H20 -> 2346.2397
C21: 2.1.6 | D21: SINAPI | E21: 92811 | F21: ASSENTAMENTO DE TUBO DE CONCRETO PARA REDES COLETORAS DE ÁGUAS PLUVIAIS, DIÂMETRO DE 600 MM, JUNTA RÍGIDA, INSTALADO EM LOCAL COM BAIXO NÍVEL DE INTERFERÊNCIAS (NÃO INCLUI FORNECIMENTO). AF_12/2015 | G21: M | H21: 16.44 | I21: 55.69 | J21: =$J$13 -> 0.2097 | K21: =(J21*I21)+I21 -> 67.368193 | L21: =K21*H21 -> 1107.5331
C22: 2.1.7 | D22: SINAPI | E22: 97949 | F22: CAIXA PARA BOCA DE LOBO SIMPLES RETANGULAR, EM ALVENARIA COM TIJOLOS CERÂMICOS MACIÇOS, DIMENSÕES INTERNAS: 0,6X1X1,2 M. AF_12/2020 | G22: UNID | I22: 1237.6 | J22: =$J$13 -> 0.2097 | K22: =(J22*I22)+I22 -> 1497.1247 | L22: =K22*H22 -> 0
C23: 2.2 | F23: PAVIMENTAÇÃO | L23: =L24+L25 -> 24222.597
C24: 2.1 | D24: SINAPI | E24: 94273 | F24: ASSENTAMENTO DE GUIA (MEIO-FIO) EM TRECHO RETO, CONFECCIONADA EM CONCRETO PRÉ-FABRICADO, DIMENSÕES 100X15X13X30 CM (COMPRIMENTO X BASE INFERIOR X BASE SUPERIOR X ALTURA), PARA VIAS URBANAS (USO VIÁRIO). AF_06/2016 | G24: M | H24: 36 | I24: 38.74 | J24: =$J$13 -> 0.2097 | K24: =(J24*I24)+I24 -> 46.863778 | L24: =K24*H24 -> 1687.096
C25: 2.2.2 | D25: Composição | E25: 01 | F25: PAVIMENTO EM PARALELEPÍPEDO SOBRE COLCHÃO PÓ DE BRITA REJUNTADO AS VALAS COM ARGAMASSA DE CIMENTO E AREIA | G25: M2 | H25: 260 | I25: 71.65 | J25: =$J$13 -> 0.2097 | K25: =(J25*I25)+I25 -> 86.675005 | L25: =K25*H25 -> 22535.501
C26: 2.3 | F26: PASSEIOS | L26: =L27+L28 -> 9421.9141
C27: 2.3.1 | D27: SINAPI | E27: 96385 | F27: EXECUÇÃO E COMPACTAÇÃO DE ATERRO COM SOLO PREDOMINANTEMENTE ARGILOSO - EXCLUSIVE SOLO, ESCAVAÇÃO, CARGA E TRANSPORTE. AF_11/2019 | G27: M3 | H27: ='memoria de cálculo'!F29 -> 379.09 | I27: 7.65 | J27: =J25 -> 0.2097 | K27: =(J27*I27)+I27 -> 9.254205 | L27: =K27*H27 -> 3508.1766
C28: 2.3.2 | D28: SINAPI | E28: 94991 | F28: EXECUÇÃO DE PASSEIO (CALÇADA) OU PISO DE CONCRETO COM CONCRETO MOLDADO IN LOCO, USINADO, ACABAMENTO CONVENCIONAL, NÃO ARMADO. AF_07/2016 | G28: M3 | H28: ='memoria de cálculo'!F30 -> 10.08 | I28: 484.98 | J28: =J13 -> 0.2097 | K28: =(J28*I28)+I28 -> 586.68031 | L28: =K28*H28 -> 5913.7375
C29: 2.4 | F29: RAMPAS | L29: =L30+L31 -> 549.88467
C30: 2.4.1 | D30: SINAPI | E30: 94991 | F30: EXECUÇÃO DE PASSEIO (CALÇADA) OU PISO DE CONCRETO COM CONCRETO MOLDADO IN LOCO, USINADO, ACABAMENTO CONVENCIONAL, NÃO ARMADO. AF_07/2016 | G30: M3 | H30: ='memoria de cálculo'!F32 -> 0.61 | I30: 484.98 | J30: =J4 -> 0.2097 | K30: =(J30*I30)+I30 -> 586.68031 | L30: =K30*H30 -> 357.87499
C31: 2.4.2 | D31: SINAPI-I | E31: 36178 | F31: PISO PODOTATIL DE CONCRETO - DIRECIONAL E ALERTA, *40 X 40 X 2,5* CM | G31: UN | H31: ='memoria de cálculo'!F33 -> 20 | I31: 8.42 | J31: =J5 -> 0.1402 | K31: =(J31*I31)+I31 -> 9.600484 | L31: =K31*H31 -> 192.00968
C32: 2.5 | F32: SINALIZAÇÃO | L32: =L33+L34+L35+L36 -> 1081.1062
C33: 2.5.1 | D33: SINAPI-I | E33: 34723 | F33: PLACA DE SINALIZACAO EM CHAPA DE ACO NUM 16 COM PINTURA REFLETIVA | G33: M2 | H33: ='memoria de cálculo'!F35 -> 0.25 | I33: 402.01 | J33: =J5 -> 0.1402 | K33: =(J33*I33)+I33 -> 458.3718 | L33: =K33*H33 -> 114.59295
C34: 2.5.2 | D34: SINAPI-I | E34: 13521 | F34: PLACA DE ACO ESMALTADA PARA IDENTIFICACAO DE RUA, *45 CM X 20* CM | G34: UN | H34: ='memoria de cálculo'!F36 -> 2 | I34: 57.39 | J34: =J5 -> 0.1402 | K34: =(J34*I34)+I34 -> 65.436078 | L34: =K34*H34 -> 130.87216
C35: 2.5.3 | D35: SINAPI-I | E35: 7696 | F35: TUBO ACO GALVANIZADO COM COSTURA, CLASSE MEDIA, DN 2", E = *3,65* MM, PESO *5,10* KG/M (NBR 5580) | G35: M | H35: ='memoria de cálculo'!F37 -> 9 | I35: 77.35 | J35: =J5 -> 0.1402 | K35: =(J35*I35)+I35 -> 88.19447 | L35: =K35*H35 -> 793.75023
C36: 2.5.4 | D36: SINAPI | E36: 94975 | F36: CONCRETO FCK = 15MPA, TRAÇO 1:3,4:3,5 (EM MASSA SECA DE CIMENTO/ AREIA MÉDIA/ BRITA 1) - PREPARO MANUAL. AF_05/2021 | G36: M3 | H36: ='memoria de cálculo'!F38 -> 0.11 | I36: 314.81 | J36: =J4 -> 0.2097 | K36: =(J36*I36)+I36 -> 380.82566 | L36: =K36*H36 -> 41.890822
C37: 3.0 | F37: PAVIMENTAÇÃO GENERAL CÂMARA - 880 M² | L37: =L38+L46+L49+L52+L55 -> 10440.642
C38: 3.1 | F38: DRENAGEM | L38: =L39+L40+L41+L42+L43+L44+L45 -> 2994.2494
C39: 3.1.1 | D39: SINAPI | E39: 90105 | F39: ESCAVAÇÃO MECANIZADA DE VALA COM PROFUNDIDADE ATÉ 1,5 M (MÉDIA ENTRE MONTANTE E JUSANTE/UMA COMPOSIÇÃO POR TRECHO) COM RETROESCAVADEIRA (CAPACIDADE DA CAÇAMBA DA RETRO: 0,26 M3 / POTÊNCIA: 88 HP), LARGURA MENOR QUE 0,8 M, EM SOLO DE 1A CATEGORIA, LOCAISCOM BAIXO NÍVEL DE INTERFERÊNCIA. AF_02/2021 | G39: M3 | J39: =J4 -> 0.2097 | K39: =(J39*I39)+I39 -> 0 | L39: =K39*H39 -> 0
C40: 3.1.2 | D40: SINAPI | E40: 93378 | F40: REATERRO MECANIZADO DE VALA COM RETROESCAVADEIRA (CAPACIDADE DA CAÇAMBA DA RETRO: 0,26 M³ / POTÊNCIA: 88 HP), LARGURA ATÉ 0,8 M, PROFUNDIDADE ATÉ 1,5 M, COM SOLO DE 1ª CATEGORIA EM LOCAIS COM BAIXO NÍVEL DE INTERFERÊNCIA. AF_04/2016 | G40: M3 | J40: =J4 -> 0.2097 | K40: =(J40*I40)+I40 -> 0 | L40: =K40*H40 -> 0
C41: 3.1.3 | D41: SINAPI-I | E41: 37451 | F41: TUBO DE CONCRETO SIMPLES PARA AGUAS PLUVIAIS, CLASSE PS1, COM ENCAIXE MACHO E FEMEA, DIAMETRO NOMINAL DE 400 MM | G41: M | J41: =J5 -> 0.1402 | K41: =(J41*I41)+I41 -> 0 | L41: =K41*H41 -> 0
C42: 3.1.4 | D42: SINAPI | E42: 92809 | F42: ASSENTAMENTO DE TUBO DE CONCRETO PARA REDES COLETORAS DE ÁGUAS PLUVIAIS, DIÂMETRO DE 400 MM, JUNTA RÍGIDA, INSTALADO EM LOCAL COM BAIXO NÍVEL DE INTERFERÊNCIAS (NÃO INCLUI FORNECIMENTO). AF_12/2015 | G42: M | J42: =J4 -> 0.2097 | K42: =(J42*I42)+I42 -> 0 | L42: =K42*H42 -> 0
...

Sheet BOLETIM DE MEDIÇÃO 8
C2: PREFEITURA MUNICIPAL DE SALTO DO JACUÍ
C4: OBRA | D4: PAVIMENTAÇÃO TRECHO RUA GENERAL CÂMARA E RUA E. PUMPMAKER | G4: BDI | H4: NÃO DESONERADO | J4: 0.2097 | K4: SINAPI 12/2026
C5: ÁREA | D5: 2.816 M² | G5: BDI | H5: MATERIAIS | J5: 0.1402
C6: CR | D6: 851027/2017
C7: PLANILHA ORÇAMENTÁRIA - NÃO DESONERADA
I8: CUSTO | J8: BDI | K8: CUSTO | L8: VALOR
C9: ITEM | D9: FONTE | E9: CÓDIGO | F9: DESCRIÇÃO | G9: UNID | H9: QUANT | I9: UNIT | J9: % | K9: UNIT+BDI | L9: TOTAL
F10: PAVIMENTAÇÃO DE RUAS E DRENAGEM | L10: =L11+L14+L37+L60 -> 55160.849
C11: 1.0 | F11: SERVIÇOS INICIAIS | L11: =L12+L13 -> 5990.9315
C12: 1.1 | D12: SINAPI-I | E12: 4813 | F12: PLACA DE OBRA (PARA CONSTRUCAO CIVIL) EM CHAPA GALVANIZADA *N. 22*, ADESIVADA, DE *2,0 X 1,125* M | G12: M2 | H12: ='memoria de cálculo'!F11 -> 2.88 | I12: 174.03 | J12: =$J$5 -> 0.1402 | K12: =I12+ (I12*$J$12) -> 198.42901 | L12: =K12*H12 -> 571.47554
C13: 1.2 | D13: SINAPI | E13: 90777 | F13: ENGENHEIRO CIVIL DE OBRA JUNIOR COM ENCARGOS COMPLEMENTARES | G13: H | H13: 64 | I13: 70 | J13: =$J$4 -> 0.2097 | K13: =I13+ (I13*$J$13) -> 84.679 | L13: =K13*H13 -> 5419.456
C14: 2.0 | F14: PAVIMENTAÇÃO GENERAL CÂMARA - 1.200 M² | L14: =L15+L23+L26++L29+L32 -> 38729.275
C15: 2.1 | F15: DRENAGEM | L15: =L16+L17+L18+L19+L20+L21+L22 -> 3453.7728
C16: 2.1.1 | D16: SINAPI | E16: 90105 | F16: ESCAVAÇÃO MECANIZADA DE VALA COM PROFUNDIDADE ATÉ 1,5 M (MÉDIA ENTRE MONTANTE E JUSANTE/UMA COMPOSIÇÃO POR TRECHO) COM RETROESCAVADEIRA (CAPACIDADE DA CAÇAMBA DA RETRO: 0,26 M3 / POTÊNCIA: 88 HP), LARGURA MENOR QUE 0,8 M, EM SOLO DE 1A CATEGORIA, LOCAISCOM BAIXO NÍVEL DE INTERFERÊNCIA. AF_02/2021 | G16: M3 | I16: 5.87 | J16: =$J$4 -> 0.2097 | K16: =(J16*I16)+I16 -> 7.100939 | L16: =K16*H16 -> 0
C17: 2.1.2 | D17: SINAPI | E17: 93378 | F17: REATERRO MECANIZADO DE VALA COM RETROESCAVADEIRA (CAPACIDADE DA CAÇAMBA DA RETRO: 0,26 M³ / POTÊNCIA: 88 HP), LARGURA ATÉ 0,8 M, PROFUNDIDADE ATÉ 1,5 M, COM SOLO DE 1ª CATEGORIA EM LOCAIS COM BAIXO NÍVEL DE INTERFERÊNCIA. AF_04/2016 | G17: M3 | I17: 17.7 | J17: =$J$4 -> 0.2097 | K17: =(J17*I17)+I17 -> 21.41169 | L17: =K17*H17 -> 0
C18: 2.1.3 | D18: SINAPI-I | E18: 37451 | F18: TUBO DE CONCRETO SIMPLES PARA AGUAS PLUVIAIS, CLASSE PS1, COM ENCAIXE MACHO E FEMEA, DIAMETRO NOMINAL DE 400 MM | G18: M | I18: 38.44 | J18: =$J$5 -> 0.1402 | K18: =(J18*I18)+I18 -> 43.829288 | L18: =K18*H18 -> 0
C19: 2.1.4 | D19: SINAPI | E19: 92809 | F19: ASSENTAMENTO DE TUBO DE CONCRETO PARA REDES COLETORAS DE ÁGUAS PLUVIAIS, DIÂMETRO DE 400 MM, JUNTA RÍGIDA, INSTALADO EM LOCAL COM BAIXO NÍVEL DE INTERFERÊNCIAS (NÃO INCLUI FORNECIMENTO). AF_12/2015 | G19: M | I19: 38.67 | J19: =J13 -> 0.2097 | K19: =(J19*I19)+I19 -> 46.779099 | L19: =K19*H19 -> 0
C20: 2.1.5 | D20: SINAPI-I | E20: 37453 | F20: TUBO DE CONCRETO SIMPLES PARA AGUAS PLUVIAIS, CLASSE PS1, COM ENCAIXE MACHO E FEMEA, DIAMETRO NOMINAL DE 600 MM | G20: M | H20: 30.44 | I20: 67.6 | J20: =$J$5 -> 0.1402 | K20: =(J20*I20)+I20 -> 77.07752 | L20: =K20*H20 -> 2346.2397
C21: 2.1.6 | D21: SINAPI | E21: 92811 | F21: ASSENTAMENTO DE TUBO DE CONCRETO PARA REDES COLETORAS DE ÁGUAS PLUVIAIS, DIÂMETRO DE 600 MM, JUNTA RÍGIDA, INSTALADO EM LOCAL COM BAIXO NÍVEL DE INTERFERÊNCIAS (NÃO INCLUI FORNECIMENTO). AF_12/2015 | G21: M | H21: 16.44 | I21: 55.69 | J21: =$J$13 -> 0.2097 | K21: =(J21*I21)+I21 -> 67.368193 | L21: =K21*H21 -> 1107.5331
C22: 2.1.7 | D22: SINAPI | E22: 97949 | F22: CAIXA PARA BOCA DE LOBO SIMPLES RETANGULAR, EM ALVENARIA COM TIJOLOS CERÂMICOS MACIÇOS, DIMENSÕES INTERNAS: 0,6X1X1,2 M. AF_12/2020 | G22: UNID | I22: 1237.6 | J22: =$J$13 -> 0.2097 | K22: =(J22*I22)+I22 -> 1497.1247 | L22: =K22*H22 -> 0
C23: 2.2 | F23: PAVIMENTAÇÃO | L23: =L24+L25 -> 24222.597
C24: 2.1 | D24: SINAPI | E24: 94273 | F24: ASSENTAMENTO DE GUIA (MEIO-FIO) EM TRECHO RETO, CONFECCIONADA EM CONCRETO PRÉ-FABRICADO, DIMENSÕES 100X15X13X30 CM (COMPRIMENTO X BASE INFERIOR X BASE SUPERIOR X ALTURA), PARA VIAS URBANAS (USO VIÁRIO). AF_06/2016 | G24: M | H24: 36 | I24: 38.74 | J24: =$J$13 -> 0.2097 | K24: =(J24*I24)+I24 -> 46.863778 | L24: =K24*H24 -> 1687.096
C25: 2.2.2 | D25: Composição | E25: 01 | F25: PAVIMENTO EM PARALELEPÍPEDO SOBRE COLCHÃO PÓ DE BRITA REJUNTADO AS VALAS COM ARGAMASSA DE CIMENTO E AREIA | G25: M2 | H25: 260 | I25: 71.65 | J25: =$J$13 -> 0.2097 | K25: =(J25*I25)+I25 -> 86.675005 | L25: =K25*H25 -> 22535.501
C26: 2.3 | F26: PASSEIOS | L26: =L27+L28 -> 9421.9141
C27: 2.3.1 | D27: SINAPI | E27: 96385 | F27: EXECUÇÃO E COMPACTAÇÃO DE ATERRO COM SOLO PREDOMINANTEMENTE ARGILOSO - EXCLUSIVE SOLO, ESCAVAÇÃO, CARGA E TRANSPORTE. AF_11/2019 | G27: M3 | H27: ='memoria de cálculo'!F29 -> 379.09 | I27: 7.65 | J27: =J25 -> 0.2097 | K27: =(J27*I27)+I27 -> 9.254205 | L27: =K27*H27 -> 3508.1766
C28: 2.3.2 | D28: SINAPI | E28: 94991 | F28: EXECUÇÃO DE PASSEIO (CALÇADA) OU PISO DE CONCRETO COM CONCRETO MOLDADO IN LOCO, USINADO, ACABAMENTO CONVENCIONAL, NÃO ARMADO. AF_07/2016 | G28: M3 | H28: ='memoria de cálculo'!F30 -> 10.08 | I28: 484.98 | J28: =J13 -> 0.2097 | K28: =(J28*I28)+I28 -> 586.68031 | L28: =K28*H28 -> 5913.7375
C29: 2.4 | F29: RAMPAS | L29: =L30+L31 -> 549.88467
C30: 2.4.1 | D30: SINAPI | E30: 94991 | F30: EXECUÇÃO DE PASSEIO (CALÇADA) OU PISO DE CONCRETO COM CONCRETO MOLDADO IN LOCO, USINADO, ACABAMENTO CONVENCIONAL, NÃO ARMADO. AF_07/2016 | G30: M3 | H30: ='memoria de cálculo'!F32 -> 0.61 | I30: 484.98 | J30: =J4 -> 0.2097 | K30: =(J30*I30)+I30 -> 586.68031 | L30: =K30*H30 -> 357.87499
C31: 2.4.2 | D31: SINAPI-I | E31: 36178 | F31: PISO PODOTATIL DE CONCRETO - DIRECIONAL E ALERTA, *40 X 40 X 2,5* CM | G31: UN | H31: ='memoria de cálculo'!F33 -> 20 | I31: 8.42 | J31: =J5 -> 0.1402 | K31: =(J31*I31)+I31 -> 9.600484 | L31: =K31*H31 -> 192.00968
C32: 2.5 | F32: SINALIZAÇÃO | L32: =L33+L34+L35+L36 -> 1081.1062
C33: 2.5.1 | D33: SINAPI-I | E33: 34723 | F33: PLACA DE SINALIZACAO EM CHAPA DE ACO NUM 16 COM PINTURA REFLETIVA | G33: M2 | H33: ='memoria de cálculo'!F35 -> 0.25 | I33: 402.01 | J33: =J5 -> 0.1402 | K33: =(J33*I33)+I33 -> 458.3718 | L33: =K33*H33 -> 114.59295
C34: 2.5.2 | D34: SINAPI-I | E34: 13521 | F34: PLACA DE ACO ESMALTADA PARA IDENTIFICACAO DE RUA, *45 CM X 20* CM | G34: UN | H34: ='memoria de cálculo'!F36 -> 2 | I34: 57.39 | J34: =J5 -> 0.1402 | K34: =(J34*I34)+I34 -> 65.436078 | L34: =K34*H34 -> 130.87216
C35: 2.5.3 | D35: SINAPI-I | E35: 7696 | F35: TUBO ACO GALVANIZADO COM COSTURA, CLASSE MEDIA, DN 2", E = *3,65* MM, PESO *5,10* KG/M (NBR 5580) | G35: M | H35: ='memoria de cálculo'!F37 -> 9 | I35: 77.35 | J35: =J5 -> 0.1402 | K35: =(J35*I35)+I35 -> 88.19447 | L35: =K35*H35 -> 793.75023
C36: 2.5.4 | D36: SINAPI | E36: 94975 | F36: CONCRETO FCK = 15MPA, TRAÇO 1:3,4:3,5 (EM MASSA SECA DE CIMENTO/ AREIA MÉDIA/ BRITA 1) - PREPARO MANUAL. AF_05/2021 | G36: M3 | H36: ='memoria de cálculo'!F38 -> 0.11 | I36: 314.81 | J36: =J4 -> 0.2097 | K36: =(J36*I36)+I36 -> 380.82566 | L36: =K36*H36 -> 41.890822
C37: 3.0 | F37: PAVIMENTAÇÃO GENERAL CÂMARA - 880 M² | L37: =L38+L46+L49+L52+L55 -> 10440.642
C38: 3.1 | F38: DRENAGEM | L38: =L39+L40+L41+L42+L43+L44+L45 -> 2994.2494
C39: 3.1.1 | D39: SINAPI | E39: 90105 | F39: ESCAVAÇÃO MECANIZADA DE VALA COM PROFUNDIDADE ATÉ 1,5 M (MÉDIA ENTRE MONTANTE E JUSANTE/UMA COMPOSIÇÃO POR TRECHO) COM RETROESCAVADEIRA (CAPACIDADE DA CAÇAMBA DA RETRO: 0,26 M3 / POTÊNCIA: 88 HP), LARGURA MENOR QUE 0,8 M, EM SOLO DE 1A CATEGORIA, LOCAISCOM BAIXO NÍVEL DE INTERFERÊNCIA. AF_02/2021 | G39: M3 | J39: =J4 -> 0.2097 | K39: =(J39*I39)+I39 -> 0 | L39: =K39*H39 -> 0
C40: 3.1.2 | D40: SINAPI | E40: 93378 | F40: REATERRO MECANIZADO DE VALA COM RETROESCAVADEIRA (CAPACIDADE DA CAÇAMBA DA RETRO: 0,26 M³ / POTÊNCIA: 88 HP), LARGURA ATÉ 0,8 M, PROFUNDIDADE ATÉ 1,5 M, COM SOLO DE 1ª CATEGORIA EM LOCAIS COM BAIXO NÍVEL DE INTERFERÊNCIA. AF_04/2016 | G40: M3 | J40: =J4 -> 0.2097 | K40: =(J40*I40)+I40 -> 0 | L40: =K40*H40 -> 0
C41: 3.1.3 | D41: SINAPI-I | E41: 37451 | F41: TUBO DE CONCRETO SIMPLES PARA AGUAS PLUVIAIS, CLASSE PS1, COM ENCAIXE MACHO E FEMEA, DIAMETRO NOMINAL DE 400 MM | G41: M | J41: =J5 -> 0.1402 | K41: =(J41*I41)+I41 -> 0 | L41: =K41*H41 -> 0
C42: 3.1.4 | D42: SINAPI | E42: 92809 | F42: ASSENTAMENTO DE TUBO DE CONCRETO PARA REDES COLETORAS DE ÁGUAS PLUVIAIS, DIÂMETRO DE 400 MM, JUNTA RÍGIDA, INSTALADO EM LOCAL COM BAIXO NÍVEL DE INTERFERÊNCIAS (NÃO INCLUI FORNECIMENTO). AF_12/2015 | G42: M | J42: =J4 -> 0.2097 | K42: =(J42*I42)+I42 -> 0 | L42: =K42*H42 -> 0
...

Sheet BOLETIM DE MEDIÇÃO 7
C2: PREFEITURA MUNICIPAL DE SALTO DO JACUÍ | M2: BM 07 | P2: ACUMULADO TOTAL
C4: OBRA | D4: PAVIMENTAÇÃO TRECHO RUA GENERAL CÂMARA E RUA E. PUMPMAKER | G4: BDI | H4: NÃO DESONERADO | J4: 0.2097 | K4: SINAPI 12/2021 | M4: PERÍODO DE MEDIÇÃO: 05/12/2024 À 11/02/2025 | P4: =P15+P38+P61 -> 298861.96
C5: ÁREA | D5: 2.816 M² | G5: BDI | H5: MATERIAIS | J5: 0.1402
C6: CR | D6: 851027/2017
C7: PLANILHA ORÇAMENTÁRIA - NÃO DESONERADA
I8: CUSTO | J8: BDI | K8: CUSTO | L8: VALOR
C9: ITEM | D9: FONTE | E9: CÓDIGO | F9: DESCRIÇÃO | G9: UNID | H9: QUANT | I9: UNIT | J9: % | K9: UNIT+BDI | L9: TOTAL | M9: QUANTIDADE | N9: TOTAL | O9: % | P9: QUANTIDADE | Q9: TOTAL | R9: %
F10: PAVIMENTAÇÃO DE RUAS E DRENAGEM | L10: =L11+L14+L37+L60 -> 402703.7
C11: 1.0 | F11: SERVIÇOS INICIAIS | L11: =L12+L13 -> 5990.9315
C12: 1.1 | D12: SINAPI-I | E12: 4813 | F12: PLACA DE OBRA (PARA CONSTRUCAO CIVIL) EM CHAPA GALVANIZADA *N. 22*, ADESIVADA, DE *2,0 X 1,125* M | G12: M2 | H12: ='memoria de cálculo'!F11 -> 2.88 | I12: 174.03 | J12: =$J$5 -> 0.1402 | K12: =I12+ (I12*$J$12) -> 198.42901 | L12: =K12*H12 -> 571.47554
C13: 1.2 | D13: SINAPI | E13: 90777 | F13: ENGENHEIRO CIVIL DE OBRA JUNIOR COM ENCARGOS COMPLEMENTARES | G13: H | H13: ='memoria de cálculo'!F12 -> 64 | I13: 70 | J13: =$J$4 -> 0.2097 | K13: =I13+ (I13*$J$13) -> 84.679 | L13: =K13*H13 -> 5419.456
C14: 2.0 | F14: PAVIMENTAÇÃO GENERAL CÂMARA - 1.200 M² | L14: =L15+L23+L26++L29+L32 -> 167813.57 | M14: MEDIDO PERÍODO | P14: ACUMULADO
C15: 2.1 | F15: DRENAGEM | L15: =L16+L17+L18+L19+L20+L21+L22 -> 42253.177 | M15: =SUM(N16:N25) -> 41604.002 | P15: =SUM(Q16:Q25) -> 80403.407
C16: 2.1.1 | D16: SINAPI | E16: 90105 | F16: ESCAVAÇÃO MECANIZADA DE VALA COM PROFUNDIDADE ATÉ 1,5 M (MÉDIA ENTRE MONTANTE E JUSANTE/UMA COMPOSIÇÃO POR TRECHO) COM RETROESCAVADEIRA (CAPACIDADE DA CAÇAMBA DA RETRO: 0,26 M3 / POTÊNCIA: 88 HP), LARGURA MENOR QUE 0,8 M, EM SOLO DE 1A CATEGORIA, LOCAISCOM BAIXO NÍVEL DE INTERFERÊNCIA. AF_02/2021 | G16: M3 | H16: ='memoria de cálculo'!F15 -> 249.63 | I16: 5.87 | J16: =$J$4 -> 0.2097 | K16: =(J16*I16)+I16 -> 7.100939 | L16: =K16*H16 -> 1772.6074 | N16: =M16*K16 -> 0 | O16: =N16/L16 -> 0 | P16: 249.63 | Q16: =P16*K16 -> 1772.6074 | R16: =Q16/L16 -> 1
C17: 2.1.2 | D17: SINAPI | E17: 93378 | F17: REATERRO MECANIZADO DE VALA COM RETROESCAVADEIRA (CAPACIDADE DA CAÇAMBA DA RETRO: 0,26 M³ / POTÊNCIA: 88 HP), LARGURA ATÉ 0,8 M, PROFUNDIDADE ATÉ 1,5 M, COM SOLO DE 1ª CATEGORIA EM LOCAIS COM BAIXO NÍVEL DE INTERFERÊNCIA. AF_04/2016 | G17: M3 | H17: ='memoria de cálculo'!F16 -> 149.6 | I17: 17.7 | J17: =$J$4 -> 0.2097 | K17: =(J17*I17)+I17 -> 21.41169 | L17: =K17*H17 -> 3203.1888 | N17: =M17*K17 -> 0 | O17: =N17/L17 -> 0 | P17: 149.6 | Q17: =P17*K17 -> 3203.1888 | R17: =Q17/L17 -> 1
C18: 2.1.3 | D18: SINAPI-I | E18: 37451 | F18: TUBO DE CONCRETO SIMPLES PARA AGUAS PLUVIAIS, CLASSE PS1, COM ENCAIXE MACHO E FEMEA, DIAMETRO NOMINAL DE 400 MM | G18: M | H18: ='memoria de cálculo'!F17 -> 39.4 | I18: 38.44 | J18: =$J$5 -> 0.1402 | K18: =(J18*I18)+I18 -> 43.829288 | L18: =K18*H18 -> 1726.8739 | N18: =M18*K18 -> 0 | O18: =N18/L18 -> 0 | P18: 39.4 | Q18: =P18*K18 -> 1726.8739 | R18: =Q18/L18 -> 1
C19: 2.1.4 | D19: SINAPI | E19: 92809 | F19: ASSENTAMENTO DE TUBO DE CONCRETO PARA REDES COLETORAS DE ÁGUAS PLUVIAIS, DIÂMETRO DE 400 MM, JUNTA RÍGIDA, INSTALADO EM LOCAL COM BAIXO NÍVEL DE INTERFERÊNCIAS (NÃO INCLUI FORNECIMENTO). AF_12/2015 | G19: M | H19: ='memoria de cálculo'!F18 -> 39.4 | I19: 38.67 | J19: =J13 -> 0.2097 | K19: =(J19*I19)+I19 -> 46.779099 | L19: =K19*H19 -> 1843.0965 | N19: =M19*K19 -> 0 | O19: =N19/L19 -> 0 | P19: 39.4 | Q19: =P19*K19 -> 1843.0965 | R19: =Q19/L19 -> 1
C20: 2.1.5 | D20: SINAPI-I | E20: 37453 | F20: TUBO DE CONCRETO SIMPLES PARA AGUAS PLUVIAIS, CLASSE PS1, COM ENCAIXE MACHO E FEMEA, DIAMETRO NOMINAL DE 600 MM | G20: M | H20: ='memoria de cálculo'!F19 -> 150.44 | I20: 67.6 | J20: =$J$5 -> 0.1402 | K20: =(J20*I20)+I20 -> 77.07752 | L20: =K20*H20 -> 11595.542 | N20: =M20*K20 -> 0 | O20: =N20/L20 -> 0 | P20: 120 | Q20: =P20*K20 -> 9249.3024 | R20: =Q20/L20 -> 0.7976602
C21: 2.1.6 | D21: SINAPI | E21: 92811 | F21: ASSENTAMENTO DE TUBO DE CONCRETO PARA REDES COLETORAS DE ÁGUAS PLUVIAIS, DIÂMETRO DE 600 MM, JUNTA RÍGIDA, INSTALADO EM LOCAL COM BAIXO NÍVEL DE INTERFERÊNCIAS (NÃO INCLUI FORNECIMENTO). AF_12/2015 | G21: M | H21: ='memoria de cálculo'!F20 -> 150.44 | I21: 55.69 | J21: =$J$13 -> 0.2097 | K21: =(J21*I21)+I21 -> 67.368193 | L21: =K21*H21 -> 10134.871 | N21: =M21*K21 -> 0 | O21: =N21/L21 -> 0 | P21: 134 | Q21: =P21*K21 -> 9027.3379 | R21: =Q21/L21 -> 0.89072055
C22: 2.1.7 | D22: SINAPI | E22: 97949 | F22: CAIXA PARA BOCA DE LOBO SIMPLES RETANGULAR, EM ALVENARIA COM TIJOLOS CERÂMICOS MACIÇOS, DIMENSÕES INTERNAS: 0,6X1X1,2 M. AF_12/2020 | G22: UNID | H22: ='memoria de cálculo'!F21 -> 8 | I22: 1237.6 | J22: =$J$13 -> 0.2097 | K22: =(J22*I22)+I22 -> 1497.1247 | L22: =K22*H22 -> 11976.998 | N22: =M22*K22 -> 0 | O22: =N22/L22 -> 0 | P22: 8 | Q22: =P22*K22 -> 11976.998 | R22: =Q22/L22 -> 1
C23: 2.2 | F23: PAVIMENTAÇÃO | L23: =L24+L25 -> 114507.49
C24: 2.1 | D24: SINAPI | E24: 94273 | F24: ASSENTAMENTO DE GUIA (MEIO-FIO) EM TRECHO RETO, CONFECCIONADA EM CONCRETO PRÉ-FABRICADO, DIMENSÕES 100X15X13X30 CM (COMPRIMENTO X BASE INFERIOR X BASE SUPERIOR X ALTURA), PARA VIAS URBANAS (USO VIÁRIO). AF_06/2016 | G24: M | H24: ='memoria de cálculo'!F23 -> 224 | I24: 38.74 | J24: =$J$13 -> 0.2097 | K24: =(J24*I24)+I24 -> 46.863778 | L24: =K24*H24 -> 10497.486 | N24: =M24*K24 -> 0 | O24: =N24/L24 -> 0
C25: 2.2.2 | D25: Composição | E25: 01 | F25: PAVIMENTO EM PARALELEPÍPEDO SOBRE COLCHÃO PÓ DE BRITA REJUNTADO AS VALAS COM ARGAMASSA DE CIMENTO E AREIA | G25: M2 | H25: 1200 | I25: 71.65 | J25: =$J$13 -> 0.2097 | K25: =(J25*I25)+I25 -> 86.675005 | L25: =K25*H25 -> 104010.01 | M25: 480 | N25: =M25*K25 -> 41604.002 | O25: =N25/L25 -> 0.4 | P25: 480 | Q25: =P25*K25 -> 41604.002 | R25: =Q25/L25 -> 0.4
C26: 2.3 | F26: PASSEIOS | L26: =L27+L28 -> 9421.9141
C27: 2.3.1 | D27: SINAPI | E27: 96385 | F27: EXECUÇÃO E COMPACTAÇÃO DE ATERRO COM SOLO PREDOMINANTEMENTE ARGILOSO - EXCLUSIVE SOLO, ESCAVAÇÃO, CARGA E TRANSPORTE. AF_11/2019 | G27: M3 | H27: ='memoria de cálculo'!F29 -> 379.09 | I27: 7.65 | J27: =J25 -> 0.2097 | K27: =(J27*I27)+I27 -> 9.254205 | L27: =K27*H27 -> 3508.1766
C28: 2.3.2 | D28: SINAPI | E28: 94991 | F28: EXECUÇÃO DE PASSEIO (CALÇADA) OU PISO DE CONCRETO COM CONCRETO MOLDADO IN LOCO, USINADO, ACABAMENTO CONVENCIONAL, NÃO ARMADO. AF_07/2016 | G28: M3 | H28: ='memoria de cálculo'!F30 -> 10.08 | I28: 484.98 | J28: =J13 -> 0.2097 | K28: =(J28*I28)+I28 -> 586.68031 | L28: =K28*H28 -> 5913.7375
C29: 2.4 | F29: RAMPAS | L29: =L30+L31 -> 549.88467
C30: 2.4.1 | D30: SINAPI | E30: 94991 | F30: EXECUÇÃO DE PASSEIO (CALÇADA) OU PISO DE CONCRETO COM CONCRETO MOLDADO IN LOCO, USINADO, ACABAMENTO CONVENCIONAL, NÃO ARMADO. AF_07/2016 | G30: M3 | H30: ='memoria de cálculo'!F32 -> 0.61 | I30: 484.98 | J30: =J4 -> 0.2097 | K30: =(J30*I30)+I30 -> 586.68031 | L30: =K30*H30 -> 357.87499
C31: 2.4.2 | D31: SINAPI-I | E31: 36178 | F31: PISO PODOTATIL DE CONCRETO - DIRECIONAL E ALERTA, *40 X 40 X 2,5* CM | G31: UN | H31: ='memoria de cálculo'!F33 -> 20 | I31: 8.42 | J31: =J5 -> 0.1402 | K31: =(J31*I31)+I31 -> 9.600484 | L31: =K31*H31 -> 192.00968
C32: 2.5 | F32: SINALIZAÇÃO | L32: =L33+L34+L35+L36 -> 1081.1062
C33: 2.5.1 | D33: SINAPI-I | E33: 34723 | F33: PLACA DE SINALIZACAO EM CHAPA DE ACO NUM 16 COM PINTURA REFLETIVA | G33: M2 | H33: ='memoria de cálculo'!F35 -> 0.25 | I33: 402.01 | J33: =J5 -> 0.1402 | K33: =(J33*I33)+I33 -> 458.3718 | L33: =K33*H33 -> 114.59295
C34: 2.5.2 | D34: SINAPI-I | E34: 13521 | F34: PLACA DE ACO ESMALTADA PARA IDENTIFICACAO DE RUA, *45 CM X 20* CM | G34: UN | H34: ='memoria de cálculo'!F36 -> 2 | I34: 57.39 | J34: =J5 -> 0.1402 | K34: =(J34*I34)+I34 -> 65.436078 | L34: =K34*H34 -> 130.87216
C35: 2.5.3 | D35: SINAPI-I | E35: 7696 | F35: TUBO ACO GALVANIZADO COM COSTURA, CLASSE MEDIA, DN 2", E = *3,65* MM, PESO *5,10* KG/M (NBR 5580) | G35: M | H35: ='memoria de cálculo'!F37 -> 9 | I35: 77.35 | J35: =J5 -> 0.1402 | K35: =(J35*I35)+I35 -> 88.19447 | L35: =K35*H35 -> 793.75023
C36: 2.5.4 | D36: SINAPI | E36: 94975 | F36: CONCRETO FCK = 15MPA, TRAÇO 1:3,4:3,5 (EM MASSA SECA DE CIMENTO/ AREIA MÉDIA/ BRITA 1) - PREPARO MANUAL. AF_05/2021 | G36: M3 | H36: ='memoria de cálculo'!F38 -> 0.11 | I36: 314.81 | J36: =J4 -> 0.2097 | K36: =(J36*I36)+I36 -> 380.82566 | L36: =K36*H36 -> 41.890822
C37: 3.0 | F37: PAVIMENTAÇÃO GENERAL CÂMARA - 880 M² | L37: =L38+L46+L49+L52+L55 -> 127114.92 | M37: MEDIDO PERÍODO | P37: ACUMULADO
C38: 3.1 | F38: DRENAGEM | L38: =L39+L40+L41+L42+L43+L44+L45 -> 36052.844 | M38: =SUM(N39:N59) -> 0 | P38: =SUM(Q39:Q59) -> 116674.28
C39: 3.1.1 | D39: SINAPI | E39: 90105 | F39: ESCAVAÇÃO MECANIZADA DE VALA COM PROFUNDIDADE ATÉ 1,5 M (MÉDIA ENTRE MONTANTE E JUSANTE/UMA COMPOSIÇÃO POR TRECHO) COM RETROESCAVADEIRA (CAPACIDADE DA CAÇAMBA DA RETRO: 0,26 M3 / POTÊNCIA: 88 HP), LARGURA MENOR QUE 0,8 M, EM SOLO DE 1A CATEGORIA, LOCAISCOM BAIXO NÍVEL DE INTERFERÊNCIA. AF_02/2021 | G39: M3 | H39: ='memoria de cálculo'!F41 -> 161.29 | I39: 5.87 | J39: =J4 -> 0.2097 | K39: =(J39*I39)+I39 -> 7.100939 | L39: =K39*H39 -> 1145.3105 | N39: =M39*K39 -> 0 | O39: =N39/L39 -> 0 | P39: 161.29 | Q39: =P39*K39 -> 1145.3105 | R39: =Q39/L39 -> 1
C40: 3.1.2 | D40: SINAPI | E40: 93378 | F40: REATERRO MECANIZADO DE VALA COM RETROESCAVADEIRA (CAPACIDADE DA CAÇAMBA DA RETRO: 0,26 M³ / POTÊNCIA: 88 HP), LARGURA ATÉ 0,8 M, PROFUNDIDADE ATÉ 1,5 M, COM SOLO DE 1ª CATEGORIA EM LOCAIS COM BAIXO NÍVEL DE INTERFERÊNCIA. AF_04/2016 | G40: M3 | H40: ='memoria de cálculo'!F42 -> 94.4 | I40: 17.7 | J40: =J4 -> 0.2097 | K40: =(J40*I40)+I40 -> 21.41169 | L40: =K40*H40 -> 2021.2635 | N40: =M40*K40 -> 0 | O40: =N40/L40 -> 0 | P40: 94.4 | Q40: =P40*K40 -> 2021.2635 | R40: =Q40/L40 -> 1
C41: 3.1.3 | D41: SINAPI-I | E41: 37451 | F41: TUBO DE CONCRETO SIMPLES PARA AGUAS PLUVIAIS, CLASSE PS1, COM ENCAIXE MACHO E FEMEA, DIAMETRO NOMINAL DE 400 MM | G41: M | H41: ='memoria de cálculo'!F43 -> 39.4 | I41: 38.43 | J41: =J5 -> 0.1402 | K41: =(J41*I41)+I41 -> 43.817886 | L41: =K41*H41 -> 1726.4247 | N41: =M41*K41 -> 0 | O41: =N41/L41 -> 0 | P41: 39.4 | Q41: =P41*K41 -> 1726.4247 | R41: =Q41/L41 -> 1
C42: 3.1.4 | D42: SINAPI | E42: 92809 | F42: ASSENTAMENTO DE TUBO DE CONCRETO PARA REDES COLETORAS DE ÁGUAS PLUVIAIS, DIÂMETRO DE 400 MM, JUNTA RÍGIDA, INSTALADO EM LOCAL COM BAIXO NÍVEL DE INTERFERÊNCIAS (NÃO INCLUI FORNECIMENTO). AF_12/2015 | G42: M | H42: ='memoria de cálculo'!F44 -> 39.4 | I42: 38.67 | J42: =J4 -> 0.2097 | K42: =(J42*I42)+I42 -> 46.779099 | L42: =K42*H42 -> 1843.0965 | N42: =M42*K42 -> 0 | O42: =N42/L42 -> 0 | P42: 39.4 | Q42: =P42*K42 -> 1843.0965 | R42: =Q42/L42 -> 1
...

Sheet BOLETIM DE MEDIÇÃO 6
C2: PREFEITURA MUNICIPAL DE SALTO DO JACUÍ | M2: BM 06 | P2: ACUMULADO TOTAL
C4: OBRA | D4: PAVIMENTAÇÃO TRECHO RUA GENERAL CÂMARA E RUA E. PUMPMAKER | G4: BDI | H4: NÃO DESONERADO | J4: 0.2097 | K4: SINAPI 12/2021 | M4: PERÍODO DE MEDIÇÃO: 03/06/2024 À 05/12/2024 | P4: =P15+P38+P61 -> 257257.96
C5: ÁREA | D5: 2.816 M² | G5: BDI | H5: MATERIAIS | J5: 0.1402
C6: CR | D6: 851027/2017
C7: PLANILHA ORÇAMENTÁRIA - NÃO DESONERADA
I8: CUSTO | J8: BDI | K8: CUSTO | L8: VALOR
C9: ITEM | D9: FONTE | E9: CÓDIGO | F9: DESCRIÇÃO | G9: UNID | H9: QUANT | I9: UNIT | J9: % | K9: UNIT+BDI | L9: TOTAL | M9: QUANTIDADE | N9: TOTAL | O9: % | P9: QUANTIDADE | Q9: TOTAL | R9: %
F10: PAVIMENTAÇÃO DE RUAS E DRENAGEM | L10: =L11+L14+L37+L60 -> 402703.7
C11: 1.0 | F11: SERVIÇOS INICIAIS | L11: =L12+L13 -> 5990.9315
C12: 1.1 | D12: SINAPI-I | E12: 4813 | F12: PLACA DE OBRA (PARA CONSTRUCAO CIVIL) EM CHAPA GALVANIZADA *N. 22*, ADESIVADA, DE *2,0 X 1,125* M | G12: M2 | H12: ='memoria de cálculo'!F11 -> 2.88 | I12: 174.03 | J12: =$J$5 -> 0.1402 | K12: =I12+ (I12*$J$12) -> 198.42901 | L12: =K12*H12 -> 571.47554
C13: 1.2 | D13: SINAPI | E13: 90777 | F13: ENGENHEIRO CIVIL DE OBRA JUNIOR COM ENCARGOS COMPLEMENTARES | G13: H | H13: ='memoria de cálculo'!F12 -> 64 | I13: 70 | J13: =$J$4 -> 0.2097 | K13: =I13+ (I13*$J$13) -> 84.679 | L13: =K13*H13 -> 5419.456
C14: 2.0 | F14: PAVIMENTAÇÃO GENERAL CÂMARA - 1.200 M² | L14: =L15+L23+L26++L29+L32 -> 167813.57 | M14: MEDIDO PERÍODO | P14: ACUMULADO
C15: 2.1 | F15: DRENAGEM | L15: =L16+L17+L18+L19+L20+L21+L22 -> 42253.177 | M15: =SUM(N16:N22) -> 38799.405 | P15: =SUM(Q16:Q22) -> 38799.405
C16: 2.1.1 | D16: SINAPI | E16: 90105 | F16: ESCAVAÇÃO MECANIZADA DE VALA COM PROFUNDIDADE ATÉ 1,5 M (MÉDIA ENTRE MONTANTE E JUSANTE/UMA COMPOSIÇÃO POR TRECHO) COM RETROESCAVADEIRA (CAPACIDADE DA CAÇAMBA DA RETRO: 0,26 M3 / POTÊNCIA: 88 HP), LARGURA MENOR QUE 0,8 M, EM SOLO DE 1A CATEGORIA, LOCAISCOM BAIXO NÍVEL DE INTERFERÊNCIA. AF_02/2021 | G16: M3 | H16: ='memoria de cálculo'!F15 -> 249.63 | I16: 5.87 | J16: =$J$4 -> 0.2097 | K16: =(J16*I16)+I16 -> 7.100939 | L16: =K16*H16 -> 1772.6074 | M16: 249.63 | N16: =M16*K16 -> 1772.6074 | O16: =N16/L16 -> 1 | P16: 249.63 | Q16: =P16*K16 -> 1772.6074 | R16: =Q16/L16 -> 1
C17: 2.1.2 | D17: SINAPI | E17: 93378 | F17: REATERRO MECANIZADO DE VALA COM RETROESCAVADEIRA (CAPACIDADE DA CAÇAMBA DA RETRO: 0,26 M³ / POTÊNCIA: 88 HP), LARGURA ATÉ 0,8 M, PROFUNDIDADE ATÉ 1,5 M, COM SOLO DE 1ª CATEGORIA EM LOCAIS COM BAIXO NÍVEL DE INTERFERÊNCIA. AF_04/2016 | G17: M3 | H17: ='memoria de cálculo'!F16 -> 149.6 | I17: 17.7 | J17: =$J$4 -> 0.2097 | K17: =(J17*I17)+I17 -> 21.41169 | L17: =K17*H17 -> 3203.1888 | M17: 149.6 | N17: =M17*K17 -> 3203.1888 | O17: =N17/L17 -> 1 | P17: 149.6 | Q17: =P17*K17 -> 3203.1888 | R17: =Q17/L17 -> 1
C18: 2.1.3 | D18: SINAPI-I | E18: 37451 | F18: TUBO DE CONCRETO SIMPLES PARA AGUAS PLUVIAIS, CLASSE PS1, COM ENCAIXE MACHO E FEMEA, DIAMETRO NOMINAL DE 400 MM | G18: M | H18: ='memoria de cálculo'!F17 -> 39.4 | I18: 38.44 | J18: =$J$5 -> 0.1402 | K18: =(J18*I18)+I18 -> 43.829288 | L18: =K18*H18 -> 1726.8739 | M18: 39.4 | N18: =M18*K18 -> 1726.8739 | O18: =N18/L18 -> 1 | P18: 39.4 | Q18: =P18*K18 -> 1726.8739 | R18: =Q18/L18 -> 1
C19: 2.1.4 | D19: SINAPI | E19: 92809 | F19: ASSENTAMENTO DE TUBO DE CONCRETO PARA REDES COLETORAS DE ÁGUAS PLUVIAIS, DIÂMETRO DE 400 MM, JUNTA RÍGIDA, INSTALADO EM LOCAL COM BAIXO NÍVEL DE INTERFERÊNCIAS (NÃO INCLUI FORNECIMENTO). AF_12/2015 | G19: M | H19: ='memoria de cálculo'!F18 -> 39.4 | I19: 38.67 | J19: =J13 -> 0.2097 | K19: =(J19*I19)+I19 -> 46.779099 | L19: =K19*H19 -> 1843.0965 | M19: 39.4 | N19: =M19*K19 -> 1843.0965 | O19: =N19/L19 -> 1 | P19: 39.4 | Q19: =P19*K19 -> 1843.0965 | R19: =Q19/L19 -> 1
C20: 2.1.5 | D20: SINAPI-I | E20: 37453 | F20: TUBO DE CONCRETO SIMPLES PARA AGUAS PLUVIAIS, CLASSE PS1, COM ENCAIXE MACHO E FEMEA, DIAMETRO NOMINAL DE 600 MM | G20: M | H20: ='memoria de cálculo'!F19 -> 150.44 | I20: 67.6 | J20: =$J$5 -> 0.1402 | K20: =(J20*I20)+I20 -> 77.07752 | L20: =K20*H20 -> 11595.542 | M20: 120 | N20: =M20*K20 -> 9249.3024 | O20: =N20/L20 -> 0.7976602 | P20: 120 | Q20: =P20*K20 -> 9249.3024 | R20: =Q20/L20 -> 0.7976602
C21: 2.1.6 | D21: SINAPI | E21: 92811 | F21: ASSENTAMENTO DE TUBO DE CONCRETO PARA REDES COLETORAS DE ÁGUAS PLUVIAIS, DIÂMETRO DE 600 MM, JUNTA RÍGIDA, INSTALADO EM LOCAL COM BAIXO NÍVEL DE INTERFERÊNCIAS (NÃO INCLUI FORNECIMENTO). AF_12/2015 | G21: M | H21: ='memoria de cálculo'!F20 -> 150.44 | I21: 55.69 | J21: =$J$13 -> 0.2097 | K21: =(J21*I21)+I21 -> 67.368193 | L21: =K21*H21 -> 10134.871 | M21: 134 | N21: =M21*K21 -> 9027.3379 | O21: =N21/L21 -> 0.89072055 | P21: 134 | Q21: =P21*K21 -> 9027.3379 | R21: =Q21/L21 -> 0.89072055
C22: 2.1.7 | D22: SINAPI | E22: 97949 | F22: CAIXA PARA BOCA DE LOBO SIMPLES RETANGULAR, EM ALVENARIA COM TIJOLOS CERÂMICOS MACIÇOS, DIMENSÕES INTERNAS: 0,6X1X1,2 M. AF_12/2020 | G22: UNID | H22: ='memoria de cálculo'!F21 -> 8 | I22: 1237.6 | J22: =$J$13 -> 0.2097 | K22: =(J22*I22)+I22 -> 1497.1247 | L22: =K22*H22 -> 11976.998 | M22: 8 | N22: =M22*K22 -> 11976.998 | O22: =N22/L22 -> 1 | P22: 8 | Q22: =P22*K22 -> 11976.998 | R22: =Q22/L22 -> 1
C23: 2.2 | F23: PAVIMENTAÇÃO | L23: =L24+L25 -> 114507.49
C24: 2.1 | D24: SINAPI | E24: 94273 | F24: ASSENTAMENTO DE GUIA (MEIO-FIO) EM TRECHO RETO, CONFECCIONADA EM CONCRETO PRÉ-FABRICADO, DIMENSÕES 100X15X13X30 CM (COMPRIMENTO X BASE INFERIOR X BASE SUPERIOR X ALTURA), PARA VIAS URBANAS (USO VIÁRIO). AF_06/2016 | G24: M | H24: ='memoria de cálculo'!F23 -> 224 | I24: 38.74 | J24: =$J$13 -> 0.2097 | K24: =(J24*I24)+I24 -> 46.863778 | L24: =K24*H24 -> 10497.486
C25: 2.2.2 | D25: Composição | E25: 01 | F25: PAVIMENTO EM PARALELEPÍPEDO SOBRE COLCHÃO PÓ DE BRITA REJUNTADO AS VALAS COM ARGAMASSA DE CIMENTO E AREIA | G25: M2 | H25: 1200 | I25: 71.65 | J25: =$J$13 -> 0.2097 | K25: =(J25*I25)+I25 -> 86.675005 | L25: =K25*H25 -> 104010.01
C26: 2.3 | F26: PASSEIOS | L26: =L27+L28 -> 9421.9141
C27: 2.3.1 | D27: SINAPI | E27: 96385 | F27: EXECUÇÃO E COMPACTAÇÃO DE ATERRO COM SOLO PREDOMINANTEMENTE ARGILOSO - EXCLUSIVE SOLO, ESCAVAÇÃO, CARGA E TRANSPORTE. AF_11/2019 | G27: M3 | H27: ='memoria de cálculo'!F29 -> 379.09 | I27: 7.65 | J27: =J25 -> 0.2097 | K27: =(J27*I27)+I27 -> 9.254205 | L27: =K27*H27 -> 3508.1766
C28: 2.3.2 | D28: SINAPI | E28: 94991 | F28: EXECUÇÃO DE PASSEIO (CALÇADA) OU PISO DE CONCRETO COM CONCRETO MOLDADO IN LOCO, USINADO, ACABAMENTO CONVENCIONAL, NÃO ARMADO. AF_07/2016 | G28: M3 | H28: ='memoria de cálculo'!F30 -> 10.08 | I28: 484.98 | J28: =J13 -> 0.2097 | K28: =(J28*I28)+I28 -> 586.68031 | L28: =K28*H28 -> 5913.7375
C29: 2.4 | F29: RAMPAS | L29: =L30+L31 -> 549.88467
C30: 2.4.1 | D30: SINAPI | E30: 94991 | F30: EXECUÇÃO DE PASSEIO (CALÇADA) OU PISO DE CONCRETO COM CONCRETO MOLDADO IN LOCO, USINADO, ACABAMENTO CONVENCIONAL, NÃO ARMADO. AF_07/2016 | G30: M3 | H30: ='memoria de cálculo'!F32 -> 0.61 | I30: 484.98 | J30: =J4 -> 0.2097 | K30: =(J30*I30)+I30 -> 586.68031 | L30: =K30*H30 -> 357.87499
C31: 2.4.2 | D31: SINAPI-I | E31: 36178 | F31: PISO PODOTATIL DE CONCRETO - DIRECIONAL E ALERTA, *40 X 40 X 2,5* CM | G31: UN | H31: ='memoria de cálculo'!F33 -> 20 | I31: 8.42 | J31: =J5 -> 0.1402 | K31: =(J31*I31)+I31 -> 9.600484 | L31: =K31*H31 -> 192.00968
C32: 2.5 | F32: SINALIZAÇÃO | L32: =L33+L34+L35+L36 -> 1081.1062
C33: 2.5.1 | D33: SINAPI-I | E33: 34723 | F33: PLACA DE SINALIZACAO EM CHAPA DE ACO NUM 16 COM PINTURA REFLETIVA | G33: M2 | H33: ='memoria de cálculo'!F35 -> 0.25 | I33: 402.01 | J33: =J5 -> 0.1402 | K33: =(J33*I33)+I33 -> 458.3718 | L33: =K33*H33 -> 114.59295
C34: 2.5.2 | D34: SINAPI-I | E34: 13521 | F34: PLACA DE ACO ESMALTADA PARA IDENTIFICACAO DE RUA, *45 CM X 20* CM | G34: UN | H34: ='memoria de cálculo'!F36 -> 2 | I34: 57.39 | J34: =J5 -> 0.1402 | K34: =(J34*I34)+I34 -> 65.436078 | L34: =K34*H34 -> 130.87216
C35: 2.5.3 | D35: SINAPI-I | E35: 7696 | F35: TUBO ACO GALVANIZADO COM COSTURA, CLASSE MEDIA, DN 2", E = *3,65* MM, PESO *5,10* KG/M (NBR 5580) | G35: M | H35: ='memoria de cálculo'!F37 -> 9 | I35: 77.35 | J35: =J5 -> 0.1402 | K35: =(J35*I35)+I35 -> 88.19447 | L35: =K35*H35 -> 793.75023
C36: 2.5.4 | D36: SINAPI | E36: 94975 | F36: CONCRETO FCK = 15MPA, TRAÇO 1:3,4:3,5 (EM MASSA SECA DE CIMENTO/ AREIA MÉDIA/ BRITA 1) - PREPARO MANUAL. AF_05/2021 | G36: M3 | H36: ='memoria de cálculo'!F38 -> 0.11 | I36: 314.81 | J36: =J4 -> 0.2097 | K36: =(J36*I36)+I36 -> 380.82566 | L36: =K36*H36 -> 41.890822
C37: 3.0 | F37: PAVIMENTAÇÃO GENERAL CÂMARA - 880 M² | L37: =L38+L46+L49+L52+L55 -> 127114.92 | M37: MEDIDO PERÍODO | P37: ACUMULADO
C38: 3.1 | F38: DRENAGEM | L38: =L39+L40+L41+L42+L43+L44+L45 -> 36052.844 | M38: =SUM(N39:N59) -> 10479.873 | P38: =SUM(Q39:Q59) -> 116674.28
C39: 3.1.1 | D39: SINAPI | E39: 90105 | F39: ESCAVAÇÃO MECANIZADA DE VALA COM PROFUNDIDADE ATÉ 1,5 M (MÉDIA ENTRE MONTANTE E JUSANTE/UMA COMPOSIÇÃO POR TRECHO) COM RETROESCAVADEIRA (CAPACIDADE DA CAÇAMBA DA RETRO: 0,26 M3 / POTÊNCIA: 88 HP), LARGURA MENOR QUE 0,8 M, EM SOLO DE 1A CATEGORIA, LOCAISCOM BAIXO NÍVEL DE INTERFERÊNCIA. AF_02/2021 | G39: M3 | H39: ='memoria de cálculo'!F41 -> 161.29 | I39: 5.87 | J39: =J4 -> 0.2097 | K39: =(J39*I39)+I39 -> 7.100939 | L39: =K39*H39 -> 1145.3105 | N39: =M39*K39 -> 0 | O39: =N39/L39 -> 0 | P39: 161.29 | Q39: =P39*K39 -> 1145.3105 | R39: =Q39/L39 -> 1
C40: 3.1.2 | D40: SINAPI | E40: 93378 | F40: REATERRO MECANIZADO DE VALA COM RETROESCAVADEIRA (CAPACIDADE DA CAÇAMBA DA RETRO: 0,26 M³ / POTÊNCIA: 88 HP), LARGURA ATÉ 0,8 M, PROFUNDIDADE ATÉ 1,5 M, COM SOLO DE 1ª CATEGORIA EM LOCAIS COM BAIXO NÍVEL DE INTERFERÊNCIA. AF_04/2016 | G40: M3 | H40: ='memoria de cálculo'!F42 -> 94.4 | I40: 17.7 | J40: =J4 -> 0.2097 | K40: =(J40*I40)+I40 -> 21.41169 | L40: =K40*H40 -> 2021.2635 | N40: =M40*K40 -> 0 | O40: =N40/L40 -> 0 | P40: 94.4 | Q40: =P40*K40 -> 2021.2635 | R40: =Q40/L40 -> 1
C41: 3.1.3 | D41: SINAPI-I | E41: 37451 | F41: TUBO DE CONCRETO SIMPLES PARA AGUAS PLUVIAIS, CLASSE PS1, COM ENCAIXE MACHO E FEMEA, DIAMETRO NOMINAL DE 400 MM | G41: M | H41: ='memoria de cálculo'!F43 -> 39.4 | I41: 38.43 | J41: =J5 -> 0.1402 | K41: =(J41*I41)+I41 -> 43.817886 | L41: =K41*H41 -> 1726.4247 | N41: =M41*K41 -> 0 | O41: =N41/L41 -> 0 | P41: 39.4 | Q41: =P41*K41 -> 1726.4247 | R41: =Q41/L41 -> 1
C42: 3.1.4 | D42: SINAPI | E42: 92809 | F42: ASSENTAMENTO DE TUBO DE CONCRETO PARA REDES COLETORAS DE ÁGUAS PLUVIAIS, DIÂMETRO DE 400 MM, JUNTA RÍGIDA, INSTALADO EM LOCAL COM BAIXO NÍVEL DE INTERFERÊNCIAS (NÃO INCLUI FORNECIMENTO). AF_12/2015 | G42: M | H42: ='memoria de cálculo'!F44 -> 39.4 | I42: 38.67 | J42: =J4 -> 0.2097 | K42: =(J42*I42)+I42 -> 46.779099 | L42: =K42*H42 -> 1843.0965 | N42: =M42*K42 -> 0 | O42: =N42/L42 -> 0 | P42: 39.4 | Q42: =P42*K42 -> 1843.0965 | R42: =Q42/L42 -> 1
...

Sheet BOLETIM DE MEDIÇÃO 5
C2: PREFEITURA MUNICIPAL DE SALTO DO JACUÍ | M2: BM 05 | P2: ACUMULADO TOTAL
C4: OBRA | D4: PAVIMENTAÇÃO TRECHO RUA GENERAL CÂMARA E RUA E. PUMPMAKER | G4: BDI | H4: NÃO DESONERADO | J4: 0.2097 | K4: SINAPI 12/2021 | M4: PERÍODO DE MEDIÇÃO: 17/04/2024 À 03/06/2024 | P4: =SUM(P38,P61) -> 207978.68
C5: ÁREA | D5: 2.816 M² | G5: BDI | H5: MATERIAIS | J5: 0.1402
C6: CR | D6: 851027/2017
C7: PLANILHA ORÇAMENTÁRIA - NÃO DESONERADA
I8: CUSTO | J8: BDI | K8: CUSTO | L8: VALOR
C9: ITEM | D9: FONTE | E9: CÓDIGO | F9: DESCRIÇÃO | G9: UNID | H9: QUANT | I9: UNIT | J9: % | K9: UNIT+BDI | L9: TOTAL | M9: QUANTIDADE | N9: TOTAL | O9: % | P9: QUANTIDADE | Q9: TOTAL | R9: %
F10: PAVIMENTAÇÃO DE RUAS E DRENAGEM | L10: =L11+L14+L37+L60 -> 402703.7
C11: 1.0 | F11: SERVIÇOS INICIAIS | L11: =L12+L13 -> 5990.9315
C12: 1.1 | D12: SINAPI-I | E12: 4813 | F12: PLACA DE OBRA (PARA CONSTRUCAO CIVIL) EM CHAPA GALVANIZADA *N. 22*, ADESIVADA, DE *2,0 X 1,125* M | G12: M2 | H12: ='memoria de cálculo'!F11 -> 2.88 | I12: 174.03 | J12: =$J$5 -> 0.1402 | K12: =I12+ (I12*$J$12) -> 198.42901 | L12: =K12*H12 -> 571.47554
C13: 1.2 | D13: SINAPI | E13: 90777 | F13: ENGENHEIRO CIVIL DE OBRA JUNIOR COM ENCARGOS COMPLEMENTARES | G13: H | H13: ='memoria de cálculo'!F12 -> 64 | I13: 70 | J13: =$J$4 -> 0.2097 | K13: =I13+ (I13*$J$13) -> 84.679 | L13: =K13*H13 -> 5419.456
C14: 2.0 | F14: PAVIMENTAÇÃO GENERAL CÂMARA - 1.200 M² | L14: =L15+L23+L26++L29+L32 -> 167813.57
C15: 2.1 | F15: DRENAGEM | L15: =L16+L17+L18+L19+L20+L21+L22 -> 42253.177
C16: 2.1.1 | D16: SINAPI | E16: 90105 | F16: ESCAVAÇÃO MECANIZADA DE VALA COM PROFUNDIDADE ATÉ 1,5 M (MÉDIA ENTRE MONTANTE E JUSANTE/UMA COMPOSIÇÃO POR TRECHO) COM RETROESCAVADEIRA (CAPACIDADE DA CAÇAMBA DA RETRO: 0,26 M3 / POTÊNCIA: 88 HP), LARGURA MENOR QUE 0,8 M, EM SOLO DE 1A CATEGORIA, LOCAISCOM BAIXO NÍVEL DE INTERFERÊNCIA. AF_02/2021 | G16: M3 | H16: ='memoria de cálculo'!F15 -> 249.63 | I16: 5.87 | J16: =$J$4 -> 0.2097 | K16: =(J16*I16)+I16 -> 7.100939 | L16: =K16*H16 -> 1772.6074 | N16: =M16*K16 -> 0
C17: 2.1.2 | D17: SINAPI | E17: 93378 | F17: REATERRO MECANIZADO DE VALA COM RETROESCAVADEIRA (CAPACIDADE DA CAÇAMBA DA RETRO: 0,26 M³ / POTÊNCIA: 88 HP), LARGURA ATÉ 0,8 M, PROFUNDIDADE ATÉ 1,5 M, COM SOLO DE 1ª CATEGORIA EM LOCAIS COM BAIXO NÍVEL DE INTERFERÊNCIA. AF_04/2016 | G17: M3 | H17: ='memoria de cálculo'!F16 -> 149.6 | I17: 17.7 | J17: =$J$4 -> 0.2097 | K17: =(J17*I17)+I17 -> 21.41169 | L17: =K17*H17 -> 3203.1888 | N17: =M17*K17 -> 0
C18: 2.1.3 | D18: SINAPI-I | E18: 37451 | F18: TUBO DE CONCRETO SIMPLES PARA AGUAS PLUVIAIS, CLASSE PS1, COM ENCAIXE MACHO E FEMEA, DIAMETRO NOMINAL DE 400 MM | G18: M | H18: ='memoria de cálculo'!F17 -> 39.4 | I18: 38.44 | J18: =$J$5 -> 0.1402 | K18: =(J18*I18)+I18 -> 43.829288 | L18: =K18*H18 -> 1726.8739 | N18: =M18*K18 -> 0
C19: 2.1.4 | D19: SINAPI | E19: 92809 | F19: ASSENTAMENTO DE TUBO DE CONCRETO PARA REDES COLETORAS DE ÁGUAS PLUVIAIS, DIÂMETRO DE 400 MM, JUNTA RÍGIDA, INSTALADO EM LOCAL COM BAIXO NÍVEL DE INTERFERÊNCIAS (NÃO INCLUI FORNECIMENTO). AF_12/2015 | G19: M | H19: ='memoria de cálculo'!F18 -> 39.4 | I19: 38.67 | J19: =J13 -> 0.2097 | K19: =(J19*I19)+I19 -> 46.779099 | L19: =K19*H19 -> 1843.0965 | N19: =M19*K19 -> 0
C20: 2.1.5 | D20: SINAPI-I | E20: 37453 | F20: TUBO DE CONCRETO SIMPLES PARA AGUAS PLUVIAIS, CLASSE PS1, COM ENCAIXE MACHO E FEMEA, DIAMETRO NOMINAL DE 600 MM | G20: M | H20: ='memoria de cálculo'!F19 -> 150.44 | I20: 67.6 | J20: =$J$5 -> 0.1402 | K20: =(J20*I20)+I20 -> 77.07752 | L20: =K20*H20 -> 11595.542 | N20: =M20*K20 -> 0
C21: 2.1.6 | D21: SINAPI | E21: 92811 | F21: ASSENTAMENTO DE TUBO DE CONCRETO PARA REDES COLETORAS DE ÁGUAS PLUVIAIS, DIÂMETRO DE 600 MM, JUNTA RÍGIDA, INSTALADO EM LOCAL COM BAIXO NÍVEL DE INTERFERÊNCIAS (NÃO INCLUI FORNECIMENTO). AF_12/2015 | G21: M | H21: ='memoria de cálculo'!F20 -> 150.44 | I21: 55.69 | J21: =$J$13 -> 0.2097 | K21: =(J21*I21)+I21 -> 67.368193 | L21: =K21*H21 -> 10134.871 | N21: =M21*K21 -> 0
C22: 2.1.7 | D22: SINAPI | E22: 97949 | F22: CAIXA PARA BOCA DE LOBO SIMPLES RETANGULAR, EM ALVENARIA COM TIJOLOS CERÂMICOS MACIÇOS, DIMENSÕES INTERNAS: 0,6X1X1,2 M. AF_12/2020 | G22: UNID | H22: ='memoria de cálculo'!F21 -> 8 | I22: 1237.6 | J22: =$J$13 -> 0.2097 | K22: =(J22*I22)+I22 -> 1497.1247 | L22: =K22*H22 -> 11976.998 | N22: =M22*K22 -> 0
C23: 2.2 | F23: PAVIMENTAÇÃO | L23: =L24+L25 -> 114507.49
C24: 2.1 | D24: SINAPI | E24: 94273 | F24: ASSENTAMENTO DE GUIA (MEIO-FIO) EM TRECHO RETO, CONFECCIONADA EM CONCRETO PRÉ-FABRICADO, DIMENSÕES 100X15X13X30 CM (COMPRIMENTO X BASE INFERIOR X BASE SUPERIOR X ALTURA), PARA VIAS URBANAS (USO VIÁRIO). AF_06/2016 | G24: M | H24: ='memoria de cálculo'!F23 -> 224 | I24: 38.74 | J24: =$J$13 -> 0.2097 | K24: =(J24*I24)+I24 -> 46.863778 | L24: =K24*H24 -> 10497.486
C25: 2.2.2 | D25: Composição | E25: 01 | F25: PAVIMENTO EM PARALELEPÍPEDO SOBRE COLCHÃO PÓ DE BRITA REJUNTADO AS VALAS COM ARGAMASSA DE CIMENTO E AREIA | G25: M2 | H25: 1200 | I25: 71.65 | J25: =$J$13 -> 0.2097 | K25: =(J25*I25)+I25 -> 86.675005 | L25: =K25*H25 -> 104010.01
C26: 2.3 | F26: PASSEIOS | L26: =L27+L28 -> 9421.9141
C27: 2.3.1 | D27: SINAPI | E27: 96385 | F27: EXECUÇÃO E COMPACTAÇÃO DE ATERRO COM SOLO PREDOMINANTEMENTE ARGILOSO - EXCLUSIVE SOLO, ESCAVAÇÃO, CARGA E TRANSPORTE. AF_11/2019 | G27: M3 | H27: ='memoria de cálculo'!F29 -> 379.09 | I27: 7.65 | J27: =J25 -> 0.2097 | K27: =(J27*I27)+I27 -> 9.254205 | L27: =K27*H27 -> 3508.1766
C28: 2.3.2 | D28: SINAPI | E28: 94991 | F28: EXECUÇÃO DE PASSEIO (CALÇADA) OU PISO DE CONCRETO COM CONCRETO MOLDADO IN LOCO, USINADO, ACABAMENTO CONVENCIONAL, NÃO ARMADO. AF_07/2016 | G28: M3 | H28: ='memoria de cálculo'!F30 -> 10.08 | I28: 484.98 | J28: =J13 -> 0.2097 | K28: =(J28*I28)+I28 -> 586.68031 | L28: =K28*H28 -> 5913.7375
C29: 2.4 | F29: RAMPAS | L29: =L30+L31 -> 549.88467
C30: 2.4.1 | D30: SINAPI | E30: 94991 | F30: EXECUÇÃO DE PASSEIO (CALÇADA) OU PISO DE CONCRETO COM CONCRETO MOLDADO IN LOCO, USINADO, ACABAMENTO CONVENCIONAL, NÃO ARMADO. AF_07/2016 | G30: M3 | H30: ='memoria de cálculo'!F32 -> 0.61 | I30: 484.98 | J30: =J4 -> 0.2097 | K30: =(J30*I30)+I30 -> 586.68031 | L30: =K30*H30 -> 357.87499
C31: 2.4.2 | D31: SINAPI-I | E31: 36178 | F31: PISO PODOTATIL DE CONCRETO - DIRECIONAL E ALERTA, *40 X 40 X 2,5* CM | G31: UN | H31: ='memoria de cálculo'!F33 -> 20 | I31: 8.42 | J31: =J5 -> 0.1402 | K31: =(J31*I31)+I31 -> 9.600484 | L31: =K31*H31 -> 192.00968
C32: 2.5 | F32: SINALIZAÇÃO | L32: =L33+L34+L35+L36 -> 1081.1062
C33: 2.5.1 | D33: SINAPI-I | E33: 34723 | F33: PLACA DE SINALIZACAO EM CHAPA DE ACO NUM 16 COM PINTURA REFLETIVA | G33: M2 | H33: ='memoria de cálculo'!F35 -> 0.25 | I33: 402.01 | J33: =J5 -> 0.1402 | K33: =(J33*I33)+I33 -> 458.3718 | L33: =K33*H33 -> 114.59295
C34: 2.5.2 | D34: SINAPI-I | E34: 13521 | F34: PLACA DE ACO ESMALTADA PARA IDENTIFICACAO DE RUA, *45 CM X 20* CM | G34: UN | H34: ='memoria de cálculo'!F36 -> 2 | I34: 57.39 | J34: =J5 -> 0.1402 | K34: =(J34*I34)+I34 -> 65.436078 | L34: =K34*H34 -> 130.87216
C35: 2.5.3 | D35: SINAPI-I | E35: 7696 | F35: TUBO ACO GALVANIZADO COM COSTURA, CLASSE MEDIA, DN 2", E = *3,65* MM, PESO *5,10* KG/M (NBR 5580) | G35: M | H35: ='memoria de cálculo'!F37 -> 9 | I35: 77.35 | J35: =J5 -> 0.1402 | K35: =(J35*I35)+I35 -> 88.19447 | L35: =K35*H35 -> 793.75023
C36: 2.5.4 | D36: SINAPI | E36: 94975 | F36: CONCRETO FCK = 15MPA, TRAÇO 1:3,4:3,5 (EM MASSA SECA DE CIMENTO/ AREIA MÉDIA/ BRITA 1) - PREPARO MANUAL. AF_05/2021 | G36: M3 | H36: ='memoria de cálculo'!F38 -> 0.11 | I36: 314.81 | J36: =J4 -> 0.2097 | K36: =(J36*I36)+I36 -> 380.82566 | L36: =K36*H36 -> 41.890822
C37: 3.0 | F37: PAVIMENTAÇÃO GENERAL CÂMARA - 880 M² | L37: =L38+L46+L49+L52+L55 -> 127114.92 | M37: MEDIDO PERÍODO | P37: ACUMULADO
C38: 3.1 | F38: DRENAGEM | L38: =L39+L40+L41+L42+L43+L44+L45 -> 36052.844 | M38: =SUM(N39:N59) -> 39921.451 | P38: =SUM(Q39:Q59) -> 106194.41
C39: 3.1.1 | D39: SINAPI | E39: 90105 | F39: ESCAVAÇÃO MECANIZADA DE VALA COM PROFUNDIDADE ATÉ 1,5 M (MÉDIA ENTRE MONTANTE E JUSANTE/UMA COMPOSIÇÃO POR TRECHO) COM RETROESCAVADEIRA (CAPACIDADE DA CAÇAMBA DA RETRO: 0,26 M3 / POTÊNCIA: 88 HP), LARGURA MENOR QUE 0,8 M, EM SOLO DE 1A CATEGORIA, LOCAISCOM BAIXO NÍVEL DE INTERFERÊNCIA. AF_02/2021 | G39: M3 | H39: ='memoria de cálculo'!F41 -> 161.29 | I39: 5.87 | J39: =J4 -> 0.2097 | K39: =(J39*I39)+I39 -> 7.100939 | L39: =K39*H39 -> 1145.3105 | M39: 161.29 | N39: =M39*K39 -> 1145.3105 | O39: =N39/L39 -> 1 | P39: 161.29 | Q39: =P39*K39 -> 1145.3105 | R39: =Q39/L39 -> 1
C40: 3.1.2 | D40: SINAPI | E40: 93378 | F40: REATERRO MECANIZADO DE VALA COM RETROESCAVADEIRA (CAPACIDADE DA CAÇAMBA DA RETRO: 0,26 M³ / POTÊNCIA: 88 HP), LARGURA ATÉ 0,8 M, PROFUNDIDADE ATÉ 1,5 M, COM SOLO DE 1ª CATEGORIA EM LOCAIS COM BAIXO NÍVEL DE INTERFERÊNCIA. AF_04/2016 | G40: M3 | H40: ='memoria de cálculo'!F42 -> 94.4 | I40: 17.7 | J40: =J4 -> 0.2097 | K40: =(J40*I40)+I40 -> 21.41169 | L40: =K40*H40 -> 2021.2635 | M40: 94.4 | N40: =M40*K40 -> 2021.2635 | O40: =N40/L40 -> 1 | P40: 161.29 | Q40: =M40*K40 -> 2021.2635 | R40: =Q40/L40 -> 1
C41: 3.1.3 | D41: SINAPI-I | E41: 37451 | F41: TUBO DE CONCRETO SIMPLES PARA AGUAS PLUVIAIS, CLASSE PS1, COM ENCAIXE MACHO E FEMEA, DIAMETRO NOMINAL DE 400 MM | G41: M | H41: ='memoria de cálculo'!F43 -> 39.4 | I41: 38.43 | J41: =J5 -> 0.1402 | K41: =(J41*I41)+I41 -> 43.817886 | L41: =K41*H41 -> 1726.4247 | M41: 39.4 | N41: =M41*K41 -> 1726.4247 | O41: =N41/L41 -> 1 | P41: 39.4 | Q41: =M41*K41 -> 1726.4247 | R41: =Q41/L41 -> 1
C42: 3.1.4 | D42: SINAPI | E42: 92809 | F42: ASSENTAMENTO DE TUBO DE CONCRETO PARA REDES COLETORAS DE ÁGUAS PLUVIAIS, DIÂMETRO DE 400 MM, JUNTA RÍGIDA, INSTALADO EM LOCAL COM BAIXO NÍVEL DE INTERFERÊNCIAS (NÃO INCLUI FORNECIMENTO). AF_12/2015 | G42: M | H42: ='memoria de cálculo'!F44 -> 39.4 | I42: 38.67 | J42: =J4 -> 0.2097 | K42: =(J42*I42)+I42 -> 46.779099 | L42: =K42*H42 -> 1843.0965 | M42: 39.4 | N42: =M42*K42 -> 1843.0965 | O42: =N42/L42 -> 1 | P42: 39.4 | Q42: =M42*K42 -> 1843.0965 | R42: =Q42/L42 -> 1
...

Sheet BOLETIM DE MEDIÇÃO 4
C2: PREFEITURA MUNICIPAL DE SALTO DO JACUÍ | M2: BM 04 | P2: ACUMULADO TOTAL
C4: OBRA | D4: PAVIMENTAÇÃO TRECHO RUA GENERAL CÂMARA E RUA E. PUMPMAKER | G4: BDI | H4: NÃO DESONERADO | J4: 0.2097 | K4: SINAPI 12/2021 | M4: PERÍODO DE MEDIÇÃO: 25/03/2024 À 17/04/2024 | P4: =SUM(P38,P61) -> 168057.23
C5: ÁREA | D5: 2.816 M² | G5: BDI | H5: MATERIAIS | J5: 0.1402
C6: CR | D6: 851027/2017
C7: PLANILHA ORÇAMENTÁRIA - NÃO DESONERADA
I8: CUSTO | J8: BDI | K8: CUSTO | L8: VALOR
C9: ITEM | D9: FONTE | E9: CÓDIGO | F9: DESCRIÇÃO | G9: UNID | H9: QUANT | I9: UNIT | J9: % | K9: UNIT+BDI | L9: TOTAL | M9: QUANTIDADE | N9: TOTAL | O9: % | P9: QUANTIDADE | Q9: TOTAL | R9: %
F10: PAVIMENTAÇÃO DE RUAS E DRENAGEM | L10: =L11+L14+L37+L60 -> 402703.7
C11: 1.0 | F11: SERVIÇOS INICIAIS | L11: =L12+L13 -> 5990.9315
C12: 1.1 | D12: SINAPI-I | E12: 4813 | F12: PLACA DE OBRA (PARA CONSTRUCAO CIVIL) EM CHAPA GALVANIZADA *N. 22*, ADESIVADA, DE *2,0 X 1,125* M | G12: M2 | H12: ='memoria de cálculo'!F11 -> 2.88 | I12: 174.03 | J12: =$J$5 -> 0.1402 | K12: =I12+ (I12*$J$12) -> 198.42901 | L12: =K12*H12 -> 571.47554
C13: 1.2 | D13: SINAPI | E13: 90777 | F13: ENGENHEIRO CIVIL DE OBRA JUNIOR COM ENCARGOS COMPLEMENTARES | G13: H | H13: ='memoria de cálculo'!F12 -> 64 | I13: 70 | J13: =$J$4 -> 0.2097 | K13: =I13+ (I13*$J$13) -> 84.679 | L13: =K13*H13 -> 5419.456
C14: 2.0 | F14: PAVIMENTAÇÃO GENERAL CÂMARA - 1.200 M² | L14: =L15+L23+L26++L29+L32 -> 167813.57
C15: 2.1 | F15: DRENAGEM | L15: =L16+L17+L18+L19+L20+L21+L22 -> 42253.177
C16: 2.1.1 | D16: SINAPI | E16: 90105 | F16: ESCAVAÇÃO MECANIZADA DE VALA COM PROFUNDIDADE ATÉ 1,5 M (MÉDIA ENTRE MONTANTE E JUSANTE/UMA COMPOSIÇÃO POR TRECHO) COM RETROESCAVADEIRA (CAPACIDADE DA CAÇAMBA DA RETRO: 0,26 M3 / POTÊNCIA: 88 HP), LARGURA MENOR QUE 0,8 M, EM SOLO DE 1A CATEGORIA, LOCAISCOM BAIXO NÍVEL DE INTERFERÊNCIA. AF_02/2021 | G16: M3 | H16: ='memoria de cálculo'!F15 -> 249.63 | I16: 5.87 | J16: =$J$4 -> 0.2097 | K16: =(J16*I16)+I16 -> 7.100939 | L16: =K16*H16 -> 1772.6074 | N16: =M16*K16 -> 0
C17: 2.1.2 | D17: SINAPI | E17: 93378 | F17: REATERRO MECANIZADO DE VALA COM RETROESCAVADEIRA (CAPACIDADE DA CAÇAMBA DA RETRO: 0,26 M³ / POTÊNCIA: 88 HP), LARGURA ATÉ 0,8 M, PROFUNDIDADE ATÉ 1,5 M, COM SOLO DE 1ª CATEGORIA EM LOCAIS COM BAIXO NÍVEL DE INTERFERÊNCIA. AF_04/2016 | G17: M3 | H17: ='memoria de cálculo'!F16 -> 149.6 | I17: 17.7 | J17: =$J$4 -> 0.2097 | K17: =(J17*I17)+I17 -> 21.41169 | L17: =K17*H17 -> 3203.1888 | N17: =M17*K17 -> 0
