Workbook

Sheet ORÇAMENTO SINAPI 2026
C2: PREFEITURA MUNICIPAL DE SALTO DO JACUÍ
C4: OBRA | D4: PAVIMENTAÇÃO TRECHO RUA GENERAL CÂMARA E RUA E. PUMPMAKER | G4: BDI | H4: NÃO DESONERADO | J4: 0.2097 | K4: 46082
C5: ÁREA | D5: 2.816 M² | F5: RESTANTE 1200 M² | G5: BDI | H5: MATERIAIS | J5: 0.1402
C6: CR | D6: 851027/2017
C7: PLANILHA ORÇAMENTÁRIA - NÃO DESONERADA
I8: CUSTO | J8: BDI | K8: CUSTO | L8: VALOR
C9: ITEM | D9: FONTE | E9: CÓDIGO | F9: DESCRIÇÃO | G9: UNID | H9: QUANT | I9: UNIT | J9: % | K9: UNIT+BDI | L9: TOTAL
F10: PAVIMENTAÇÃO DE RUAS E DRENAGEM | L10: =L11+L14+L39+L62 -> 106910.24
C11: 1.0 | F11: SERVIÇOS INICIAIS | L11: =L12+L13 -> 14152.54
C12: 1.1 | D12: SINAPI-I | E12: 103689 | F12: FORNECIMENTO E INSTALAÇÃO DE PLACA DE OBRA COM CHAPA GALVANIZADA E ESTRUTURA DE MADEIRA. AF_03/2022_PS (3,00X2,00M) | G12: M2 | H12: 6 | I12: 495.57 | J12: =$J$5 -> 0.1402 | K12: =I12+ (I12*$J$12) -> 565.04891 | L12: =ROUND(ROUND(H12,2)*ROUND(K12,2),2) -> 3390.3
C13: 1.2 | D13: SINAPI | E13: 90777 | F13: ENGENHEIRO CIVIL DE OBRA JUNIOR COM ENCARGOS COMPLEMENTARES | G13: H | H13: 64 | I13: 139.01 | J13: =$J$4 -> 0.2097 | K13: =I13+ (I13*$J$13) -> 168.1604 | L13: =ROUND(ROUND(H13,2)*ROUND(K13,2),2) -> 10762.24
C14: 2.0 | F14: PAVIMENTAÇÃO GENERAL CÂMARA - 1.200 M² | L14: =L15+L23+L28++L31+L34 -> 76312.89
C15: 2.1 | F15: DRENAGEM | L15: =L16+L17+L18+L19+L20+L21+L22 -> 7993.93
C16: 2.1.1 | D16: SINAPI | E16: 90105 | F16: ESCAVAÇÃO MECANIZADA DE VALA COM PROFUNDIDADE ATÉ 1,5 M (MÉDIA ENTRE MONTANTE E JUSANTE/UMA COMPOSIÇÃO POR TRECHO) COM RETROESCAVADEIRA (CAPACIDADE DA CAÇAMBA DA RETRO: 0,26 M3 / POTÊNCIA: 88 HP), LARGURA MENOR QUE 0,8 M, EM SOLO DE 1A CATEGORIA, LOCAISCOM BAIXO NÍVEL DE INTERFERÊNCIA. AF_02/2021 | G16: M3 | I16: 5.87 | J16: =$J$4 -> 0.2097 | K16: =(J16*I16)+I16 -> 7.100939 | L16: =ROUND(K16*H16,2) -> 0
C17: 2.1.2 | D17: SINAPI | E17: 93378 | F17: REATERRO MECANIZADO DE VALA COM RETROESCAVADEIRA (CAPACIDADE DA CAÇAMBA DA RETRO: 0,26 M³ / POTÊNCIA: 88 HP), LARGURA ATÉ 0,8 M, PROFUNDIDADE ATÉ 1,5 M, COM SOLO DE 1ª CATEGORIA EM LOCAIS COM BAIXO NÍVEL DE INTERFERÊNCIA. AF_04/2016 | G17: M3 | I17: 17.7 | J17: =$J$4 -> 0.2097 | K17: =(J17*I17)+I17 -> 21.41169 | L17: =K17*H17 -> 0
C18: 2.1.3 | D18: SINAPI-I | E18: 37451 | F18: TUBO DE CONCRETO SIMPLES PARA AGUAS PLUVIAIS, CLASSE PS1, COM ENCAIXE MACHO E FEMEA, DIAMETRO NOMINAL DE 400 MM | G18: M | I18: 38.44 | J18: =$J$5 -> 0.1402 | K18: =(J18*I18)+I18 -> 43.829288 | L18: =K18*H18 -> 0
C19: 2.1.4 | D19: SINAPI | E19: 92809 | F19: ASSENTAMENTO DE TUBO DE CONCRETO PARA REDES COLETORAS DE ÁGUAS PLUVIAIS, DIÂMETRO DE 400 MM, JUNTA RÍGIDA, INSTALADO EM LOCAL COM BAIXO NÍVEL DE INTERFERÊNCIAS (NÃO INCLUI FORNECIMENTO). AF_12/2015 | G19: M | I19: 38.67 | J19: =J13 -> 0.2097 | K19: =(J19*I19)+I19 -> 46.779099 | L19: =K19*H19 -> 0
C20: 2.1.5 | D20: SINAPI-I | E20: 37453 | F20: TUBO DE CONCRETO SIMPLES PARA AGUAS PLUVIAIS, CLASSE PS1, COM ENCAIXE MACHO E FEMEA, DIAMETRO NOMINAL DE 600 MM | G20: M | H20: 30.44 | I20: 112.82 | J20: =$J$5 -> 0.1402 | K20: =(J20*I20)+I20 -> 128.63736 | L20: =ROUND(ROUND(H20,2)*ROUND(K20,2),2) -> 3915.8
C21: 2.1.6 | D21: SINAPI | E21: 92811 | F21: ASSENTAMENTO DE TUBO DE CONCRETO PARA REDES COLETORAS DE ÁGUAS PLUVIAIS, DIÂMETRO DE 600 MM, JUNTA RÍGIDA, INSTALADO EM LOCAL COM BAIXO NÍVEL DE INTERFERÊNCIAS (NÃO INCLUI FORNECIMENTO). AF_12/2015 | G21: M | H21: 58.06 | I21: 58.06 | J21: =$J$13 -> 0.2097 | K21: =(J21*I21)+I21 -> 70.235182 | L21: =ROUND(ROUND(H21,2)*ROUND(K21,2),2) -> 4078.13
C22: 2.1.7 | D22: SINAPI | E22: 97949 | F22: CAIXA PARA BOCA DE LOBO SIMPLES RETANGULAR, EM ALVENARIA COM TIJOLOS CERÂMICOS MACIÇOS, DIMENSÕES INTERNAS: 0,6X1X1,2 M. AF_12/2020 | G22: UNID | I22: 1237.6 | J22: =$J$13 -> 0.2097 | K22: =(J22*I22)+I22 -> 1497.1247 | L22: =K22*H22 -> 0
C23: 2.2 | F23: PAVIMENTAÇÃO | L23: =L24+L27+L25+L26 -> 49589.25
C24: 2.1 | D24: SINAPI | E24: 94273 | F24: ASSENTAMENTO DE GUIA (MEIO-FIO) EM TRECHO RETO, CONFECCIONADA EM CONCRETO PRÉ-FABRICADO, DIMENSÕES 100X15X13X30 CM (COMPRIMENTO X BASE INFERIOR X BASE SUPERIOR X ALTURA). AF_01/2024 | G24: M | H24: 36 | I24: 53.01 | J24: =$J$13 -> 0.2097 | K24: =(J24*I24)+I24 -> 64.126197 | L24: =ROUND(ROUND(H24,2)*ROUND(K24,2),2) -> 2308.68
D25: SINAPI | E25: 94273 | F25: ASSENTAMENTO DE GUIA (MEIO-FIO) EM TRECHO RETO, CONFECCIONADA EM CONCRETO PRÉ-FABRICADO, DIMENSÕES 100X15X13X30 CM (COMPRIMENTO X BASE INFERIOR X BASE SUPERIOR X ALTURA) | G25: M | H25: 15 | I25: 53.01 | J25: =$J$13 -> 0.2097 | K25: =(J25*I25)+I25 -> 64.126197 | L25: =ROUND(ROUND(H25,2)*ROUND(K25,2),2) -> 961.95
D26: SINAPI | E26: 101850 | F26: REASSENTAMENTO DE PARALELEPÍPEDOS, REJUNTAMENTO COM PÓ DE PEDRA, COM REAPROVEITAMENTO DOS PARALELEPÍPEDOS - INCLUSO RETIRADA E COLOCAÇÃO DO MATERIAL. AF_12/2020 | G26: M² | H26: 83.8 | I26: 63.09 | J26: =$J$13 -> 0.2097 | K26: =(J26*I26)+I26 -> 76.319973 | L26: =ROUND(ROUND(H26,2)*ROUND(K26,2),2) -> 6395.62
C27: 2.2.2 | D27: SINAPI | E27: 101167 | F27: PAVIMENTO EM PARALELEPÍPEDO SOBRE COLCHÃO PÓ DE BRITA REJUNTADO AS VALAS COM ARGAMASSA DE CIMENTO E AREIA | G27: M2 | H27: 260 | I27: 126.93 | J27: =$J$13 -> 0.2097 | K27: =(J27*I27)+I27 -> 153.54722 | L27: =ROUND(ROUND(H27,2)*ROUND(K27,2),2) -> 39923
C28: 2.3 | F28: PASSEIOS | L28: =L29+L30 -> 15724.55
C29: 2.3.1 | D29: SINAPI | E29: 96385 | F29: EXECUÇÃO E COMPACTAÇÃO DE ATERRO COM SOLO PREDOMINANTEMENTE ARGILOSO - EXCLUSIVE SOLO, ESCAVAÇÃO, CARGA E TRANSPORTE. AF_11/2019 | G29: M3 | H29: ='memoria de cálculo'!F29 -> 379.09 | I29: 13.53 | J29: =J27 -> 0.2097 | K29: =(J29*I29)+I29 -> 16.367241 | L29: =ROUND(ROUND(H29,2)*ROUND(K29,2),2) -> 6205.7
C30: 2.3.2 | D30: SINAPI | E30: 94991 | F30: EXECUÇÃO DE PASSEIO (CALÇADA) OU PISO DE CONCRETO COM CONCRETO MOLDADO IN LOCO, USINADO, ACABAMENTO CONVENCIONAL, NÃO ARMADO. AF_07/2016 | G30: M3 | H30: ='memoria de cálculo'!F30 -> 10.08 | I30: 780.63 | J30: =J13 -> 0.2097 | K30: =(J30*I30)+I30 -> 944.32811 | L30: =ROUND(ROUND(H30,2)*ROUND(K30,2),2) -> 9518.85
C31: 2.4 | F31: RAMPAS | L31: =L32+L33 -> 896.64
C32: 2.4.1 | D32: SINAPI | E32: 94991 | F32: EXECUÇÃO DE PASSEIO (CALÇADA) OU PISO DE CONCRETO COM CONCRETO MOLDADO IN LOCO, USINADO, ACABAMENTO CONVENCIONAL, NÃO ARMADO. AF_07/2016 | G32: M3 | H32: ='memoria de cálculo'!F32 -> 0.61 | I32: 780.63 | J32: =J4 -> 0.2097 | K32: =(J32*I32)+I32 -> 944.32811 | L32: =ROUND(ROUND(H32,2)*ROUND(K32,2),2) -> 576.04
C33: 2.4.2 | D33: SINAPI-I | E33: 36178 | F33: PISO PODOTATIL DE CONCRETO - DIRECIONAL E ALERTA, *40 X 40 X 2,5* CM | G33: UN | H33: ='memoria de cálculo'!F33 -> 20 | I33: 14.06 | J33: =J5 -> 0.1402 | K33: =(J33*I33)+I33 -> 16.031212 | L33: =ROUND(ROUND(H33,2)*ROUND(K33,2),2) -> 320.6
C34: 2.5 | F34: SINALIZAÇÃO | L34: =L35+L36+L37+L38 -> 2108.52
C35: 2.5.1 | D35: SICRO | E35: 5213440 | F35: PLACA DE SINALIZACAO EM CHAPA DE ACO D= 0,60 M FORNECIMENTO E IMPLANTAÇÃO | G35: UN | H35: 3 | I35: 282.71 | J35: =J5 -> 0.1402 | K35: =(J35*I35)+I35 -> 322.34594 | L35: =ROUND(ROUND(H35,2)*ROUND(K35,2),2) -> 967.05
C36: 2.5.2 | D36: SICRO | E36: 5312416 | F36: PLACA DE ACO ESMALTADA PARA IDENTIFICACAO DE RUA, *45 CM X 20* CM | G36: UN | H36: ='memoria de cálculo'!F36 -> 2 | I36: 132 | J36: =J5 -> 0.1402 | K36: =(J36*I36)+I36 -> 150.5064 | L36: =ROUND(ROUND(H36,2)*ROUND(K36,2),2) -> 301.02
C37: 2.5.3 | D37: SINAPI-I | E37: 7696 | F37: TUBO ACO GALVANIZADO COM COSTURA, CLASSE MEDIA, DN 2", E = *3,65* MM, PESO *5,10* KG/M (NBR 5580) | G37: M | H37: ='memoria de cálculo'!F37 -> 9 | I37: 75 | J37: =J5 -> 0.1402 | K37: =(J37*I37)+I37 -> 85.515 | L37: =ROUND(ROUND(H37,2)*ROUND(K37,2),2) -> 769.68
C38: 2.5.4 | D38: SINAPI | E38: 94975 | F38: CONCRETO FCK = 15MPA, TRAÇO 1:3,4:3,5 (EM MASSA SECA DE CIMENTO/ AREIA MÉDIA/ BRITA 1) - PREPARO MANUAL. AF_05/2021 | G38: M3 | H38: ='memoria de cálculo'!F38 -> 0.11 | I38: 531.8 | J38: =J4 -> 0.2097 | K38: =(J38*I38)+I38 -> 643.31846 | L38: =ROUND(ROUND(H38,2)*ROUND(K38,2),2) -> 70.77
C39: 3.0 | F39: PAVIMENTAÇÃO GENERAL CÂMARA - 880 M² | L39: =L40+L48+L51+L54+L57 -> 16444.81
C40: 3.1 | F40: DRENAGEM | L40: =L41+L42+L43+L44+L45+L46+L47 -> 4580.84
C41: 3.1.1 | D41: SINAPI | E41: 90105 | F41: ESCAVAÇÃO MECANIZADA DE VALA COM PROFUNDIDADE ATÉ 1,5 M (MÉDIA ENTRE MONTANTE E JUSANTE/UMA COMPOSIÇÃO POR TRECHO) COM RETROESCAVADEIRA (CAPACIDADE DA CAÇAMBA DA RETRO: 0,26 M3 / POTÊNCIA: 88 HP), LARGURA MENOR QUE 0,8 M, EM SOLO DE 1A CATEGORIA, LOCAISCOM BAIXO NÍVEL DE INTERFERÊNCIA. AF_02/2021 | G41: M3 | J41: =J4 -> 0.2097 | K41: =(J41*I41)+I41 -> 0 | L41: =K41*H41 -> 0
C42: 3.1.2 | D42: SINAPI | E42: 93378 | F42: REATERRO MECANIZADO DE VALA COM RETROESCAVADEIRA (CAPACIDADE DA CAÇAMBA DA RETRO: 0,26 M³ / POTÊNCIA: 88 HP), LARGURA ATÉ 0,8 M, PROFUNDIDADE ATÉ 1,5 M, COM SOLO DE 1ª CATEGORIA EM LOCAIS COM BAIXO NÍVEL DE INTERFERÊNCIA. AF_04/2016 | G42: M3 | J42: =J4 -> 0.2097 | K42: =(J42*I42)+I42 -> 0 | L42: =K42*H42 -> 0
C43: 3.1.3 | D43: SINAPI-I | E43: 37451 | F43: TUBO DE CONCRETO SIMPLES PARA AGUAS PLUVIAIS, CLASSE PS1, COM ENCAIXE MACHO E FEMEA, DIAMETRO NOMINAL DE 400 MM | G43: M | J43: =J5 -> 0.1402 | K43: =(J43*I43)+I43 -> 0 | L43: =K43*H43 -> 0
C44: 3.1.4 | D44: SINAPI | E44: 92809 | F44: ASSENTAMENTO DE TUBO DE CONCRETO PARA REDES COLETORAS DE ÁGUAS PLUVIAIS, DIÂMETRO DE 400 MM, JUNTA RÍGIDA, INSTALADO EM LOCAL COM BAIXO NÍVEL DE INTERFERÊNCIAS (NÃO INCLUI FORNECIMENTO). AF_12/2015 | G44: M | J44: =J4 -> 0.2097 | K44: =(J44*I44)+I44 -> 0 | L44: =K44*H44 -> 0
C45: 3.1.5 | D45: SINAPI | E45: 37453 | F45: TUBO DE CONCRETO SIMPLES PARA AGUAS PLUVIAIS, CLASSE PS1, COM ENCAIXE MACHO E FEMEA, DIAMETRO NOMINAL DE 600 MM | G45: M | J45: =J4 -> 0.2097 | K45: =(J45*I45)+I45 -> 0 | L45: =K45*H45 -> 0
C46: 3.1.6 | D46: SINAPI | E46: 92811 | F46: ASSENTAMENTO DE TUBO DE CONCRETO PARA REDES COLETORAS DE ÁGUAS PLUVIAIS, DIÂMETRO DE 600 MM, JUNTA RÍGIDA, INSTALADO EM LOCAL COM BAIXO NÍVEL DE INTERFERÊNCIAS (NÃO INCLUI FORNECIMENTO). AF_12/2015 | G46: M | J46: =J4 -> 0.2097 | K46: =(J46*I46)+I46 -> 0 | L46: =K46*H46 -> 0
C47: 3.1.7 | D47: SINAPI | E47: 97949 | F47: CAIXA PARA BOCA DE LOBO SIMPLES RETANGULAR, EM ALVENARIA COM TIJOLOS CERÂMICOS MACIÇOS, DIMENSÕES INTERNAS: 0,6X1X1,2 M. AF_12/2020 | G47: UNID | H47: 2 | I47: 1893.38 | J47: =J4 -> 0.2097 | K47: =(J47*I47)+I47 -> 2290.4218 | L47: =ROUND(ROUND(H47,2)*ROUND(K47,2),2) -> 4580.84
C48: 3.2 | F48: PAVIMENTAÇÃO | L48: =L49+L50 -> 0
C49: 3.2.1 | D49: SINAPI | E49: 94273 | F49: ASSENTAMENTO DE GUIA (MEIO-FIO) EM TRECHO RETO, CONFECCIONADA EM CONCRETO PRÉ-FABRICADO, DIMENSÕES 100X15X13X30 CM (COMPRIMENTO X BASE INFERIOR X BASE SUPERIOR X ALTURA), PARA VIAS URBANAS (USO VIÁRIO). AF_06/2016 | G49: M | J49: =J4 -> 0.2097 | K49: =(J49*I49)+I49 -> 0 | L49: =K49*H49 -> 0
C50: 3.2.2 | D50: Composição | E50: 01 | F50: PAVIMENTO EM PARALELEPÍPEDO SOBRE COLCHÃO PÓ DE BRITA REJUNTADO AS VALAS COM ARGAMASSA DE CIMENTO E AREIA | G50: M2 | J50: =J49 -> 0.2097 | K50: =(J50*I50)+I50 -> 0 | L50: =K50*H50 -> 0
C51: 3.3 | F51: PASSEIOS | L51: =L52+L53 -> 10044.24
C52: 3.3.1 | D52: SINAPI | E52: 96385 | F52: EXECUÇÃO E COMPACTAÇÃO DE ATERRO COM SOLO PREDOMINANTEMENTE ARGILOSO - EXCLUSIVE SOLO, ESCAVAÇÃO, CARGA E TRANSPORTE. AF_11/2019 | G52: M3 | H52: 147 | I52: 13.06 | J52: =J50 -> 0.2097 | K52: =(J52*I52)+I52 -> 15.798682 | L52: =ROUND(ROUND(H52,2)*ROUND(K52,2),2) -> 2322.6
C53: 3.3.2 | D53: SINAPI | E53: 94991 | F53: EXECUÇÃO DE PASSEIO (CALÇADA) OU PISO DE CONCRETO COM CONCRETO MOLDADO IN LOCO, USINADO, ACABAMENTO CONVENCIONAL, NÃO ARMADO. AF_07/2016 | G53: M3 | H53: 8.16 | I53: 782.24 | J53: =J4 -> 0.2097 | K53: =(J53*I53)+I53 -> 946.27573 | L53: =ROUND(ROUND(H53,2)*ROUND(K53,2),2) -> 7721.64
C54: 3.4 | F54: RAMPAS | L54: =L55+L56 -> 355.91
C55: 3.4.1 | D55: SINAPI | E55: 94991 | F55: EXECUÇÃO DE PASSEIO (CALÇADA) OU PISO DE CONCRETO COM CONCRETO MOLDADO IN LOCO, USINADO, ACABAMENTO CONVENCIONAL, NÃO ARMADO. AF_07/2016 | G55: M3 | H55: 0.24 | I55: 782.24 | J55: =J4 -> 0.2097 | K55: =(J55*I55)+I55 -> 946.27573 | L55: =ROUND(ROUND(H55,2)*ROUND(K55,2),2) -> 227.11
C56: 3.4.2 | D56: SINAPI-I | E56: 36178 | F56: PISO PODOTATIL DE CONCRETO - DIRECIONAL E ALERTA, *40 X 40 X 2,5* CM | G56: UN | H56: 8 | I56: 14.12 | J56: =J5 -> 0.1402 | K56: =(J56*I56)+I56 -> 16.099624 | L56: =ROUND(ROUND(H56,2)*ROUND(K56,2),2) -> 128.8
C57: 3.5 | F57: SINALIZAÇÃO | L57: =L58+L59+L60+L61 -> 1463.82
C58: 3.5.1 | D58: SICRO | E58: 5213440 | F58: PLACA DE SINALIZACAO EM CHAPA DE ACO D= 0,60 M FORNECIMENTO E IMPLANTAÇÃO | G58: UN | H58: 1 | I58: 282.71 | J58: =J5 -> 0.1402 | K58: =(J58*I58)+I58 -> 322.34594 | L58: =ROUND(ROUND(H58,2)*ROUND(K58,2),2) -> 322.35
C59: 3.5.2 | D59: SICRO | E59: 5312416 | F59: PLACA DE ACO ESMALTADA PARA IDENTIFICACAO DE RUA, *45 CM X 20* CM | G59: UN | H59: 2 | I59: 132 | J59: =J5 -> 0.1402 | K59: =(J59*I59)+I59 -> 150.5064 | L59: =ROUND(ROUND(H59,2)*ROUND(K59,2),2) -> 301.02
C60: 3.5.3 | D60: SINAPI-I | E60: 7696 | F60: TUBO ACO GALVANIZADO COM COSTURA, CLASSE MEDIA, DN 2", E = *3,65* MM, PESO *5,10* KG/M (NBR 5580) | G60: M | H60: 9 | I60: 75 | J60: =J5 -> 0.1402 | K60: =(J60*I60)+I60 -> 85.515 | L60: =ROUND(ROUND(H60,2)*ROUND(K60,2),2) -> 769.68
C61: 3.5.4 | D61: SINAPI | E61: 94975 | F61: CONCRETO FCK = 15MPA, TRAÇO 1:3,4:3,5 (EM MASSA SECA DE CIMENTO/ AREIA MÉDIA/ BRITA 1) - PREPARO MANUAL. AF_05/2021 | G61: M3 | H61: 0.11 | I61: 531.8 | J61: =J4 -> 0.2097 | K61: =(J61*I61)+I61 -> 643.31846 | L61: =ROUND(ROUND(H61,2)*ROUND(K61,2),2) -> 70.77
C62: 4 | F62: PAVIMENTAÇÃO RUA EDUARDO PUMPMACKER - 736 M² | L62: =L63+L71+L74+L77+L80 -> 0
C63: 4.1 | F63: DRENAGEM | L63: =L64+L65+L66+L67+L68+L69+L70 -> 0
C64: 4.1.1 | D64: SINAPI | E64: 90105 | F64: ESCAVAÇÃO MECANIZADA DE VALA COM PROFUNDIDADE ATÉ 1,5 M (MÉDIA ENTRE MONTANTE E JUSANTE/UMA COMPOSIÇÃO POR TRECHO) COM RETROESCAVADEIRA (CAPACIDADE DA CAÇAMBA DA RETRO: 0,26 M3 / POTÊNCIA: 88 HP), LARGURA MENOR QUE 0,8 M, EM SOLO DE 1A CATEGORIA, LOCAISCOM BAIXO NÍVEL DE INTERFERÊNCIA. AF_02/2021 | G64: M3 | J64: =J13 -> 0.2097 | K64: =(J64*I64)+I64 -> 0 | L64: =K64*H64 -> 0
C65: 4.1.2 | D65: SINAPI | E65: 93378 | F65: REATERRO MECANIZADO DE VALA COM RETROESCAVADEIRA (CAPACIDADE DA CAÇAMBA DA RETRO: 0,26 M³ / POTÊNCIA: 88 HP), LARGURA ATÉ 0,8 M, PROFUNDIDADE ATÉ 1,5 M, COM SOLO DE 1ª CATEGORIA EM LOCAIS COM BAIXO NÍVEL DE INTERFERÊNCIA. AF_04/2016 | G65: M3 | J65: =J4 -> 0.2097 | K65: =(J65*I65)+I65 -> 0 | L65: =K65*H65 -> 0
C66: 4.1.3 | D66: SINAPI-I | E66: 37450 | F66: TUBO DE CONCRETO SIMPLES PARA AGUAS PLUVIAIS, CLASSE PS1, COM ENCAIXE MACHO E FEMEA, DIAMETRO NOMINAL DE 300 MM | G66: M | J66: =J5 -> 0.1402 | K66: =(J66*I66)+I66 -> 0 | L66: =K66*H66 -> 0
C67: 4.1.4 | D67: SINAPI | E67: 92808 | F67: ASSENTAMENTO DE TUBO DE CONCRETO PARA REDES COLETORAS DE ÁGUAS PLUVIAIS, DIÂMETRO DE 300 MM, JUNTA RÍGIDA, INSTALADO EM LOCAL COM BAIXO NÍVEL DE INTERFERÊNCIAS (NÃO INCLUI FORNECIMENTO). AF_12/2015 | G67: M | J67: =J4 -> 0.2097 | K67: =(J67*I67)+I67 -> 0 | L67: =K67*H67 -> 0
C68: 4.1.5 | D68: SINAPI-I | E68: 37451 | F68: TUBO DE CONCRETO SIMPLES PARA AGUAS PLUVIAIS, CLASSE PS1, COM ENCAIXE MACHO E FEMEA, DIAMETRO NOMINAL DE 400 MM | G68: M | J68: =J5 -> 0.1402 | K68: =(J68*I68)+I68 -> 0 | L68: =K68*H68 -> 0
C69: 4.1.6 | D69: SINAPI | E69: 92809 | F69: ASSENTAMENTO DE TUBO DE CONCRETO PARA REDES COLETORAS DE ÁGUAS PLUVIAIS, DIÂMETRO DE 400 MM, JUNTA RÍGIDA, INSTALADO EM LOCAL COM BAIXO NÍVEL DE INTERFERÊNCIAS (NÃO INCLUI FORNECIMENTO). AF_12/2015 | G69: M | J69: =J64 -> 0.2097 | K69: =(J69*I69)+I69 -> 0 | L69: =K69*H69 -> 0
C70: 4.1.7 | D70: SINAPI | E70: 97949 | F70: CAIXA PARA BOCA DE LOBO SIMPLES RETANGULAR, EM ALVENARIA COM TIJOLOS CERÂMICOS MACIÇOS, DIMENSÕES INTERNAS: 0,6X1X1,2 M. AF_12/2020 | G70: UN | J70: =J4 -> 0.2097 | K70: =(J70*I70)+I70 -> 0 | L70: =K70*H70 -> 0
C71: 4.2 | F71: PAVIMENTAÇÃO | L71: =L72+L73 -> 0
C72: 4.2.1 | D72: SINAPI | E72: 94273 | F72: ASSENTAMENTO DE GUIA (MEIO-FIO) EM TRECHO RETO, CONFECCIONADA EM CONCRETO PRÉ-FABRICADO, DIMENSÕES 100X15X13X30 CM (COMPRIMENTO X BASE INFERIOR X BASE SUPERIOR X ALTURA), PARA VIAS URBANAS (USO VIÁRIO). AF_06/2016 | G72: M | J72: =J4 -> 0.2097 | K72: =(J72*I72)+I72 -> 0 | L72: =K72*H72 -> 0
C73: 4.2.2 | D73: Composição | E73: 01 | F73: PAVIMENTO EM PARALELEPÍPEDO SOBRE COLCHÃO PÓ DE BRITA REJUNTADO AS VALAS COM ARGAMASSA DE CIMENTO E AREIA | G73: M2 | J73: =J4 -> 0.2097 | K73: =(J73*I73)+I73 -> 0 | L73: =K73*H73 -> 0
C74: 4.3 | F74: PASSEIOS | L74: =L75+L76 -> 0
C75: 4.3.1 | D75: SINAPI | E75: 94991 | F75: EXECUÇÃO DE PASSEIO (CALÇADA) OU PISO DE CONCRETO COM CONCRETO MOLDADO IN LOCO, USINADO, ACABAMENTO CONVENCIONAL, NÃO ARMADO. AF_07/2016 | G75: M3 | J75: =J4 -> 0.2097 | K75: =(J75*I75)+I75 -> 0 | L75: =K75*H75 -> 0
C76: 4.3.2 | D76: SINAPI | E76: 96385 | F76: EXECUÇÃO E COMPACTAÇÃO DE ATERRO COM SOLO PREDOMINANTEMENTE ARGILOSO - EXCLUSIVE SOLO, ESCAVAÇÃO, CARGA E TRANSPORTE. AF_11/2019 | G76: M3 | J76: =J4 -> 0.2097 | K76: =(J76*I76)+I76 -> 0 | L76: =K76*H76 -> 0
C77: 4.4 | F77: RAMPAS | L77: =L78+L79 -> 0
C78: 4.4.1 | D78: SINAPI | E78: 94991 | F78: EXECUÇÃO DE PASSEIO (CALÇADA) OU PISO DE CONCRETO COM CONCRETO MOLDADO IN LOCO, USINADO, ACABAMENTO CONVENCIONAL, NÃO ARMADO. AF_07/2016 | G78: M3 | J78: =J75 -> 0.2097 | K78: =(J78*I78)+I78 -> 0 | L78: =K78*H78 -> 0
C79: 4.4.2 | D79: SINAPI-I | E79: 36178 | F79: PISO PODOTATIL DE CONCRETO - DIRECIONAL E ALERTA, *40 X 40 X 2,5* CM | G79: UN | J79: =J5 -> 0.1402 | K79: =(J79*I79)+I79 -> 0 | L79: =K79*H79 -> 0
C80: 4.5 | F80: SINALIZAÇÃO | L80: =L81+L82+L83+L84 -> 0
C81: 4.5.1 | D81: SINAPI-I | E81: 34723 | F81: PLACA DE SINALIZACAO EM CHAPA DE ACO NUM 16 COM PINTURA REFLETIVA | G81: M2 | J81: =J5 -> 0.1402 | K81: =(J81*I81)+I81 -> 0 | L81: =K81*H81 -> 0
C82: 4.5.2 | D82: SINAPI-I | E82: 13521 | F82: PLACA DE ACO ESMALTADA PARA IDENTIFICACAO DE RUA, *45 CM X 20* CM | G82: UN | J82: =J5 -> 0.1402 | K82: =(J82*I82)+I82 -> 0 | L82: =K82*H82 -> 0
C83: 4.5.3 | D83: SINAPI-I | E83: 7696 | F83: TUBO ACO GALVANIZADO COM COSTURA, CLASSE MEDIA, DN 2", E = *3,65* MM, PESO *5,10* KG/M (NBR 5580) | G83: M | J83: =J5 -> 0.1402 | K83: =(J83*I83)+I83 -> 0 | L83: =K83*H83 -> 0
C84: 4.5.4 | D84: SINAPI | E84: 94975 | F84: CONCRETO FCK = 15MPA, TRAÇO 1:3,4:3,5 (EM MASSA SECA DE CIMENTO/ AREIA MÉDIA/ BRITA 1) - PREPARO MANUAL. AF_05/2021 | G84: M3 | J84: =J4 -> 0.2097 | K84: =(J84*I84)+I84 -> 0 | L84: =K84*H84 -> 0
C86: Salto do Jacuí/RS,maio de 2026.
F90: ______________________________________________
F91: JOSIELI FERREIRA
F92: CAU/RS A187139-0

Sheet ORÇAMENTO SINAPI 2021
C2: PREFEITURA MUNICIPAL DE SALTO DO JACUÍ
C4: OBRA | D4: PAVIMENTAÇÃO TRECHO RUA GENERAL CÂMARA E RUA E. PUMPMAKER | G4: BDI | H4: NÃO DESONERADO | J4: 0.2097 | K4: SINAPI 12/2021
C5: ÁREA | D5: 2.816 M² | G5: BDI | H5: MATERIAIS | J5: 0.1402
C6: CR | D6: 851027/2017
C7: PLANILHA ORÇAMENTÁRIA - NÃO DESONERADA
I8: CUSTO | J8: BDI | K8: CUSTO | L8: VALOR
C9: ITEM | D9: FONTE | E9: CÓDIGO | F9: DESCRIÇÃO | G9: UNID | H9: QUANT | I9: UNIT | J9: % | K9: UNIT+BDI | L9: TOTAL
F10: PAVIMENTAÇÃO DE RUAS E DRENAGEM | L10: =L11+L14+L37+L60 -> 55160.849
C11: 1.0 | F11: SERVIÇOS INICIAIS | L11: =L12+L13 -> 5990.9315
C12: 1.1 | D12: SINAPI-I | E12: 4813 | F12: PLACA DE OBRA (PARA CONSTRUCAO CIVIL) EM CHAPA GALVANIZADA *N. 22*, ADESIVADA, DE *2,0 X 1,125* M | G12: M2 | H12: ='memoria de cálculo'!F11 -> 2.88 | I12: 174.03 | J12: =$J$5 -> 0.1402 | K12: =I12+ (I12*$J$12) -> 198.42901 | L12: =K12*H12 -> 571.47554
C13: 1.2 | D13: SINAPI | E13: 90777 | F13: ENGENHEIRO CIVIL DE OBRA JUNIOR COM ENCARGOS COMPLEMENTARES | G13: H | H13: 64 | I13: 70 | J13: =$J$4 -> 0.2097 | K13: =I13+ (I13*$J$13) -> 84.679 | L13: =K13*H13 -> 5419.456
C14: 2.0 | F14: PAVIMENTAÇÃO GENERAL CÂMARA - 1.200 M² | L14: =L15+L23+L26++L29+L32 -> 38729.275
C15: 2.1 | F15: DRENAGEM | L15: =L16+L17+L18+L19+L20+L21+L22 -> 3453.7728
C16: 2.1.1 | D16: SINAPI | E16: 90105 | F16: ESCAVAÇÃO MECANIZADA DE VALA COM PROFUNDIDADE ATÉ 1,5 M (MÉDIA ENTRE MONTANTE E JUSANTE/UMA COMPOSIÇÃO POR TRECHO) COM RETROESCAVADEIRA (CAPACIDADE DA CAÇAMBA DA RETRO: 0,26 M3 / POTÊNCIA: 88 HP), LARGURA MENOR QUE 0,8 M, EM SOLO DE 1A CATEGORIA, LOCAISCOM BAIXO NÍVEL DE INTERFERÊNCIA. AF_02/2021 | G16: M3 | I16: 5.87 | J16: =$J$4 -> 0.2097 | K16: =(J16*I16)+I16 -> 7.100939 | L16: =K16*H16 -> 0
C17: 2.1.2 | D17: SINAPI | E17: 93378 | F17: REATERRO MECANIZADO DE VALA COM RETROESCAVADEIRA (CAPACIDADE DA CAÇAMBA DA RETRO: 0,26 M³ / POTÊNCIA: 88 HP), LARGURA ATÉ 0,8 M, PROFUNDIDADE ATÉ 1,5 M, COM SOLO DE 1ª CATEGORIA EM LOCAIS COM BAIXO NÍVEL DE INTERFERÊNCIA. AF_04/2016 | G17: M3 | I17: 17.7 | J17: =$J$4 -> 0.2097 | K17: =(J17*I17)+I17 -> 21.41169 | L17: =K17*H17 -> 0
C18: 2.1.3 | D18: SINAPI-I | E18: 37451 | F18: TUBO DE CONCRETO SIMPLES PARA AGUAS PLUVIAIS, CLASSE PS1, COM ENCAIXE MACHO E FEMEA, DIAMETRO NOMINAL DE 400 MM | G18: M | I18: 38.44 | J18: =$J$5 -> 0.1402 | K18: =(J18*I18)+I18 -> 43.829288 | L18: =K18*H18 -> 0
C19: 2.1.4 | D19: SINAPI | E19: 92809 | F19: ASSENTAMENTO DE TUBO DE CONCRETO PARA REDES COLETORAS DE ÁGUAS PLUVIAIS, DIÂMETRO DE 400 MM, JUNTA RÍGIDA, INSTALADO EM LOCAL COM BAIXO NÍVEL DE INTERFERÊNCIAS (NÃO INCLUI FORNECIMENTO). AF_12/2015 | G19: M | I19: 38.67 | J19: =J13 -> 0.2097 | K19: =(J19*I19)+I19 -> 46.779099 | L19: =K19*H19 -> 0
C20: 2.1.5 | D20: SINAPI-I | E20: 37453 | F20: TUBO DE CONCRETO SIMPLES PARA AGUAS PLUVIAIS, CLASSE PS1, COM ENCAIXE MACHO E FEMEA, DIAMETRO NOMINAL DE 600 MM | G20: M | H20: 30.44 | I20: 67.6 | J20: =$J$5 -> 0.1402 | K20: =(J20*I20)+I20 -> 77.07752 | L20: =K20*H20 -> 2346.2397
C21: 2.1.6 | D21: SINAPI | E21: 92811 | F21: ASSENTAMENTO DE TUBO DE CONCRETO PARA REDES COLETORAS DE ÁGUAS PLUVIAIS, DIÂMETRO DE 600 MM, JUNTA RÍGIDA, INSTALADO EM LOCAL COM BAIXO NÍVEL DE INTERFERÊNCIAS (NÃO INCLUI FORNECIMENTO). AF_12/2015 | G21: M | H21: 16.44 | I21: 55.69 | J21: =$J$13 -> 0.2097 | K21: =(J21*I21)+I21 -> 67.368193 | L21: =K21*H21 -> 1107.5331
C22: 2.1.7 | D22: SINAPI | E22: 97949 | F22: CAIXA PARA BOCA DE LOBO SIMPLES RETANGULAR, EM ALVENARIA COM TIJOLOS CERÂMICOS MACIÇOS, DIMENSÕES INTERNAS: 0,6X1X1,2 M. AF_12/2020 | G22: UNID | I22: 1237.6 | J22: =$J$13 -> 0.2097 | K22: =(J22*I22)+I22 -> 1497.1247 | L22: =K22*H22 -> 0
C23: 2.2 | F23: PAVIMENTAÇÃO | L23: =L24+L25 -> 24222.597
C24: 2.1 | D24: SINAPI | E24: 94273 | F24: ASSENTAMENTO DE GUIA (MEIO-FIO) EM TRECHO RETO, CONFECCIONADA EM CONCRETO PRÉ-FABRICADO, DIMENSÕES 100X15X13X30 CM (COMPRIMENTO X BASE INFERIOR X BASE SUPERIOR X ALTURA), PARA VIAS URBANAS (USO VIÁRIO). AF_06/2016 | G24: M | H24: 36 | I24: 38.74 | J24: =$J$13 -> 0.2097 | K24: =(J24*I24)+I24 -> 46.863778 | L24: =K24*H24 -> 1687.096
C25: 2.2.2 | D25: Composição | E25: 01 | F25: PAVIMENTO EM PARALELEPÍPEDO SOBRE COLCHÃO PÓ DE BRITA REJUNTADO AS VALAS COM ARGAMASSA DE CIMENTO E AREIA | G25: M2 | H25: 260 | I25: 71.65 | J25: =$J$13 -> 0.2097 | K25: =(J25*I25)+I25 -> 86.675005 | L25: =K25*H25 -> 22535.501
C26: 2.3 | F26: PASSEIOS | L26: =L27+L28 -> 9421.9141
C27: 2.3.1 | D27: SINAPI | E27: 96385 | F27: EXECUÇÃO E COMPACTAÇÃO DE ATERRO COM SOLO PREDOMINANTEMENTE ARGILOSO - EXCLUSIVE SOLO, ESCAVAÇÃO, CARGA E TRANSPORTE. AF_11/2019 | G27: M3 | H27: ='memoria de cálculo'!F29 -> 379.09 | I27: 7.65 | J27: =J25 -> 0.2097 | K27: =(J27*I27)+I27 -> 9.254205 | L27: =K27*H27 -> 3508.1766
C28: 2.3.2 | D28: SINAPI | E28: 94991 | F28: EXECUÇÃO DE PASSEIO (CALÇADA) OU PISO DE CONCRETO COM CONCRETO MOLDADO IN LOCO, USINADO, ACABAMENTO CONVENCIONAL, NÃO ARMADO. AF_07/2016 | G28: M3 | H28: ='memoria de cálculo'!F30 -> 10.08 | I28: 484.98 | J28: =J13 -> 0.2097 | K28: =(J28*I28)+I28 -> 586.68031 | L28: =K28*H28 -> 5913.7375
C29: 2.4 | F29: RAMPAS | L29: =L30+L31 -> 549.88467
C30: 2.4.1 | D30: SINAPI | E30: 94991 | F30: EXECUÇÃO DE PASSEIO (CALÇADA) OU PISO DE CONCRETO COM CONCRETO MOLDADO IN LOCO, USINADO, ACABAMENTO CONVENCIONAL, NÃO ARMADO. AF_07/2016 | G30: M3 | H30: ='memoria de cálculo'!F32 -> 0.61 | I30: 484.98 | J30: =J4 -> 0.2097 | K30: =(J30*I30)+I30 -> 586.68031 | L30: =K30*H30 -> 357.87499
C31: 2.4.2 | D31: SINAPI-I | E31: 36178 | F31: PISO PODOTATIL DE CONCRETO - DIRECIONAL E ALERTA, *40 X 40 X 2,5* CM | G31: UN | H31: ='memoria de cálculo'!F33 -> 20 | I31: 8.42 | J31: =J5 -> 0.1402 | K31: =(J31*I31)+I31 -> 9.600484 | L31: =K31*H31 -> 192.00968
C32: 2.5 | F32: SINALIZAÇÃO | L32: =L33+L34+L35+L36 -> 1081.1062
C33: 2.5.1 | D33: SINAPI-I | E33: 34723 | F33: PLACA DE SINALIZACAO EM CHAPA DE ACO NUM 16 COM PINTURA REFLETIVA | G33: M2 | H33: ='memoria de cálculo'!F35 -> 0.25 | I33: 402.01 | J33: =J5 -> 0.1402 | K33: =(J33*I33)+I33 -> 458.3718 | L33: =K33*H33 -> 114.59295
C34: 2.5.2 | D34: SINAPI-I | E34: 13521 | F34: PLACA DE ACO ESMALTADA PARA IDENTIFICACAO DE RUA, *45 CM X 20* CM | G34: UN | H34: ='memoria de cálculo'!F36 -> 2 | I34: 57.39 | J34: =J5 -> 0.1402 | K34: =(J34*I34)+I34 -> 65.436078 | L34: =K34*H34 -> 130.87216
C35: 2.5.3 | D35: SINAPI-I | E35: 7696 | F35: TUBO ACO GALVANIZADO COM COSTURA, CLASSE MEDIA, DN 2", E = *3,65* MM, PESO *5,10* KG/M (NBR 5580) | G35: M | H35: ='memoria de cálculo'!F37 -> 9 | I35: 77.35 | J35: =J5 -> 0.1402 | K35: =(J35*I35)+I35 -> 88.19447 | L35: =K35*H35 -> 793.75023
C36: 2.5.4 | D36: SINAPI | E36: 94975 | F36: CONCRETO FCK = 15MPA, TRAÇO 1:3,4:3,5 (EM MASSA SECA DE CIMENTO/ AREIA MÉDIA/ BRITA 1) - PREPARO MANUAL. AF_05/2021 | G36: M3 | H36: ='memoria de cálculo'!F38 -> 0.11 | I36: 314.81 | J36: =J4 -> 0.2097 | K36: =(J36*I36)+I36 -> 380.82566 | L36: =K36*H36 -> 41.890822
C37: 3.0 | F37: PAVIMENTAÇÃO GENERAL CÂMARA - 880 M² | L37: =L38+L46+L49+L52+L55 -> 10440.642
C38: 3.1 | F38: DRENAGEM | L38: =L39+L40+L41+L42+L43+L44+L45 -> 2994.2494
C39: 3.1.1 | D39: SINAPI | E39: 90105 | F39: ESCAVAÇÃO MECANIZADA DE VALA COM PROFUNDIDADE ATÉ 1,5 M (MÉDIA ENTRE MONTANTE E JUSANTE/UMA COMPOSIÇÃO POR TRECHO) COM RETROESCAVADEIRA (CAPACIDADE DA CAÇAMBA DA RETRO: 0,26 M3 / POTÊNCIA: 88 HP), LARGURA MENOR QUE 0,8 M, EM SOLO DE 1A CATEGORIA, LOCAISCOM BAIXO NÍVEL DE INTERFERÊNCIA. AF_02/2021 | G39: M3 | J39: =J4 -> 0.2097 | K39: =(J39*I39)+I39 -> 0 | L39: =K39*H39 -> 0
C40: 3.1.2 | D40: SINAPI | E40: 93378 | F40: REATERRO MECANIZADO DE VALA COM RETROESCAVADEIRA (CAPACIDADE DA CAÇAMBA DA RETRO: 0,26 M³ / POTÊNCIA: 88 HP), LARGURA ATÉ 0,8 M, PROFUNDIDADE ATÉ 1,5 M, COM SOLO DE 1ª CATEGORIA EM LOCAIS COM BAIXO NÍVEL DE INTERFERÊNCIA. AF_04/2016 | G40: M3 | J40: =J4 -> 0.2097 | K40: =(J40*I40)+I40 -> 0 | L40: =K40*H40 -> 0
C41: 3.1.3 | D41: SINAPI-I | E41: 37451 | F41: TUBO DE CONCRETO SIMPLES PARA AGUAS PLUVIAIS, CLASSE PS1, COM ENCAIXE MACHO E FEMEA, DIAMETRO NOMINAL DE 400 MM | G41: M | J41: =J5 -> 0.1402 | K41: =(J41*I41)+I41 -> 0 | L41: =K41*H41 -> 0
C42: 3.1.4 | D42: SINAPI | E42: 92809 | F42: ASSENTAMENTO DE TUBO DE CONCRETO PARA REDES COLETORAS DE ÁGUAS PLUVIAIS, DIÂMETRO DE 400 MM, JUNTA RÍGIDA, INSTALADO EM LOCAL COM BAIXO NÍVEL DE INTERFERÊNCIAS (NÃO INCLUI FORNECIMENTO). AF_12/2015 | G42: M | J42: =J4 -> 0.2097 | K42: =(J42*I42)+I42 -> 0 | L42: =K42*H42 -> 0
C43: 3.1.5 | D43: SINAPI | E43: 37453 | F43: TUBO DE CONCRETO SIMPLES PARA AGUAS PLUVIAIS, CLASSE PS1, COM ENCAIXE MACHO E FEMEA, DIAMETRO NOMINAL DE 600 MM | G43: M | J43: =J4 -> 0.2097 | K43: =(J43*I43)+I43 -> 0 | L43: =K43*H43 -> 0
C44: 3.1.6 | D44: SINAPI | E44: 92811 | F44: ASSENTAMENTO DE TUBO DE CONCRETO PARA REDES COLETORAS DE ÁGUAS PLUVIAIS, DIÂMETRO DE 600 MM, JUNTA RÍGIDA, INSTALADO EM LOCAL COM BAIXO NÍVEL DE INTERFERÊNCIAS (NÃO INCLUI FORNECIMENTO). AF_12/2015 | G44: M | J44: =J4 -> 0.2097 | K44: =(J44*I44)+I44 -> 0 | L44: =K44*H44 -> 0
C45: 3.1.7 | D45: SINAPI | E45: 97949 | F45: CAIXA PARA BOCA DE LOBO SIMPLES RETANGULAR, EM ALVENARIA COM TIJOLOS CERÂMICOS MACIÇOS, DIMENSÕES INTERNAS: 0,6X1X1,2 M. AF_12/2020 | G45: UNID | H45: 2 | I45: 1237.6 | J45: =J4 -> 0.2097 | K45: =(J45*I45)+I45 -> 1497.1247 | L45: =K45*H45 -> 2994.2494
C46: 3.2 | F46: PAVIMENTAÇÃO | L46: =L47+L48 -> 0
C47: 3.2.1 | D47: SINAPI | E47: 94273 | F47: ASSENTAMENTO DE GUIA (MEIO-FIO) EM TRECHO RETO, CONFECCIONADA EM CONCRETO PRÉ-FABRICADO, DIMENSÕES 100X15X13X30 CM (COMPRIMENTO X BASE INFERIOR X BASE SUPERIOR X ALTURA), PARA VIAS URBANAS (USO VIÁRIO). AF_06/2016 | G47: M | J47: =J4 -> 0.2097 | K47: =(J47*I47)+I47 -> 0 | L47: =K47*H47 -> 0
C48: 3.2.2 | D48: Composição | E48: 01 | F48: PAVIMENTO EM PARALELEPÍPEDO SOBRE COLCHÃO PÓ DE BRITA REJUNTADO AS VALAS COM ARGAMASSA DE CIMENTO E AREIA | G48: M2 | J48: =J47 -> 0.2097 | K48: =(J48*I48)+I48 -> 0 | L48: =K48*H48 -> 0
C49: 3.3 | F49: PASSEIOS | L49: =L50+L51 -> 6147.6794
C50: 3.3.1 | D50: SINAPI | E50: 96385 | F50: EXECUÇÃO E COMPACTAÇÃO DE ATERRO COM SOLO PREDOMINANTEMENTE ARGILOSO - EXCLUSIVE SOLO, ESCAVAÇÃO, CARGA E TRANSPORTE. AF_11/2019 | G50: M3 | H50: 147 | I50: 7.65 | J50: =J48 -> 0.2097 | K50: =(J50*I50)+I50 -> 9.254205 | L50: =K50*H50 -> 1360.3681
C51: 3.3.2 | D51: SINAPI | E51: 94991 | F51: EXECUÇÃO DE PASSEIO (CALÇADA) OU PISO DE CONCRETO COM CONCRETO MOLDADO IN LOCO, USINADO, ACABAMENTO CONVENCIONAL, NÃO ARMADO. AF_07/2016 | G51: M3 | H51: 8.16 | I51: 484.98 | J51: =J4 -> 0.2097 | K51: =(J51*I51)+I51 -> 586.68031 | L51: =K51*H51 -> 4787.3113
C52: 3.4 | F52: RAMPAS | L52: =L53+L54 -> 217.60715
C53: 3.4.1 | D53: SINAPI | E53: 94991 | F53: EXECUÇÃO DE PASSEIO (CALÇADA) OU PISO DE CONCRETO COM CONCRETO MOLDADO IN LOCO, USINADO, ACABAMENTO CONVENCIONAL, NÃO ARMADO. AF_07/2016 | G53: M3 | H53: 0.24 | I53: 484.98 | J53: =J4 -> 0.2097 | K53: =(J53*I53)+I53 -> 586.68031 | L53: =K53*H53 -> 140.80327
C54: 3.4.2 | D54: SINAPI-I | E54: 36178 | F54: PISO PODOTATIL DE CONCRETO - DIRECIONAL E ALERTA, *40 X 40 X 2,5* CM | G54: UN | H54: 8 | I54: 8.42 | J54: =J5 -> 0.1402 | K54: =(J54*I54)+I54 -> 9.600484 | L54: =K54*H54 -> 76.803872
C55: 3.5 | F55: SINALIZAÇÃO | L55: =L56+L57+L58+L59 -> 1081.1062
C56: 3.5.1 | D56: SINAPI-I | E56: 34723 | F56: PLACA DE SINALIZACAO EM CHAPA DE ACO NUM 16 COM PINTURA REFLETIVA | G56: M2 | H56: 0.25 | I56: 402.01 | J56: =J5 -> 0.1402 | K56: =(J56*I56)+I56 -> 458.3718 | L56: =K56*H56 -> 114.59295
C57: 3.5.2 | D57: SINAPI-I | E57: 13521 | F57: PLACA DE ACO ESMALTADA PARA IDENTIFICACAO DE RUA, *45 CM X 20* CM | G57: UN | H57: 2 | I57: 57.39 | J57: =J5 -> 0.1402 | K57: =(J57*I57)+I57 -> 65.436078 | L57: =K57*H57 -> 130.87216
C58: 3.5.3 | D58: SINAPI-I | E58: 7696 | F58: TUBO ACO GALVANIZADO COM COSTURA, CLASSE MEDIA, DN 2", E = *3,65* MM, PESO *5,10* KG/M (NBR 5580) | G58: M | H58: 9 | I58: 77.35 | J58: =J5 -> 0.1402 | K58: =(J58*I58)+I58 -> 88.19447 | L58: =K58*H58 -> 793.75023
C59: 3.5.4 | D59: SINAPI | E59: 94975 | F59: CONCRETO FCK = 15MPA, TRAÇO 1:3,4:3,5 (EM MASSA SECA DE CIMENTO/ AREIA MÉDIA/ BRITA 1) - PREPARO MANUAL. AF_05/2021 | G59: M3 | H59: 0.11 | I59: 314.81 | J59: =J4 -> 0.2097 | K59: =(J59*I59)+I59 -> 380.82566 | L59: =K59*H59 -> 41.890822
C60: 4 | F60: PAVIMENTAÇÃO RUA EDUARDO PUMPMACKER - 736 M² | L60: =L61+L69+L72+L75+L78 -> 0
C61: 4.1 | F61: DRENAGEM | L61: =L62+L63+L64+L65+L66+L67+L68 -> 0
C62: 4.1.1 | D62: SINAPI | E62: 90105 | F62: ESCAVAÇÃO MECANIZADA DE VALA COM PROFUNDIDADE ATÉ 1,5 M (MÉDIA ENTRE MONTANTE E JUSANTE/UMA COMPOSIÇÃO POR TRECHO) COM RETROESCAVADEIRA (CAPACIDADE DA CAÇAMBA DA RETRO: 0,26 M3 / POTÊNCIA: 88 HP), LARGURA MENOR QUE 0,8 M, EM SOLO DE 1A CATEGORIA, LOCAISCOM BAIXO NÍVEL DE INTERFERÊNCIA. AF_02/2021 | G62: M3 | J62: =J13 -> 0.2097 | K62: =(J62*I62)+I62 -> 0 | L62: =K62*H62 -> 0
C63: 4.1.2 | D63: SINAPI | E63: 93378 | F63: REATERRO MECANIZADO DE VALA COM RETROESCAVADEIRA (CAPACIDADE DA CAÇAMBA DA RETRO: 0,26 M³ / POTÊNCIA: 88 HP), LARGURA ATÉ 0,8 M, PROFUNDIDADE ATÉ 1,5 M, COM SOLO DE 1ª CATEGORIA EM LOCAIS COM BAIXO NÍVEL DE INTERFERÊNCIA. AF_04/2016 | G63: M3 | J63: =J4 -> 0.2097 | K63: =(J63*I63)+I63 -> 0 | L63: =K63*H63 -> 0
C64: 4.1.3 | D64: SINAPI-I | E64: 37450 | F64: TUBO DE CONCRETO SIMPLES PARA AGUAS PLUVIAIS, CLASSE PS1, COM ENCAIXE MACHO E FEMEA, DIAMETRO NOMINAL DE 300 MM | G64: M | J64: =J5 -> 0.1402 | K64: =(J64*I64)+I64 -> 0 | L64: =K64*H64 -> 0
C65: 4.1.4 | D65: SINAPI | E65: 92808 | F65: ASSENTAMENTO DE TUBO DE CONCRETO PARA REDES COLETORAS DE ÁGUAS PLUVIAIS, DIÂMETRO DE 300 MM, JUNTA RÍGIDA, INSTALADO EM LOCAL COM BAIXO NÍVEL DE INTERFERÊNCIAS (NÃO INCLUI FORNECIMENTO). AF_12/2015 | G65: M | J65: =J4 -> 0.2097 | K65: =(J65*I65)+I65 -> 0 | L65: =K65*H65 -> 0
C66: 4.1.5 | D66: SINAPI-I | E66: 37451 | F66: TUBO DE CONCRETO SIMPLES PARA AGUAS PLUVIAIS, CLASSE PS1, COM ENCAIXE MACHO E FEMEA, DIAMETRO NOMINAL DE 400 MM | G66: M | J66: =J5 -> 0.1402 | K66: =(J66*I66)+I66 -> 0 | L66: =K66*H66 -> 0
C67: 4.1.6 | D67: SINAPI | E67: 92809 | F67: ASSENTAMENTO DE TUBO DE CONCRETO PARA REDES COLETORAS DE ÁGUAS PLUVIAIS, DIÂMETRO DE 400 MM, JUNTA RÍGIDA, INSTALADO EM LOCAL COM BAIXO NÍVEL DE INTERFERÊNCIAS (NÃO INCLUI FORNECIMENTO). AF_12/2015 | G67: M | J67: =J62 -> 0.2097 | K67: =(J67*I67)+I67 -> 0 | L67: =K67*H67 -> 0
C68: 4.1.7 | D68: SINAPI | E68: 97949 | F68: CAIXA PARA BOCA DE LOBO SIMPLES RETANGULAR, EM ALVENARIA COM TIJOLOS CERÂMICOS MACIÇOS, DIMENSÕES INTERNAS: 0,6X1X1,2 M. AF_12/2020 | G68: UN | J68: =J4 -> 0.2097 | K68: =(J68*I68)+I68 -> 0 | L68: =K68*H68 -> 0
C69: 4.2 | F69: PAVIMENTAÇÃO | L69: =L70+L71 -> 0
C70: 4.2.1 | D70: SINAPI | E70: 94273 | F70: ASSENTAMENTO DE GUIA (MEIO-FIO) EM TRECHO RETO, CONFECCIONADA EM CONCRETO PRÉ-FABRICADO, DIMENSÕES 100X15X13X30 CM (COMPRIMENTO X BASE INFERIOR X BASE SUPERIOR X ALTURA), PARA VIAS URBANAS (USO VIÁRIO). AF_06/2016 | G70: M | J70: =J4 -> 0.2097 | K70: =(J70*I70)+I70 -> 0 | L70: =K70*H70 -> 0
C71: 4.2.2 | D71: Composição | E71: 01 | F71: PAVIMENTO EM PARALELEPÍPEDO SOBRE COLCHÃO PÓ DE BRITA REJUNTADO AS VALAS COM ARGAMASSA DE CIMENTO E AREIA | G71: M2 | J71: =J4 -> 0.2097 | K71: =(J71*I71)+I71 -> 0 | L71: =K71*H71 -> 0
C72: 4.3 | F72: PASSEIOS | L72: =L73+L74 -> 0
C73: 4.3.1 | D73: SINAPI | E73: 94991 | F73: EXECUÇÃO DE PASSEIO (CALÇADA) OU PISO DE CONCRETO COM CONCRETO MOLDADO IN LOCO, USINADO, ACABAMENTO CONVENCIONAL, NÃO ARMADO. AF_07/2016 | G73: M3 | J73: =J4 -> 0.2097 | K73: =(J73*I73)+I73 -> 0 | L73: =K73*H73 -> 0
C74: 4.3.2 | D74: SINAPI | E74: 96385 | F74: EXECUÇÃO E COMPACTAÇÃO DE ATERRO COM SOLO PREDOMINANTEMENTE ARGILOSO - EXCLUSIVE SOLO, ESCAVAÇÃO, CARGA E TRANSPORTE. AF_11/2019 | G74: M3 | J74: =J4 -> 0.2097 | K74: =(J74*I74)+I74 -> 0 | L74: =K74*H74 -> 0
C75: 4.4 | F75: RAMPAS | L75: =L76+L77 -> 0
C76: 4.4.1 | D76: SINAPI | E76: 94991 | F76: EXECUÇÃO DE PASSEIO (CALÇADA) OU PISO DE CONCRETO COM CONCRETO MOLDADO IN LOCO, USINADO, ACABAMENTO CONVENCIONAL, NÃO ARMADO. AF_07/2016 | G76: M3 | J76: =J73 -> 0.2097 | K76: =(J76*I76)+I76 -> 0 | L76: =K76*H76 -> 0
C77: 4.4.2 | D77: SINAPI-I | E77: 36178 | F77: PISO PODOTATIL DE CONCRETO - DIRECIONAL E ALERTA, *40 X 40 X 2,5* CM | G77: UN | J77: =J5 -> 0.1402 | K77: =(J77*I77)+I77 -> 0 | L77: =K77*H77 -> 0
C78: 4.5 | F78: SINALIZAÇÃO | L78: =L79+L80+L81+L82 -> 0
C79: 4.5.1 | D79: SINAPI-I | E79: 34723 | F79: PLACA DE SINALIZACAO EM CHAPA DE ACO NUM 16 COM PINTURA REFLETIVA | G79: M2 | J79: =J5 -> 0.1402 | K79: =(J79*I79)+I79 -> 0 | L79: =K79*H79 -> 0
C80: 4.5.2 | D80: SINAPI-I | E80: 13521 | F80: PLACA DE ACO ESMALTADA PARA IDENTIFICACAO DE RUA, *45 CM X 20* CM | G80: UN | J80: =J5 -> 0.1402 | K80: =(J80*I80)+I80 -> 0 | L80: =K80*H80 -> 0
C81: 4.5.3 | D81: SINAPI-I | E81: 7696 | F81: TUBO ACO GALVANIZADO COM COSTURA, CLASSE MEDIA, DN 2", E = *3,65* MM, PESO *5,10* KG/M (NBR 5580) | G81: M | J81: =J5 -> 0.1402 | K81: =(J81*I81)+I81 -> 0 | L81: =K81*H81 -> 0
C82: 4.5.4 | D82: SINAPI | E82: 94975 | F82: CONCRETO FCK = 15MPA, TRAÇO 1:3,4:3,5 (EM MASSA SECA DE CIMENTO/ AREIA MÉDIA/ BRITA 1) - PREPARO MANUAL. AF_05/2021 | G82: M3 | J82: =J4 -> 0.2097 | K82: =(J82*I82)+I82 -> 0 | L82: =K82*H82 -> 0
C84: Salto do Jacuí/RS, dezembro 2021.
F88: ______________________________________________
F89: JOSIELI FERREIRA
F90: CAU/RS A187139-0

Sheet BOLETIM DE MEDIÇÃO 8
C2: PREFEITURA MUNICIPAL DE SALTO DO JACUÍ
C4: OBRA | D4: PAVIMENTAÇÃO TRECHO RUA GENERAL CÂMARA E RUA E. PUMPMAKER | G4: BDI | H4: NÃO DESONERADO | J4: 0.2097 | K4: SINAPI 12/2026
C5: ÁREA | D5: 2.816 M² | G5: BDI | H5: MATERIAIS | J5: 0.1402
C6: CR | D6: 851027/2017
C7: PLANILHA ORÇAMENTÁRIA - NÃO DESONERADA
I8: CUSTO | J8: BDI | K8: CUSTO | L8: VALOR
C9: ITEM | D9: FONTE | E9: CÓDIGO | F9: DESCRIÇÃO | G9: UNID | H9: QUANT | I9: UNIT | J9: % | K9: UNIT+BDI | L9: TOTAL
F10: PAVIMENTAÇÃO DE RUAS E DRENAGEM | L10: =L11+L14+L37+L60 -> 55160.849
C11: 1.0 | F11: SERVIÇOS INICIAIS | L11: =L12+L13 -> 5990.9315
C12: 1.1 | D12: SINAPI-I | E12: 4813 | F12: PLACA DE OBRA (PARA CONSTRUCAO CIVIL) EM CHAPA GALVANIZADA *N. 22*, ADESIVADA, DE *2,0 X 1,125* M | G12: M2 | H12: ='memoria de cálculo'!F11 -> 2.88 | I12: 174.03 | J12: =$J$5 -> 0.1402 | K12: =I12+ (I12*$J$12) -> 198.42901 | L12: =K12*H12 -> 571.47554
C13: 1.2 | D13: SINAPI | E13: 90777 | F13: ENGENHEIRO CIVIL DE OBRA JUNIOR COM ENCARGOS COMPLEMENTARES | G13: H | H13: 64 | I13: 70 | J13: =$J$4 -> 0.2097 | K13: =I13+ (I13*$J$13) -> 84.679 | L13: =K13*H13 -> 5419.456
C14: 2.0 | F14: PAVIMENTAÇÃO GENERAL CÂMARA - 1.200 M² | L14: =L15+L23+L26++L29+L32 -> 38729.275
C15: 2.1 | F15: DRENAGEM | L15: =L16+L17+L18+L19+L20+L21+L22 -> 3453.7728
C16: 2.1.1 | D16: SINAPI | E16: 90105 | F16: ESCAVAÇÃO MECANIZADA DE VALA COM PROFUNDIDADE ATÉ 1,5 M (MÉDIA ENTRE MONTANTE E JUSANTE/UMA COMPOSIÇÃO POR TRECHO) COM RETROESCAVADEIRA (CAPACIDADE DA CAÇAMBA DA RETRO: 0,26 M3 / POTÊNCIA: 88 HP), LARGURA MENOR QUE 0,8 M, EM SOLO DE 1A CATEGORIA, LOCAISCOM BAIXO NÍVEL DE INTERFERÊNCIA. AF_02/2021 | G16: M3 | I16: 5.87 | J16: =$J$4 -> 0.2097 | K16: =(J16*I16)+I16 -> 7.100939 | L16: =K16*H16 -> 0
C17: 2.1.2 | D17: SINAPI | E17: 93378 | F17: REATERRO MECANIZADO DE VALA COM RETROESCAVADEIRA (CAPACIDADE DA CAÇAMBA DA RETRO: 0,26 M³ / POTÊNCIA: 88 HP), LARGURA ATÉ 0,8 M, PROFUNDIDADE ATÉ 1,5 M, COM SOLO DE 1ª CATEGORIA EM LOCAIS COM BAIXO NÍVEL DE INTERFERÊNCIA. AF_04/2016 | G17: M3 | I17: 17.7 | J17: =$J$4 -> 0.2097 | K17: =(J17*I17)+I17 -> 21.41169 | L17: =K17*H17 -> 0
C18: 2.1.3 | D18: SINAPI-I | E18: 37451 | F18: TUBO DE CONCRETO SIMPLES PARA AGUAS PLUVIAIS, CLASSE PS1, COM ENCAIXE MACHO E FEMEA, DIAMETRO NOMINAL DE 400 MM | G18: M | I18: 38.44 | J18: =$J$5 -> 0.1402 | K18: =(J18*I18)+I18 -> 43.829288 | L18: =K18*H18 -> 0
C19: 2.1.4 | D19: SINAPI | E19: 92809 | F19: ASSENTAMENTO DE TUBO DE CONCRETO PARA REDES COLETORAS DE ÁGUAS PLUVIAIS, DIÂMETRO DE 400 MM, JUNTA RÍGIDA, INSTALADO EM LOCAL COM BAIXO NÍVEL DE INTERFERÊNCIAS (NÃO INCLUI FORNECIMENTO). AF_12/2015 | G19: M | I19: 38.67 | J19: =J13 -> 0.2097 | K19: =(J19*I19)+I19 -> 46.779099 | L19: =K19*H19 -> 0
C20: 2.1.5 | D20: SINAPI-I | E20: 37453 | F20: TUBO DE CONCRETO SIMPLES PARA AGUAS PLUVIAIS, CLASSE PS1, COM ENCAIXE MACHO E FEMEA, DIAMETRO NOMINAL DE 600 MM | G20: M | H20: 30.44 | I20: 67.6 | J20: =$J$5 -> 0.1402 | K20: =(J20*I20)+I20 -> 77.07752 | L20: =K20*H20 -> 2346.2397
C21: 2.1.6 | D21: SINAPI | E21: 92811 | F21: ASSENTAMENTO DE TUBO DE CONCRETO PARA REDES COLETORAS DE ÁGUAS PLUVIAIS, DIÂMETRO DE 600 MM, JUNTA RÍGIDA, INSTALADO EM LOCAL COM BAIXO NÍVEL DE INTERFERÊNCIAS (NÃO INCLUI FORNECIMENTO). AF_12/2015 | G21: M | H21: 16.44 | I21: 55.69 | J21: =$J$13 -> 0.2097 | K21: =(J21*I21)+I21 -> 67.368193 | L21: =K21*H21 -> 1107.5331
C22: 2.1.7 | D22: SINAPI | E22: 97949 | F22: CAIXA PARA BOCA DE LOBO SIMPLES RETANGULAR, EM ALVENARIA COM TIJOLOS CERÂMICOS MACIÇOS, DIMENSÕES INTERNAS: 0,6X1X1,2 M. AF_12/2020 | G22: UNID | I22: 1237.6 | J22: =$J$13 -> 0.2097 | K22: =(J22*I22)+I22 -> 1497.1247 | L22: =K22*H22 -> 0
C23: 2.2 | F23: PAVIMENTAÇÃO | L23: =L24+L25 -> 24222.597
C24: 2.1 | D24: SINAPI | E24: 94273 | F24: ASSENTAMENTO DE GUIA (MEIO-FIO) EM TRECHO RETO, CONFECCIONADA EM CONCRETO PRÉ-FABRICADO, DIMENSÕES 100X15X13X30 CM (COMPRIMENTO X BASE INFERIOR X BASE SUPERIOR X ALTURA), PARA VIAS URBANAS (USO VIÁRIO). AF_06/2016 | G24: M | H24: 36 | I24: 38.74 | J24: =$J$13 -> 0.2097 | K24: =(J24*I24)+I24 -> 46.863778 | L24: =K24*H24 -> 1687.096
C25: 2.2.2 | D25: Composição | E25: 01 | F25: PAVIMENTO EM PARALELEPÍPEDO SOBRE COLCHÃO PÓ DE BRITA REJUNTADO AS VALAS COM ARGAMASSA DE CIMENTO E AREIA | G25: M2 | H25: 260 | I25: 71.65 | J25: =$J$13 -> 0.2097 | K25: =(J25*I25)+I25 -> 86.675005 | L25: =K25*H25 -> 22535.501
C26: 2.3 | F26: PASSEIOS | L26: =L27+L28 -> 9421.9141
C27: 2.3.1 | D27: SINAPI | E27: 96385 | F27: EXECUÇÃO E COMPACTAÇÃO DE ATERRO COM SOLO PREDOMINANTEMENTE ARGILOSO - EXCLUSIVE SOLO, ESCAVAÇÃO, CARGA E TRANSPORTE. AF_11/2019 | G27: M3 | H27: ='memoria de cálculo'!F29 -> 379.09 | I27: 7.65 | J27: =J25 -> 0.2097 | K27: =(J27*I27)+I27 -> 9.254205 | L27: =K27*H27 -> 3508.1766
C28: 2.3.2 | D28: SINAPI | E28: 94991 | F28: EXECUÇÃO DE PASSEIO (CALÇADA) OU PISO DE CONCRETO COM CONCRETO MOLDADO IN LOCO, USINADO, ACABAMENTO CONVENCIONAL, NÃO ARMADO. AF_07/2016 | G28: M3 | H28: ='memoria de cálculo'!F30 -> 10.08 | I28: 484.98 | J28: =J13 -> 0.2097 | K28: =(J28*I28)+I28 -> 586.68031 | L28: =K28*H28 -> 5913.7375
C29: 2.4 | F29: RAMPAS | L29: =L30+L31 -> 549.88467
C30: 2.4.1 | D30: SINAPI | E30: 94991 | F30: EXECUÇÃO DE PASSEIO (CALÇADA) OU PISO DE CONCRETO COM CONCRETO MOLDADO IN LOCO, USINADO, ACABAMENTO CONVENCIONAL, NÃO ARMADO. AF_07/2016 | G30: M3 | H30: ='memoria de cálculo'!F32 -> 0.61 | I30: 484.98 | J30: =J4 -> 0.2097 | K30: =(J30*I30)+I30 -> 586.68031 | L30: =K30*H30 -> 357.87499
C31: 2.4.2 | D31: SINAPI-I | E31: 36178 | F31: PISO PODOTATIL DE CONCRETO - DIRECIONAL E ALERTA, *40 X 40 X 2,5* CM | G31: UN | H31: ='memoria de cálculo'!F33 -> 20 | I31: 8.42 | J31: =J5 -> 0.1402 | K31: =(J31*I31)+I31 -> 9.600484 | L31: =K31*H31 -> 192.00968
C32: 2.5 | F32: SINALIZAÇÃO | L32: =L33+L34+L35+L36 -> 1081.1062
C33: 2.5.1 | D33: SINAPI-I | E33: 34723 | F33: PLACA DE SINALIZACAO EM CHAPA DE ACO NUM 16 COM PINTURA REFLETIVA | G33: M2 | H33: ='memoria de cálculo'!F35 -> 0.25 | I33: 402.01 | J33: =J5 -> 0.1402 | K33: =(J33*I33)+I33 -> 458.3718 | L33: =K33*H33 -> 114.59295
C34: 2.5.2 | D34: SINAPI-I | E34: 13521 | F34: PLACA DE ACO ESMALTADA PARA IDENTIFICACAO DE RUA, *45 CM X 20* CM | G34: UN | H34: ='memoria de cálculo'!F36 -> 2 | I34: 57.39 | J34: =J5 -> 0.1402 | K34: =(J34*I34)+I34 -> 65.436078 | L34: =K34*H34 -> 130.87216
C35: 2.5.3 | D35: SINAPI-I | E35: 7696 | F35: TUBO ACO GALVANIZADO COM COSTURA, CLASSE MEDIA, DN 2", E = *3,65* MM, PESO *5,10* KG/M (NBR 5580) | G35: M | H35: ='memoria de cálculo'!F37 -> 9 | I35: 77.35 | J35: =J5 -> 0.1402 | K35: =(J35*I35)+I35 -> 88.19447 | L35: =K35*H35 -> 793.75023
C36: 2.5.4 | D36: SINAPI | E36: 94975 | F36: CONCRETO FCK = 15MPA, TRAÇO 1:3,4:3,5 (EM MASSA SECA DE CIMENTO/ AREIA MÉDIA/ BRITA 1) - PREPARO MANUAL. AF_05/2021 | G36: M3 | H36: ='memoria de cálculo'!F38 -> 0.11 | I36: 314.81 | J36: =J4 -> 0.2097 | K36: =(J36*I36)+I36 -> 380.82566 | L36: =K36*H36 -> 41.890822
C37: 3.0 | F37: PAVIMENTAÇÃO GENERAL CÂMARA - 880 M² | L37: =L38+L46+L49+L52+L55 -> 10440.642
C38: 3.1 | F38: DRENAGEM | L38: =L39+L40+L41+L42+L43+L44+L45 -> 2994.2494
C39: 3.1.1 | D39: SINAPI | E39: 90105 | F39: ESCAVAÇÃO MECANIZADA DE VALA COM PROFUNDIDADE ATÉ 1,5 M (MÉDIA ENTRE MONTANTE E JUSANTE/UMA COMPOSIÇÃO POR TRECHO) COM RETROESCAVADEIRA (CAPACIDADE DA CAÇAMBA DA RETRO: 0,26 M3 / POTÊNCIA: 88 HP), LARGURA MENOR QUE 0,8 M, EM SOLO DE 1A CATEGORIA, LOCAISCOM BAIXO NÍVEL DE INTERFERÊNCIA. AF_02/2021 | G39: M3 | J39: =J4 -> 0.2097 | K39: =(J39*I39)+I39 -> 0 | L39: =K39*H39 -> 0
C40: 3.1.2 | D40: SINAPI | E40: 93378 | F40: REATERRO MECANIZADO DE VALA COM RETROESCAVADEIRA (CAPACIDADE DA CAÇAMBA DA RETRO: 0,26 M³ / POTÊNCIA: 88 HP), LARGURA ATÉ 0,8 M, PROFUNDIDADE ATÉ 1,5 M, COM SOLO DE 1ª CATEGORIA EM LOCAIS COM BAIXO NÍVEL DE INTERFERÊNCIA. AF_04/2016 | G40: M3 | J40: =J4 -> 0.2097 | K40: =(J40*I40)+I40 -> 0 | L40: =K40*H40 -> 0
C41: 3.1.3 | D41: SINAPI-I | E41: 37451 | F41: TUBO DE CONCRETO SIMPLES PARA AGUAS PLUVIAIS, CLASSE PS1, COM ENCAIXE MACHO E FEMEA, DIAMETRO NOMINAL DE 400 MM | G41: M | J41: =J5 -> 0.1402 | K41: =(J41*I41)+I41 -> 0 | L41: =K41*H41 -> 0
C42: 3.1.4 | D42: SINAPI | E42: 92809 | F42: ASSENTAMENTO DE TUBO DE CONCRETO PARA REDES COLETORAS DE ÁGUAS PLUVIAIS, DIÂMETRO DE 400 MM, JUNTA RÍGIDA, INSTALADO EM LOCAL COM BAIXO NÍVEL DE INTERFERÊNCIAS (NÃO INCLUI FORNECIMENTO). AF_12/2015 | G42: M | J42: =J4 -> 0.2097 | K42: =(J42*I42)+I42 -> 0 | L42: =K42*H42 -> 0
C43: 3.1.5 | D43: SINAPI | E43: 37453 | F43: TUBO DE CONCRETO SIMPLES PARA AGUAS PLUVIAIS, CLASSE PS1, COM ENCAIXE MACHO E FEMEA, DIAMETRO NOMINAL DE 600 MM | G43: M | J43: =J4 -> 0.2097 | K43: =(J43*I43)+I43 -> 0 | L43: =K43*H43 -> 0
C44: 3.1.6 | D44: SINAPI | E44: 92811 | F44: ASSENTAMENTO DE TUBO DE CONCRETO PARA REDES COLETORAS DE ÁGUAS PLUVIAIS, DIÂMETRO DE 600 MM, JUNTA RÍGIDA, INSTALADO EM LOCAL COM BAIXO NÍVEL DE INTERFERÊNCIAS (NÃO INCLUI FORNECIMENTO). AF_12/2015 | G44: M | J44: =J4 -> 0.2097 | K44: =(J44*I44)+I44 -> 0 | L44: =K44*H44 -> 0
C45: 3.1.7 | D45: SINAPI | E45: 97949 | F45: CAIXA PARA BOCA DE LOBO SIMPLES RETANGULAR, EM ALVENARIA COM TIJOLOS CERÂMICOS MACIÇOS, DIMENSÕES INTERNAS: 0,6X1X1,2 M. AF_12/2020 | G45: UNID | H45: 2 | I45: 1237.6 | J45: =J4 -> 0.2097 | K45: =(J45*I45)+I45 -> 1497.1247 | L45: =K45*H45 -> 2994.2494
C46: 3.2 | F46: PAVIMENTAÇÃO | L46: =L47+L48 -> 0
C47: 3.2.1 | D47: SINAPI | E47: 94273 | F47: ASSENTAMENTO DE GUIA (MEIO-FIO) EM TRECHO RETO, CONFECCIONADA EM CONCRETO PRÉ-FABRICADO, DIMENSÕES 100X15X13X30 CM (COMPRIMENTO X BASE INFERIOR X BASE SUPERIOR X ALTURA), PARA VIAS URBANAS (USO VIÁRIO). AF_06/2016 | G47: M | J47: =J4 -> 0.2097 | K47: =(J47*I47)+I47 -> 0 | L47: =K47*H47 -> 0
C48: 3.2.2 | D48: Composição | E48: 01 | F48: PAVIMENTO EM PARALELEPÍPEDO SOBRE COLCHÃO PÓ DE BRITA REJUNTADO AS VALAS COM ARGAMASSA DE CIMENTO E AREIA | G48: M2 | J48: =J47 -> 0.2097 | K48: =(J48*I48)+I48 -> 0 | L48: =K48*H48 -> 0
C49: 3.3 | F49: PASSEIOS | L49: =L50+L51 -> 6147.6794
C50: 3.3.1 | D50: SINAPI | E50: 96385 | F50: EXECUÇÃO E COMPACTAÇÃO DE ATERRO COM SOLO PREDOMINANTEMENTE ARGILOSO - EXCLUSIVE SOLO, ESCAVAÇÃO, CARGA E TRANSPORTE. AF_11/2019 | G50: M3 | H50: 147 | I50: 7.65 | J50: =J48 -> 0.2097 | K50: =(J50*I50)+I50 -> 9.254205 | L50: =K50*H50 -> 1360.3681
C51: 3.3.2 | D51: SINAPI | E51: 94991 | F51: EXECUÇÃO DE PASSEIO (CALÇADA) OU PISO DE CONCRETO COM CONCRETO MOLDADO IN LOCO, USINADO, ACABAMENTO CONVENCIONAL, NÃO ARMADO. AF_07/2016 | G51: M3 | H51: 8.16 | I51: 484.98 | J51: =J4 -> 0.2097 | K51: =(J51*I51)+I51 -> 586.68031 | L51: =K51*H51 -> 4787.3113
C52: 3.4 | F52: RAMPAS | L52: =L53+L54 -> 217.60715
C53: 3.4.1 | D53: SINAPI | E53: 94991 | F53: EXECUÇÃO DE PASSEIO (CALÇADA) OU PISO DE CONCRETO COM CONCRETO MOLDADO IN LOCO, USINADO, ACABAMENTO CONVENCIONAL, NÃO ARMADO. AF_07/2016 | G53: M3 | H53: 0.24 | I53: 484.98 | J53: =J4 -> 0.2097 | K53: =(J53*I53)+I53 -> 586.68031 | L53: =K53*H53 -> 140.80327
C54: 3.4.2 | D54: SINAPI-I | E54: 36178 | F54: PISO PODOTATIL DE CONCRETO - DIRECIONAL E ALERTA, *40 X 40 X 2,5* CM | G54: UN | H54: 8 | I54: 8.42 | J54: =J5 -> 0.1402 | K54: =(J54*I54)+I54 -> 9.600484 | L54: =K54*H54 -> 76.803872
C55: 3.5 | F55: SINALIZAÇÃO | L55: =L56+L57+L58+L59 -> 1081.1062
C56: 3.5.1 | D56: SINAPI-I | E56: 34723 | F56: PLACA DE SINALIZACAO EM CHAPA DE ACO NUM 16 COM PINTURA REFLETIVA | G56: M2 | H56: 0.25 | I56: 402.01 | J56: =J5 -> 0.1402 | K56: =(J56*I56)+I56 -> 458.3718 | L56: =K56*H56 -> 114.59295
C57: 3.5.2 | D57: SINAPI-I | E57: 13521 | F57: PLACA DE ACO ESMALTADA PARA IDENTIFICACAO DE RUA, *45 CM X 20* CM | G57: UN | H57: 2 | I57: 57.39 | J57: =J5 -> 0.1402 | K57: =(J57*I57)+I57 -> 65.436078 | L57: =K57*H57 -> 130.87216
C58: 3.5.3 | D58: SINAPI-I | E58: 7696 | F58: TUBO ACO GALVANIZADO COM COSTURA, CLASSE MEDIA, DN 2", E = *3,65* MM, PESO *5,10* KG/M (NBR 5580) | G58: M | H58: 9 | I58: 77.35 | J58: =J5 -> 0.1402 | K58: =(J58*I58)+I58 -> 88.19447 | L58: =K58*H58 -> 793.75023
C59: 3.5.4 | D59: SINAPI | E59: 94975 | F59: CONCRETO FCK = 15MPA, TRAÇO 1:3,4:3,5 (EM MASSA SECA DE CIMENTO/ AREIA MÉDIA/ BRITA 1) - PREPARO MANUAL. AF_05/2021 | G59: M3 | H59: 0.11 | I59: 314.81 | J59: =J4 -> 0.2097 | K59: =(J59*I59)+I59 -> 380.82566 | L59: =K59*H59 -> 41.890822
C60: 4 | F60: PAVIMENTAÇÃO RUA EDUARDO PUMPMACKER - 736 M² | L60: =L61+L69+L72+L75+L78 -> 0
C61: 4.1 | F61: DRENAGEM | L61: =L62+L63+L64+L65+L66+L67+L68 -> 0
C62: 4.1.1 | D62: SINAPI | E62: 90105 | F62: ESCAVAÇÃO MECANIZADA DE VALA COM PROFUNDIDADE ATÉ 1,5 M (MÉDIA ENTRE MONTANTE E JUSANTE/UMA COMPOSIÇÃO POR TRECHO) COM RETROESCAVADEIRA (CAPACIDADE DA CAÇAMBA DA RETRO: 0,26 M3 / POTÊNCIA: 88 HP), LARGURA MENOR QUE 0,8 M, EM SOLO DE 1A CATEGORIA, LOCAISCOM BAIXO NÍVEL DE INTERFERÊNCIA. AF_02/2021 | G62: M3 | J62: =J13 -> 0.2097 | K62: =(J62*I62)+I62 -> 0 | L62: =K62*H62 -> 0
C63: 4.1.2 | D63: SINAPI | E63: 93378 | F63: REATERRO MECANIZADO DE VALA COM RETROESCAVADEIRA (CAPACIDADE DA CAÇAMBA DA RETRO: 0,26 M³ / POTÊNCIA: 88 HP), LARGURA ATÉ 0,8 M, PROFUNDIDADE ATÉ 1,5 M, COM SOLO DE 1ª CATEGORIA EM LOCAIS COM BAIXO NÍVEL DE INTERFERÊNCIA. AF_04/2016 | G63: M3 | J63: =J4 -> 0.2097 | K63: =(J63*I63)+I63 -> 0 | L63: =K63*H63 -> 0
C64: 4.1.3 | D64: SINAPI-I | E64: 37450 | F64: TUBO DE CONCRETO SIMPLES PARA AGUAS PLUVIAIS, CLASSE PS1, COM ENCAIXE MACHO E FEMEA, DIAMETRO NOMINAL DE 300 MM | G64: M | J64: =J5 -> 0.1402 | K64: =(J64*I64)+I64 -> 0 | L64: =K64*H64 -> 0
C65: 4.1.4 | D65: SINAPI | E65: 92808 | F65: ASSENTAMENTO DE TUBO DE CONCRETO PARA REDES COLETORAS DE ÁGUAS PLUVIAIS, DIÂMETRO DE 300 MM, JUNTA RÍGIDA, INSTALADO EM LOCAL COM BAIXO NÍVEL DE INTERFERÊNCIAS (NÃO INCLUI FORNECIMENTO). AF_12/2015 | G65: M | J65: =J4 -> 0.2097 | K65: =(J65*I65)+I65 -> 0 | L65: =K65*H65 -> 0
C66: 4.1.5 | D66: SINAPI-I | E66: 37451 | F66: TUBO DE CONCRETO SIMPLES PARA AGUAS PLUVIAIS, CLASSE PS1, COM ENCAIXE MACHO E FEMEA, DIAMETRO NOMINAL DE 400 MM | G66: M | J66: =J5 -> 0.1402 | K66: =(J66*I66)+I66 -> 0 | L66: =K66*H66 -> 0
C67: 4.1.6 | D67: SINAPI | E67: 92809 | F67: ASSENTAMENTO DE TUBO DE CONCRETO PARA REDES COLETORAS DE ÁGUAS PLUVIAIS, DIÂMETRO DE 400 MM, JUNTA RÍGIDA, INSTALADO EM LOCAL COM BAIXO NÍVEL DE INTERFERÊNCIAS (NÃO INCLUI FORNECIMENTO). AF_12/2015 | G67: M | J67: =J62 -> 0.2097 | K67: =(J67*I67)+I67 -> 0 | L67: =K67*H67 -> 0
C68: 4.1.7 | D68: SINAPI | E68: 97949 | F68: CAIXA PARA BOCA DE LOBO SIMPLES RETANGULAR, EM ALVENARIA COM TIJOLOS CERÂMICOS MACIÇOS, DIMENSÕES INTERNAS: 0,6X1X1,2 M. AF_12/2020 | G68: UN | J68: =J4 -> 0.2097 | K68: =(J68*I68)+I68 -> 0 | L68: =K68*H68 -> 0
C69: 4.2 | F69: PAVIMENTAÇÃO | L69: =L70+L71 -> 0
C70: 4.2.1 | D70: SINAPI | E70: 94273 | F70: ASSENTAMENTO DE GUIA (MEIO-FIO) EM TRECHO RETO, CONFECCIONADA EM CONCRETO PRÉ-FABRICADO, DIMENSÕES 100X15X13X30 CM (COMPRIMENTO X BASE INFERIOR X BASE SUPERIOR X ALTURA), PARA VIAS URBANAS (USO VIÁRIO). AF_06/2016 | G70: M | J70: =J4 -> 0.2097 | K70: =(J70*I70)+I70 -> 0 | L70: =K70*H70 -> 0
C71: 4.2.2 | D71: Composição | E71: 01 | F71: PAVIMENTO EM PARALELEPÍPEDO SOBRE COLCHÃO PÓ DE BRITA REJUNTADO AS VALAS COM ARGAMASSA DE CIMENTO E AREIA | G71: M2 | J71: =J4 -> 0.2097 | K71: =(J71*I71)+I71 -> 0 | L71: =K71*H71 -> 0
C72: 4.3 | F72: PASSEIOS | L72: =L73+L74 -> 0
C73: 4.3.1 | D73: SINAPI | E73: 94991 | F73: EXECUÇÃO DE PASSEIO (CALÇADA) OU PISO DE CONCRETO COM CONCRETO MOLDADO IN LOCO, USINADO, ACABAMENTO CONVENCIONAL, NÃO ARMADO. AF_07/2016 | G73: M3 | J73: =J4 -> 0.2097 | K73: =(J73*I73)+I73 -> 0 | L73: =K73*H73 -> 0
C74: 4.3.2 | D74: SINAPI | E74: 96385 | F74: EXECUÇÃO E COMPACTAÇÃO DE ATERRO COM SOLO PREDOMINANTEMENTE ARGILOSO - EXCLUSIVE SOLO, ESCAVAÇÃO, CARGA E TRANSPORTE. AF_11/2019 | G74: M3 | J74: =J4 -> 0.2097 | K74: =(J74*I74)+I74 -> 0 | L74: =K74*H74 -> 0
C75: 4.4 | F75: RAMPAS | L75: =L76+L77 -> 0
C76: 4.4.1 | D76: SINAPI | E76: 94991 | F76: EXECUÇÃO DE PASSEIO (CALÇADA) OU PISO DE CONCRETO COM CONCRETO MOLDADO IN LOCO, USINADO, ACABAMENTO CONVENCIONAL, NÃO ARMADO. AF_07/2016 | G76: M3 | J76: =J73 -> 0.2097 | K76: =(J76*I76)+I76 -> 0 | L76: =K76*H76 -> 0
C77: 4.4.2 | D77: SINAPI-I | E77: 36178 | F77: PISO PODOTATIL DE CONCRETO - DIRECIONAL E ALERTA, *40 X 40 X 2,5* CM | G77: UN | J77: =J5 -> 0.1402 | K77: =(J77*I77)+I77 -> 0 | L77: =K77*H77 -> 0
C78: 4.5 | F78: SINALIZAÇÃO | L78: =L79+L80+L81+L82 -> 0
C79: 4.5.1 | D79: SINAPI-I | E79: 34723 | F79: PLACA DE SINALIZACAO EM CHAPA DE ACO NUM 16 COM PINTURA REFLETIVA | G79: M2 | J79: =J5 -> 0.1402 | K79: =(J79*I79)+I79 -> 0 | L79: =K79*H79 -> 0
C80: 4.5.2 | D80: SINAPI-I | E80: 13521 | F80: PLACA DE ACO ESMALTADA PARA IDENTIFICACAO DE RUA, *45 CM X 20* CM | G80: UN | J80: =J5 -> 0.1402 | K80: =(J80*I80)+I80 -> 0 | L80: =K80*H80 -> 0
C81: 4.5.3 | D81: SINAPI-I | E81: 7696 | F81: TUBO ACO GALVANIZADO COM COSTURA, CLASSE MEDIA, DN 2", E = *3,65* MM, PESO *5,10* KG/M (NBR 5580) | G81: M | J81: =J5 -> 0.1402 | K81: =(J81*I81)+I81 -> 0 | L81: =K81*H81 -> 0
C82: 4.5.4 | D82: SINAPI | E82: 94975 | F82: CONCRETO FCK = 15MPA, TRAÇO 1:3,4:3,5 (EM MASSA SECA DE CIMENTO/ AREIA MÉDIA/ BRITA 1) - PREPARO MANUAL. AF_05/2021 | G82: M3 | J82: =J4 -> 0.2097 | K82: =(J82*I82)+I82 -> 0 | L82: =K82*H82 -> 0
C84: Salto do Jacuí/RS, 22 de abril de 2025.
F88: ______________________________________________
F89: JOSIELI FERREIRA
F90: CAU/RS A187139-0

Sheet BOLETIM DE MEDIÇÃO 7
C2: PREFEITURA MUNICIPAL DE SALTO DO JACUÍ | M2: BM 07 | P2: ACUMULADO TOTAL
C4: OBRA | D4: PAVIMENTAÇÃO TRECHO RUA GENERAL CÂMARA E RUA E. PUMPMAKER | G4: BDI | H4: NÃO DESONERADO | J4: 0.2097 | K4: SINAPI 12/2021 | M4: PERÍODO DE MEDIÇÃO: 05/12/2024 À 11/02/2025 | P4: =P15+P38+P61 -> 298861.96
C5: ÁREA | D5: 2.816 M² | G5: BDI | H5: MATERIAIS | J5: 0.1402
C6: CR | D6: 851027/2017
C7: PLANILHA ORÇAMENTÁRIA - NÃO DESONERADA
I8: CUSTO | J8: BDI | K8: CUSTO | L8: VALOR
C9: ITEM | D9: FONTE | E9: CÓDIGO | F9: DESCRIÇÃO | G9: UNID | H9: QUANT | I9: UNIT | J9: % | K9: UNIT+BDI | L9: TOTAL | M9: QUANTIDADE | N9: TOTAL | O9: % | P9: QUANTIDADE | Q9: TOTAL | R9: %
F10: PAVIMENTAÇÃO DE RUAS E DRENAGEM | L10: =L11+L14+L37+L60 -> 402703.7
C11: 1.0 | F11: SERVIÇOS INICIAIS | L11: =L12+L13 -> 5990.9315
C12: 1.1 | D12: SINAPI-I | E12: 4813 | F12: PLACA DE OBRA (PARA CONSTRUCAO CIVIL) EM CHAPA GALVANIZADA *N. 22*, ADESIVADA, DE *2,0 X 1,125* M | G12: M2 | H12: ='memoria de cálculo'!F11 -> 2.88 | I12: 174.03 | J12: =$J$5 -> 0.1402 | K12: =I12+ (I12*$J$12) -> 198.42901 | L12: =K12*H12 -> 571.47554
C13: 1.2 | D13: SINAPI | E13: 90777 | F13: ENGENHEIRO CIVIL DE OBRA JUNIOR COM ENCARGOS COMPLEMENTARES | G13: H | H13: ='memoria de cálculo'!F12 -> 64 | I13: 70 | J13: =$J$4 -> 0.2097 | K13: =I13+ (I13*$J$13) -> 84.679 | L13: =K13*H13 -> 5419.456
C14: 2.0 | F14: PAVIMENTAÇÃO GENERAL CÂMARA - 1.200 M² | L14: =L15+L23+L26++L29+L32 -> 167813.57 | M14: MEDIDO PERÍODO | P14: ACUMULADO
C15: 2.1 | F15: DRENAGEM | L15: =L16+L17+L18+L19+L20+L21+L22 -> 42253.177 | M15: =SUM(N16:N25) -> 41604.002 | P15: =SUM(Q16:Q25) -> 80403.407
C16: 2.1.1 | D16: SINAPI | E16: 90105 | F16: ESCAVAÇÃO MECANIZADA DE VALA COM PROFUNDIDADE ATÉ 1,5 M (MÉDIA ENTRE MONTANTE E JUSANTE/UMA COMPOSIÇÃO POR TRECHO) COM RETROESCAVADEIRA (CAPACIDADE DA CAÇAMBA DA RETRO: 0,26 M3 / POTÊNCIA: 88 HP), LARGURA MENOR QUE 0,8 M, EM SOLO DE 1A CATEGORIA, LOCAISCOM BAIXO NÍVEL DE INTERFERÊNCIA. AF_02/2021 | G16: M3 | H16: ='memoria de cálculo'!F15 -> 249.63 | I16: 5.87 | J16: =$J$4 -> 0.2097 | K16: =(J16*I16)+I16 -> 7.100939 | L16: =K16*H16 -> 1772.6074 | N16: =M16*K16 -> 0 | O16: =N16/L16 -> 0 | P16: 249.63 | Q16: =P16*K16 -> 1772.6074 | R16: =Q16/L16 -> 1
C17: 2.1.2 | D17: SINAPI | E17: 93378 | F17: REATERRO MECANIZADO DE VALA COM RETROESCAVADEIRA (CAPACIDADE DA CAÇAMBA DA RETRO: 0,26 M³ / POTÊNCIA: 88 HP), LARGURA ATÉ 0,8 M, PROFUNDIDADE ATÉ 1,5 M, COM SOLO DE 1ª CATEGORIA EM LOCAIS COM BAIXO NÍVEL DE INTERFERÊNCIA. AF_04/2016 | G17: M3 | H17: ='memoria de cálculo'!F16 -> 149.6 | I17: 17.7 | J17: =$J$4 -> 0.2097 | K17: =(J17*I17)+I17 -> 21.41169 | L17: =K17*H17 -> 3203.1888 | N17: =M17*K17 -> 0 | O17: =N17/L17 -> 0 | P17: 149.6 | Q17: =P17*K17 -> 3203.1888 | R17: =Q17/L17 -> 1
C18: 2.1.3 | D18: SINAPI-I | E18: 37451 | F18: TUBO DE CONCRETO SIMPLES PARA AGUAS PLUVIAIS, CLASSE PS1, COM ENCAIXE MACHO E FEMEA, DIAMETRO NOMINAL DE 400 MM | G18: M | H18: ='memoria de cálculo'!F17 -> 39.4 | I18: 38.44 | J18: =$J$5 -> 0.1402 | K18: =(J18*I18)+I18 -> 43.829288 | L18: =K18*H18 -> 1726.8739 | N18: =M18*K18 -> 0 | O18: =N18/L18 -> 0 | P18: 39.4 | Q18: =P18*K18 -> 1726.8739 | R18: =Q18/L18 -> 1
C19: 2.1.4 | D19: SINAPI | E19: 92809 | F19: ASSENTAMENTO DE TUBO DE CONCRETO PARA REDES COLETORAS DE ÁGUAS PLUVIAIS, DIÂMETRO DE 400 MM, JUNTA RÍGIDA, INSTALADO EM LOCAL COM BAIXO NÍVEL DE INTERFERÊNCIAS (NÃO INCLUI FORNECIMENTO). AF_12/2015 | G19: M | H19: ='memoria de cálculo'!F18 -> 39.4 | I19: 38.67 | J19: =J13 -> 0.2097 | K19: =(J19*I19)+I19 -> 46.779099 | L19: =K19*H19 -> 1843.0965 | N19: =M19*K19 -> 0 | O19: =N19/L19 -> 0 | P19: 39.4 | Q19: =P19*K19 -> 1843.0965 | R19: =Q19/L19 -> 1
C20: 2.1.5 | D20: SINAPI-I | E20: 37453 | F20: TUBO DE CONCRETO SIMPLES PARA AGUAS PLUVIAIS, CLASSE PS1, COM ENCAIXE MACHO E FEMEA, DIAMETRO NOMINAL DE 600 MM | G20: M | H20: ='memoria de cálculo'!F19 -> 150.44 | I20: 67.6 | J20: =$J$5 -> 0.1402 | K20: =(J20*I20)+I20 -> 77.07752 | L20: =K20*H20 -> 11595.542 | N20: =M20*K20 -> 0 | O20: =N20/L20 -> 0 | P20: 120 | Q20: =P20*K20 -> 9249.3024 | R20: =Q20/L20 -> 0.7976602
C21: 2.1.6 | D21: SINAPI | E21: 92811 | F21: ASSENTAMENTO DE TUBO DE CONCRETO PARA REDES COLETORAS DE ÁGUAS PLUVIAIS, DIÂMETRO DE 600 MM, JUNTA RÍGIDA, INSTALADO EM LOCAL COM BAIXO NÍVEL DE INTERFERÊNCIAS (NÃO INCLUI FORNECIMENTO). AF_12/2015 | G21: M | H21: ='memoria de cálculo'!F20 -> 150.44 | I21: 55.69 | J21: =$J$13 -> 0.2097 | K21: =(J21*I21)+I21 -> 67.368193 | L21: =K21*H21 -> 10134.871 | N21: =M21*K21 -> 0 | O21: =N21/L21 -> 0 | P21: 134 | Q21: =P21*K21 -> 9027.3379 | R21: =Q21/L21 -> 0.89072055
C22: 2.1.7 | D22: SINAPI | E22: 97949 | F22: CAIXA PARA BOCA DE LOBO SIMPLES RETANGULAR, EM ALVENARIA COM TIJOLOS CERÂMICOS MACIÇOS, DIMENSÕES INTERNAS: 0,6X1X1,2 M. AF_12/2020 | G22: UNID | H22: ='memoria de cálculo'!F21 -> 8 | I22: 1237.6 | J22: =$J$13 -> 0.2097 | K22: =(J22*I22)+I22 -> 1497.1247 | L22: =K22*H22 -> 11976.998 | N22: =M22*K22 -> 0 | O22: =N22/L22 -> 0 | P22: 8 | Q22: =P22*K22 -> 11976.998 | R22: =Q22/L22 -> 1
C23: 2.2 | F23: PAVIMENTAÇÃO | L23: =L24+L25 -> 114507.49
C24: 2.1 | D24: SINAPI | E24: 94273 | F24: ASSENTAMENTO DE GUIA (MEIO-FIO) EM TRECHO RETO, CONFECCIONADA EM CONCRETO PRÉ-FABRICADO, DIMENSÕES 100X15X13X30 CM (COMPRIMENTO X BASE INFERIOR X BASE SUPERIOR X ALTURA), PARA VIAS URBANAS (USO VIÁRIO). AF_06/2016 | G24: M | H24: ='memoria de cálculo'!F23 -> 224 | I24: 38.74 | J24: =$J$13 -> 0.2097 | K24: =(J24*I24)+I24 -> 46.863778 | L24: =K24*H24 -> 10497.486 | N24: =M24*K24 -> 0 | O24: =N24/L24 -> 0
C25: 2.2.2 | D25: Composição | E25: 01 | F25: PAVIMENTO EM PARALELEPÍPEDO SOBRE COLCHÃO PÓ DE BRITA REJUNTADO AS VALAS COM ARGAMASSA DE CIMENTO E AREIA | G25: M2 | H25: 1200 | I25: 71.65 | J25: =$J$13 -> 0.2097 | K25: =(J25*I25)+I25 -> 86.675005 | L25: =K25*H25 -> 104010.01 | M25: 480 | N25: =M25*K25 -> 41604.002 | O25: =N25/L25 -> 0.4 | P25: 480 | Q25: =P25*K25 -> 41604.002 | R25: =Q25/L25 -> 0.4
C26: 2.3 | F26: PASSEIOS | L26: =L27+L28 -> 9421.9141
C27: 2.3.1 | D27: SINAPI | E27: 96385 | F27: EXECUÇÃO E COMPACTAÇÃO DE ATERRO COM SOLO PREDOMINANTEMENTE ARGILOSO - EXCLUSIVE SOLO, ESCAVAÇÃO, CARGA E TRANSPORTE. AF_11/2019 | G27: M3 | H27: ='memoria de cálculo'!F29 -> 379.09 | I27: 7.65 | J27: =J25 -> 0.2097 | K27: =(J27*I27)+I27 -> 9.254205 | L27: =K27*H27 -> 3508.1766
C28: 2.3.2 | D28: SINAPI | E28: 94991 | F28: EXECUÇÃO DE PASSEIO (CALÇADA) OU PISO DE CONCRETO COM CONCRETO MOLDADO IN LOCO, USINADO, ACABAMENTO CONVENCIONAL, NÃO ARMADO. AF_07/2016 | G28: M3 | H28: ='memoria de cálculo'!F30 -> 10.08 | I28: 484.98 | J28: =J13 -> 0.2097 | K28: =(J28*I28)+I28 -> 586.68031 | L28: =K28*H28 -> 5913.7375
C29: 2.4 | F29: RAMPAS | L29: =L30+L31 -> 549.88467
C30: 2.4.1 | D30: SINAPI | E30: 94991 | F30: EXECUÇÃO DE PASSEIO (CALÇADA) OU PISO DE CONCRETO COM CONCRETO MOLDADO IN LOCO, USINADO, ACABAMENTO CONVENCIONAL, NÃO ARMADO. AF_07/2016 | G30: M3 | H30: ='memoria de cálculo'!F32 -> 0.61 | I30: 484.98 | J30: =J4 -> 0.2097 | K30: =(J30*I30)+I30 -> 586.68031 | L30: =K30*H30 -> 357.87499
C31: 2.4.2 | D31: SINAPI-I | E31: 36178 | F31: PISO PODOTATIL DE CONCRETO - DIRECIONAL E ALERTA, *40 X 40 X 2,5* CM | G31: UN | H31: ='memoria de cálculo'!F33 -> 20 | I31: 8.42 | J31: =J5 -> 0.1402 | K31: =(J31*I31)+I31 -> 9.600484 | L31: =K31*H31 -> 192.00968
C32: 2.5 | F32: SINALIZAÇÃO | L32: =L33+L34+L35+L36 -> 1081.1062
C33: 2.5.1 | D33: SINAPI-I | E33: 34723 | F33: PLACA DE SINALIZACAO EM CHAPA DE ACO NUM 16 COM PINTURA REFLETIVA | G33: M2 | H33: ='memoria de cálculo'!F35 -> 0.25 | I33: 402.01 | J33: =J5 -> 0.1402 | K33: =(J33*I33)+I33 -> 458.3718 | L33: =K33*H33 -> 114.59295
C34: 2.5.2 | D34: SINAPI-I | E34: 13521 | F34: PLACA DE ACO ESMALTADA PARA IDENTIFICACAO DE RUA, *45 CM X 20* CM | G34: UN | H34: ='memoria de cálculo'!F36 -> 2 | I34: 57.39 | J34: =J5 -> 0.1402 | K34: =(J34*I34)+I34 -> 65.436078 | L34: =K34*H34 -> 130.87216
C35: 2.5.3 | D35: SINAPI-I | E35: 7696 | F35: TUBO ACO GALVANIZADO COM COSTURA, CLASSE MEDIA, DN 2", E = *3,65* MM, PESO *5,10* KG/M (NBR 5580) | G35: M | H35: ='memoria de cálculo'!F37 -> 9 | I35: 77.35 | J35: =J5 -> 0.1402 | K35: =(J35*I35)+I35 -> 88.19447 | L35: =K35*H35 -> 793.75023
C36: 2.5.4 | D36: SINAPI | E36: 94975 | F36: CONCRETO FCK = 15MPA, TRAÇO 1:3,4:3,5 (EM MASSA SECA DE CIMENTO/ AREIA MÉDIA/ BRITA 1) - PREPARO MANUAL. AF_05/2021 | G36: M3 | H36: ='memoria de cálculo'!F38 -> 0.11 | I36: 314.81 | J36: =J4 -> 0.2097 | K36: =(J36*I36)+I36 -> 380.82566 | L36: =K36*H36 -> 41.890822
C37: 3.0 | F37: PAVIMENTAÇÃO GENERAL CÂMARA - 880 M² | L37: =L38+L46+L49+L52+L55 -> 127114.92 | M37: MEDIDO PERÍODO | P37: ACUMULADO
C38: 3.1 | F38: DRENAGEM | L38: =L39+L40+L41+L42+L43+L44+L45 -> 36052.844 | M38: =SUM(N39:N59) -> 0 | P38: =SUM(Q39:Q59) -> 116674.28
C39: 3.1.1 | D39: SINAPI | E39: 90105 | F39: ESCAVAÇÃO MECANIZADA DE VALA COM PROFUNDIDADE ATÉ 1,5 M (MÉDIA ENTRE MONTANTE E JUSANTE/UMA COMPOSIÇÃO POR TRECHO) COM RETROESCAVADEIRA (CAPACIDADE DA CAÇAMBA DA RETRO: 0,26 M3 / POTÊNCIA: 88 HP), LARGURA MENOR QUE 0,8 M, EM SOLO DE 1A CATEGORIA, LOCAISCOM BAIXO NÍVEL DE INTERFERÊNCIA. AF_02/2021 | G39: M3 | H39: ='memoria de cálculo'!F41 -> 161.29 | I39: 5.87 | J39: =J4 -> 0.2097 | K39: =(J39*I39)+I39 -> 7.100939 | L39: =K39*H39 -> 1145.3105 | N39: =M39*K39 -> 0 | O39: =N39/L39 -> 0 | P39: 161.29 | Q39: =P39*K39 -> 1145.3105 | R39: =Q39/L39 -> 1
C40: 3.1.2 | D40: SINAPI | E40: 93378 | F40: REATERRO MECANIZADO DE VALA COM RETROESCAVADEIRA (CAPACIDADE DA CAÇAMBA DA RETRO: 0,26 M³ / POTÊNCIA: 88 HP), LARGURA ATÉ 0,8 M, PROFUNDIDADE ATÉ 1,5 M, COM SOLO DE 1ª CATEGORIA EM LOCAIS COM BAIXO NÍVEL DE INTERFERÊNCIA. AF_04/2016 | G40: M3 | H40: ='memoria de cálculo'!F42 -> 94.4 | I40: 17.7 | J40: =J4 -> 0.2097 | K40: =(J40*I40)+I40 -> 21.41169 | L40: =K40*H40 -> 2021.2635 | N40: =M40*K40 -> 0 | O40: =N40/L40 -> 0 | P40: 94.4 | Q40: =P40*K40 -> 2021.2635 | R40: =Q40/L40 -> 1
C41: 3.1.3 | D41: SINAPI-I | E41: 37451 | F41: TUBO DE CONCRETO SIMPLES PARA AGUAS PLUVIAIS, CLASSE PS1, COM ENCAIXE MACHO E FEMEA, DIAMETRO NOMINAL DE 400 MM | G41: M | H41: ='memoria de cálculo'!F43 -> 39.4 | I41: 38.43 | J41: =J5 -> 0.1402 | K41: =(J41*I41)+I41 -> 43.817886 | L41: =K41*H41 -> 1726.4247 | N41: =M41*K41 -> 0 | O41: =N41/L41 -> 0 | P41: 39.4 | Q41: =P41*K41 -> 1726.4247 | R41: =Q41/L41 -> 1
C42: 3.1.4 | D42: SINAPI | E42: 92809 | F42: ASSENTAMENTO DE TUBO DE CONCRETO PARA REDES COLETORAS DE ÁGUAS PLUVIAIS, DIÂMETRO DE 400 MM, JUNTA RÍGIDA, INSTALADO EM LOCAL COM BAIXO NÍVEL DE INTERFERÊNCIAS (NÃO INCLUI FORNECIMENTO). AF_12/2015 | G42: M | H42: ='memoria de cálculo'!F44 -> 39.4 | I42: 38.67 | J42: =J4 -> 0.2097 | K42: =(J42*I42)+I42 -> 46.779099 | L42: =K42*H42 -> 1843.0965 | N42: =M42*K42 -> 0 | O42: =N42/L42 -> 0 | P42: 39.4 | Q42: =P42*K42 -> 1843.0965 | R42: =Q42/L42 -> 1
C43: 3.1.5 | D43: SINAPI | E43: 37453 | F43: TUBO DE CONCRETO SIMPLES PARA AGUAS PLUVIAIS, CLASSE PS1, COM ENCAIXE MACHO E FEMEA, DIAMETRO NOMINAL DE 600 MM | G43: M | H43: ='memoria de cálculo'!F45 -> 102.79 | I43: 67.6 | J43: =J4 -> 0.2097 | K43: =(J43*I43)+I43 -> 81.77572 | L43: =K43*H43 -> 8405.7263 | N43: =M43*K43 -> 0 | O43: =N43/L43 -> 0 | P43: 102.79 | Q43: =P43*K43 -> 8405.7263 | R43: =Q43/L43 -> 1
C44: 3.1.6 | D44: SINAPI | E44: 92811 | F44: ASSENTAMENTO DE TUBO DE CONCRETO PARA REDES COLETORAS DE ÁGUAS PLUVIAIS, DIÂMETRO DE 600 MM, JUNTA RÍGIDA, INSTALADO EM LOCAL COM BAIXO NÍVEL DE INTERFERÊNCIAS (NÃO INCLUI FORNECIMENTO). AF_12/2015 | G44: M | H44: ='memoria de cálculo'!F46 -> 108.79 | I44: 56.51 | J44: =J4 -> 0.2097 | K44: =(J44*I44)+I44 -> 68.360147 | L44: =K44*H44 -> 7436.9004 | N44: =M44*K44 -> 0 | O44: =N44/L44 -> 0 | P44: 108.79 | Q44: =P44*K44 -> 7436.9004 | R44: =Q44/L44 -> 1
C45: 3.1.7 | D45: SINAPI | E45: 97949 | F45: CAIXA PARA BOCA DE LOBO SIMPLES RETANGULAR, EM ALVENARIA COM TIJOLOS CERÂMICOS MACIÇOS, DIMENSÕES INTERNAS: 0,6X1X1,2 M. AF_12/2020 | G45: UNID | H45: ='memoria de cálculo'!F47 -> 9 | I45: 1237.6 | J45: =J4 -> 0.2097 | K45: =(J45*I45)+I45 -> 1497.1247 | L45: =K45*H45 -> 13474.122 | N45: =M45*K45 -> 0 | O45: =N45/L45 -> 0 | P45: 7 | Q45: =P45*K45 -> 10479.873 | R45: =Q45/L45 -> 0.77777778
C46: 3.2 | F46: PAVIMENTAÇÃO | L46: =L47+L48 -> 83615.684
C47: 3.2.1 | D47: SINAPI | E47: 94273 | F47: ASSENTAMENTO DE GUIA (MEIO-FIO) EM TRECHO RETO, CONFECCIONADA EM CONCRETO PRÉ-FABRICADO, DIMENSÕES 100X15X13X30 CM (COMPRIMENTO X BASE INFERIOR X BASE SUPERIOR X ALTURA), PARA VIAS URBANAS (USO VIÁRIO). AF_06/2016 | G47: M | H47: ='memoria de cálculo'!F49 -> 156.66 | I47: 38.74 | J47: =J4 -> 0.2097 | K47: =(J47*I47)+I47 -> 46.863778 | L47: =K47*H47 -> 7341.6795 | N47: =M47*K47 -> 0 | O47: =N47/L47 -> 0 | P47: 156.66 | Q47: =P47*K47 -> 7341.6795 | R47: =Q47/L47 -> 1
C48: 3.2.2 | D48: Composição | E48: 01 | F48: PAVIMENTO EM PARALELEPÍPEDO SOBRE COLCHÃO PÓ DE BRITA REJUNTADO AS VALAS COM ARGAMASSA DE CIMENTO E AREIA | G48: M2 | H48: 880 | I48: 71.65 | J48: =J47 -> 0.2097 | K48: =(J48*I48)+I48 -> 86.675005 | L48: =K48*H48 -> 76274.004 | N48: =M48*K48 -> 0 | O48: =N48/L48 -> 0 | P48: 880 | Q48: =P48*K48 -> 76274.004 | R48: =Q48/L48 -> 1
C49: 3.3 | F49: PASSEIOS | L49: =L50+L51 -> 6147.6794
C50: 3.3.1 | D50: SINAPI | E50: 96385 | F50: EXECUÇÃO E COMPACTAÇÃO DE ATERRO COM SOLO PREDOMINANTEMENTE ARGILOSO - EXCLUSIVE SOLO, ESCAVAÇÃO, CARGA E TRANSPORTE. AF_11/2019 | G50: M3 | H50: ='memoria de cálculo'!F55 -> 147 | I50: 7.65 | J50: =J48 -> 0.2097 | K50: =(J50*I50)+I50 -> 9.254205 | L50: =K50*H50 -> 1360.3681
C51: 3.3.2 | D51: SINAPI | E51: 94991 | F51: EXECUÇÃO DE PASSEIO (CALÇADA) OU PISO DE CONCRETO COM CONCRETO MOLDADO IN LOCO, USINADO, ACABAMENTO CONVENCIONAL, NÃO ARMADO. AF_07/2016 | G51: M3 | H51: ='memoria de cálculo'!F56 -> 8.16 | I51: 484.98 | J51: =J4 -> 0.2097 | K51: =(J51*I51)+I51 -> 586.68031 | L51: =K51*H51 -> 4787.3113
C52: 3.4 | F52: RAMPAS | L52: =L53+L54 -> 217.60715
C53: 3.4.1 | D53: SINAPI | E53: 94991 | F53: EXECUÇÃO DE PASSEIO (CALÇADA) OU PISO DE CONCRETO COM CONCRETO MOLDADO IN LOCO, USINADO, ACABAMENTO CONVENCIONAL, NÃO ARMADO. AF_07/2016 | G53: M3 | H53: ='memoria de cálculo'!F58 -> 0.24 | I53: 484.98 | J53: =J4 -> 0.2097 | K53: =(J53*I53)+I53 -> 586.68031 | L53: =K53*H53 -> 140.80327
C54: 3.4.2 | D54: SINAPI-I | E54: 36178 | F54: PISO PODOTATIL DE CONCRETO - DIRECIONAL E ALERTA, *40 X 40 X 2,5* CM | G54: UN | H54: ='memoria de cálculo'!F59 -> 8 | I54: 8.42 | J54: =J5 -> 0.1402 | K54: =(J54*I54)+I54 -> 9.600484 | L54: =K54*H54 -> 76.803872
C55: 3.5 | F55: SINALIZAÇÃO | L55: =L56+L57+L58+L59 -> 1081.1062
C56: 3.5.1 | D56: SINAPI-I | E56: 34723 | F56: PLACA DE SINALIZACAO EM CHAPA DE ACO NUM 16 COM PINTURA REFLETIVA | G56: M2 | H56: ='memoria de cálculo'!F61 -> 0.25 | I56: 402.01 | J56: =J5 -> 0.1402 | K56: =(J56*I56)+I56 -> 458.3718 | L56: =K56*H56 -> 114.59295
C57: 3.5.2 | D57: SINAPI-I | E57: 13521 | F57: PLACA DE ACO ESMALTADA PARA IDENTIFICACAO DE RUA, *45 CM X 20* CM | G57: UN | H57: ='memoria de cálculo'!F62 -> 2 | I57: 57.39 | J57: =J5 -> 0.1402 | K57: =(J57*I57)+I57 -> 65.436078 | L57: =K57*H57 -> 130.87216
C58: 3.5.3 | D58: SINAPI-I | E58: 7696 | F58: TUBO ACO GALVANIZADO COM COSTURA, CLASSE MEDIA, DN 2", E = *3,65* MM, PESO *5,10* KG/M (NBR 5580) | G58: M | H58: ='memoria de cálculo'!F63 -> 9 | I58: 77.35 | J58: =J5 -> 0.1402 | K58: =(J58*I58)+I58 -> 88.19447 | L58: =K58*H58 -> 793.75023
C59: 3.5.4 | D59: SINAPI | E59: 94975 | F59: CONCRETO FCK = 15MPA, TRAÇO 1:3,4:3,5 (EM MASSA SECA DE CIMENTO/ AREIA MÉDIA/ BRITA 1) - PREPARO MANUAL. AF_05/2021 | G59: M3 | H59: ='memoria de cálculo'!F64 -> 0.11 | I59: 314.81 | J59: =J4 -> 0.2097 | K59: =(J59*I59)+I59 -> 380.82566 | L59: =K59*H59 -> 41.890822
C60: 4 | F60: PAVIMENTAÇÃO RUA EDUARDO PUMPMACKER - 736 M² | L60: =L61+L69+L72+L75+L78 -> 101784.28 | P60: ACUMULADO
C61: 4.1 | F61: DRENAGEM | L61: =L62+L63+L64+L65+L66+L67+L68 -> 19689.808 | M61: =SUM(N62:N82) -> 0 | P61: =SUM(Q62:Q82) -> 101784.28
C62: 4.1.1 | D62: SINAPI | E62: 90105 | F62: ESCAVAÇÃO MECANIZADA DE VALA COM PROFUNDIDADE ATÉ 1,5 M (MÉDIA ENTRE MONTANTE E JUSANTE/UMA COMPOSIÇÃO POR TRECHO) COM RETROESCAVADEIRA (CAPACIDADE DA CAÇAMBA DA RETRO: 0,26 M3 / POTÊNCIA: 88 HP), LARGURA MENOR QUE 0,8 M, EM SOLO DE 1A CATEGORIA, LOCAISCOM BAIXO NÍVEL DE INTERFERÊNCIA. AF_02/2021 | G62: M3 | H62: ='memoria de cálculo'!F67 -> 106.43 | I62: 5.87 | J62: =J13 -> 0.2097 | K62: =(J62*I62)+I62 -> 7.100939 | L62: =K62*H62 -> 755.75294 | P62: 106.43 | Q62: =P62*K62 -> 755.75294 | R62: =Q62/L62 -> 1
C63: 4.1.2 | D63: SINAPI | E63: 93378 | F63: REATERRO MECANIZADO DE VALA COM RETROESCAVADEIRA (CAPACIDADE DA CAÇAMBA DA RETRO: 0,26 M³ / POTÊNCIA: 88 HP), LARGURA ATÉ 0,8 M, PROFUNDIDADE ATÉ 1,5 M, COM SOLO DE 1ª CATEGORIA EM LOCAIS COM BAIXO NÍVEL DE INTERFERÊNCIA. AF_04/2016 | G63: M3 | H63: ='memoria de cálculo'!F68 -> 74 | I63: 17.7 | J63: =J4 -> 0.2097 | K63: =(J63*I63)+I63 -> 21.41169 | L63: =K63*H63 -> 1584.4651 | P63: 74 | Q63: =P63*K63 -> 1584.4651 | R63: =Q63/L63 -> 1
C64: 4.1.3 | D64: SINAPI-I | E64: 37450 | F64: TUBO DE CONCRETO SIMPLES PARA AGUAS PLUVIAIS, CLASSE PS1, COM ENCAIXE MACHO E FEMEA, DIAMETRO NOMINAL DE 300 MM | G64: M | H64: ='memoria de cálculo'!F69 -> 8 | I64: 38.43 | J64: =J5 -> 0.1402 | K64: =(J64*I64)+I64 -> 43.817886 | L64: =K64*H64 -> 350.54309 | P64: 8 | Q64: =P64*K64 -> 350.54309 | R64: =Q64/L64 -> 1
C65: 4.1.4 | D65: SINAPI | E65: 92808 | F65: ASSENTAMENTO DE TUBO DE CONCRETO PARA REDES COLETORAS DE ÁGUAS PLUVIAIS, DIÂMETRO DE 300 MM, JUNTA RÍGIDA, INSTALADO EM LOCAL COM BAIXO NÍVEL DE INTERFERÊNCIAS (NÃO INCLUI FORNECIMENTO). AF_12/2015 | G65: M | H65: ='memoria de cálculo'!F70 -> 8 | I65: 38.67 | J65: =J4 -> 0.2097 | K65: =(J65*I65)+I65 -> 46.779099 | L65: =K65*H65 -> 374.23279 | P65: 8 | Q65: =P65*K65 -> 374.23279 | R65: =Q65/L65 -> 1
C66: 4.1.5 | D66: SINAPI-I | E66: 37451 | F66: TUBO DE CONCRETO SIMPLES PARA AGUAS PLUVIAIS, CLASSE PS1, COM ENCAIXE MACHO E FEMEA, DIAMETRO NOMINAL DE 400 MM | G66: M | H66: ='memoria de cálculo'!F71 -> 84 | I66: 67.6 | J66: =J5 -> 0.1402 | K66: =(J66*I66)+I66 -> 77.07752 | L66: =K66*H66 -> 6474.5117 | P66: 84 | Q66: =P66*K66 -> 6474.5117 | R66: =Q66/L66 -> 1
C67: 4.1.6 | D67: SINAPI | E67: 92809 | F67: ASSENTAMENTO DE TUBO DE CONCRETO PARA REDES COLETORAS DE ÁGUAS PLUVIAIS, DIÂMETRO DE 400 MM, JUNTA RÍGIDA, INSTALADO EM LOCAL COM BAIXO NÍVEL DE INTERFERÊNCIAS (NÃO INCLUI FORNECIMENTO). AF_12/2015 | G67: M | H67: ='memoria de cálculo'!F72 -> 84 | I67: 55.69 | J67: =J62 -> 0.2097 | K67: =(J67*I67)+I67 -> 67.368193 | L67: =K67*H67 -> 5658.9282 | P67: 84 | Q67: =P67*K67 -> 5658.9282 | R67: =Q67/L67 -> 1
C68: 4.1.7 | D68: SINAPI | E68: 97949 | F68: CAIXA PARA BOCA DE LOBO SIMPLES RETANGULAR, EM ALVENARIA COM TIJOLOS CERÂMICOS MACIÇOS, DIMENSÕES INTERNAS: 0,6X1X1,2 M. AF_12/2020 | G68: UN | H68: ='memoria de cálculo'!F73 -> 3 | I68: 1237.6 | J68: =J4 -> 0.2097 | K68: =(J68*I68)+I68 -> 1497.1247 | L68: =K68*H68 -> 4491.3742 | P68: 3 | Q68: =P68*K68 -> 4491.3742 | R68: =Q68/L68 -> 1
C69: 4.2 | F69: PAVIMENTAÇÃO | L69: =L70+L71 -> 72040.829
C70: 4.2.1 | D70: SINAPI | E70: 94273 | F70: ASSENTAMENTO DE GUIA (MEIO-FIO) EM TRECHO RETO, CONFECCIONADA EM CONCRETO PRÉ-FABRICADO, DIMENSÕES 100X15X13X30 CM (COMPRIMENTO X BASE INFERIOR X BASE SUPERIOR X ALTURA), PARA VIAS URBANAS (USO VIÁRIO). AF_06/2016 | G70: M | H70: ='memoria de cálculo'!F75 -> 176 | I70: 38.74 | J70: =J4 -> 0.2097 | K70: =(J70*I70)+I70 -> 46.863778 | L70: =K70*H70 -> 8248.0249 | N70: =M70*K70 -> 0 | O70: =N70/L70 -> 0 | P70: 176 | Q70: =P70*K70 -> 8248.0249 | R70: =Q70/L70 -> 1
C71: 4.2.2 | D71: Composição | E71: 01 | F71: PAVIMENTO EM PARALELEPÍPEDO SOBRE COLCHÃO PÓ DE BRITA REJUNTADO AS VALAS COM ARGAMASSA DE CIMENTO E AREIA | G71: M2 | H71: 736 | I71: 71.65 | J71: =J4 -> 0.2097 | K71: =(J71*I71)+I71 -> 86.675005 | L71: =K71*H71 -> 63792.804 | P71: 736 | Q71: =P71*K71 -> 63792.804 | R71: =Q71/L71 -> 1
C72: 4.3 | F72: PASSEIOS | L72: =L73+L74 -> 8422.6483 | R72: =Q72/L72 -> 0
C73: 4.3.1 | D73: SINAPI | E73: 94991 | F73: EXECUÇÃO DE PASSEIO (CALÇADA) OU PISO DE CONCRETO COM CONCRETO MOLDADO IN LOCO, USINADO, ACABAMENTO CONVENCIONAL, NÃO ARMADO. AF_07/2016 | G73: M3 | H73: ='memoria de cálculo'!F81 -> 18.16 | I73: 7.65 | J73: =J4 -> 0.2097 | K73: =(J73*I73)+I73 -> 9.254205 | L73: =K73*H73 -> 168.05636 | N73: =M73*K73 -> 0 | O73: =N73/L73 -> 0 | P73: 18.16 | Q73: =P73*K73 -> 168.05636 | R73: =Q73/L73 -> 1
C74: 4.3.2 | D74: SINAPI | E74: 96385 | F74: EXECUÇÃO E COMPACTAÇÃO DE ATERRO COM SOLO PREDOMINANTEMENTE ARGILOSO - EXCLUSIVE SOLO, ESCAVAÇÃO, CARGA E TRANSPORTE. AF_11/2019 | G74: M3 | H74: ='memoria de cálculo'!F82 -> 14.07 | I74: 484.98 | J74: =J4 -> 0.2097 | K74: =(J74*I74)+I74 -> 586.68031 | L74: =K74*H74 -> 8254.5919 | N74: =M74*K74 -> 0 | O74: =N74/L74 -> 0 | P74: 14.07 | Q74: =P74*K74 -> 8254.5919 | R74: =Q74/L74 -> 1
C75: 4.4 | F75: RAMPAS | L75: =L76+L77 -> 549.88467
C76: 4.4.1 | D76: SINAPI | E76: 94991 | F76: EXECUÇÃO DE PASSEIO (CALÇADA) OU PISO DE CONCRETO COM CONCRETO MOLDADO IN LOCO, USINADO, ACABAMENTO CONVENCIONAL, NÃO ARMADO. AF_07/2016 | G76: M3 | H76: ='memoria de cálculo'!F84 -> 0.61 | I76: 484.98 | J76: =J73 -> 0.2097 | K76: =(J76*I76)+I76 -> 586.68031 | L76: =K76*H76 -> 357.87499 | N76: =M76*K76 -> 0 | O76: =N76/L76 -> 0 | P76: 0.61 | Q76: =P76*K76 -> 357.87499 | R76: =Q76/L76 -> 1
C77: 4.4.2 | D77: SINAPI-I | E77: 36178 | F77: PISO PODOTATIL DE CONCRETO - DIRECIONAL E ALERTA, *40 X 40 X 2,5* CM | G77: UN | H77: ='memoria de cálculo'!F85 -> 20 | I77: 8.42 | J77: =J5 -> 0.1402 | K77: =(J77*I77)+I77 -> 9.600484 | L77: =K77*H77 -> 192.00968 | N77: =M77*K77 -> 0 | O77: =N77/L77 -> 0 | P77: 20 | Q77: =P77*K77 -> 192.00968 | R77: =Q77/L77 -> 1
C78: 4.5 | F78: SINALIZAÇÃO | L78: =L79+L80+L81+L82 -> 1081.1062
C79: 4.5.1 | D79: SINAPI-I | E79: 34723 | F79: PLACA DE SINALIZACAO EM CHAPA DE ACO NUM 16 COM PINTURA REFLETIVA | G79: M2 | H79: ='memoria de cálculo'!F87 -> 0.25 | I79: 402.01 | J79: =J5 -> 0.1402 | K79: =(J79*I79)+I79 -> 458.3718 | L79: =K79*H79 -> 114.59295 | N79: =M79*K79 -> 0 | O79: =N79/L79 -> 0 | P79: 0.25 | Q79: =P79*K79 -> 114.59295 | R79: =Q79/L79 -> 1
C80: 4.5.2 | D80: SINAPI-I | E80: 13521 | F80: PLACA DE ACO ESMALTADA PARA IDENTIFICACAO DE RUA, *45 CM X 20* CM | G80: UN | H80: ='memoria de cálculo'!F88 -> 2 | I80: 57.39 | J80: =J5 -> 0.1402 | K80: =(J80*I80)+I80 -> 65.436078 | L80: =K80*H80 -> 130.87216 | N80: =M80*K80 -> 0 | O80: =N80/L80 -> 0 | P80: 2 | Q80: =P80*K80 -> 130.87216 | R80: =Q80/L80 -> 1
C81: 4.5.3 | D81: SINAPI-I | E81: 7696 | F81: TUBO ACO GALVANIZADO COM COSTURA, CLASSE MEDIA, DN 2", E = *3,65* MM, PESO *5,10* KG/M (NBR 5580) | G81: M | H81: ='memoria de cálculo'!F89 -> 9 | I81: 77.35 | J81: =J5 -> 0.1402 | K81: =(J81*I81)+I81 -> 88.19447 | L81: =K81*H81 -> 793.75023 | N81: =M81*K81 -> 0 | O81: =N81/L81 -> 0 | P81: 9 | Q81: =P81*K81 -> 793.75023 | R81: =Q81/L81 -> 1
C82: 4.5.4 | D82: SINAPI | E82: 94975 | F82: CONCRETO FCK = 15MPA, TRAÇO 1:3,4:3,5 (EM MASSA SECA DE CIMENTO/ AREIA MÉDIA/ BRITA 1) - PREPARO MANUAL. AF_05/2021 | G82: M3 | H82: ='memoria de cálculo'!F90 -> 0.11 | I82: 314.81 | J82: =J4 -> 0.2097 | K82: =(J82*I82)+I82 -> 380.82566 | L82: =K82*H82 -> 41.890822 | N82: =M82*K82 -> 0 | O82: =N82/L82 -> 0 | P82: 0.11 | Q82: =P82*K82 -> 41.890822 | R82: =Q82/L82 -> 1
M83: =M15+M38 -> 41604.002
C84: Salto do Jacuí/RS, 11 de fevereiro de 2025.
F88: ______________________________________________
F89: JOSIELI FERREIRA
F90: CAU/RS A187139-0

Sheet BOLETIM DE MEDIÇÃO 6
C2: PREFEITURA MUNICIPAL DE SALTO DO JACUÍ | M2: BM 06 | P2: ACUMULADO TOTAL
C4: OBRA | D4: PAVIMENTAÇÃO TRECHO RUA GENERAL CÂMARA E RUA E. PUMPMAKER | G4: BDI | H4: NÃO DESONERADO | J4: 0.2097 | K4: SINAPI 12/2021 | M4: PERÍODO DE MEDIÇÃO: 03/06/2024 À 05/12/2024 | P4: =P15+P38+P61 -> 257257.96
C5: ÁREA | D5: 2.816 M² | G5: BDI | H5: MATERIAIS | J5: 0.1402
C6: CR | D6: 851027/2017
C7: PLANILHA ORÇAMENTÁRIA - NÃO DESONERADA
I8: CUSTO | J8: BDI | K8: CUSTO | L8: VALOR
C9: ITEM | D9: FONTE | E9: CÓDIGO | F9: DESCRIÇÃO | G9: UNID | H9: QUANT | I9: UNIT | J9: % | K9: UNIT+BDI | L9: TOTAL | M9: QUANTIDADE | N9: TOTAL | O9: % | P9: QUANTIDADE | Q9: TOTAL | R9: %
F10: PAVIMENTAÇÃO DE RUAS E DRENAGEM | L10: =L11+L14+L37+L60 -> 402703.7
C11: 1.0 | F11: SERVIÇOS INICIAIS | L11: =L12+L13 -> 5990.9315
C12: 1.1 | D12: SINAPI-I | E12: 4813 | F12: PLACA DE OBRA (PARA CONSTRUCAO CIVIL) EM CHAPA GALVANIZADA *N. 22*, ADESIVADA, DE *2,0 X 1,125* M | G12: M2 | H12: ='memoria de cálculo'!F11 -> 2.88 | I12: 174.03 | J12: =$J$5 -> 0.1402 | K12: =I12+ (I12*$J$12) -> 198.42901 | L12: =K12*H12 -> 571.47554
C13: 1.2 | D13: SINAPI | E13: 90777 | F13: ENGENHEIRO CIVIL DE OBRA JUNIOR COM ENCARGOS COMPLEMENTARES | G13: H | H13: ='memoria de cálculo'!F12 -> 64 | I13: 70 | J13: =$J$4 -> 0.2097 | K13: =I13+ (I13*$J$13) -> 84.679 | L13: =K13*H13 -> 5419.456
C14: 2.0 | F14: PAVIMENTAÇÃO GENERAL CÂMARA - 1.200 M² | L14: =L15+L23+L26++L29+L32 -> 167813.57 | M14: MEDIDO PERÍODO | P14: ACUMULADO
C15: 2.1 | F15: DRENAGEM | L15: =L16+L17+L18+L19+L20+L21+L22 -> 42253.177 | M15: =SUM(N16:N22) -> 38799.405 | P15: =SUM(Q16:Q22) -> 38799.405
C16: 2.1.1 | D16: SINAPI | E16: 90105 | F16: ESCAVAÇÃO MECANIZADA DE VALA COM PROFUNDIDADE ATÉ 1,5 M (MÉDIA ENTRE MONTANTE E JUSANTE/UMA COMPOSIÇÃO POR TRECHO) COM RETROESCAVADEIRA (CAPACIDADE DA CAÇAMBA DA RETRO: 0,26 M3 / POTÊNCIA: 88 HP), LARGURA MENOR QUE 0,8 M, EM SOLO DE 1A CATEGORIA, LOCAISCOM BAIXO NÍVEL DE INTERFERÊNCIA. AF_02/2021 | G16: M3 | H16: ='memoria de cálculo'!F15 -> 249.63 | I16: 5.87 | J16: =$J$4 -> 0.2097 | K16: =(J16*I16)+I16 -> 7.100939 | L16: =K16*H16 -> 1772.6074 | M16: 249.63 | N16: =M16*K16 -> 1772.6074 | O16: =N16/L16 -> 1 | P16: 249.63 | Q16: =P16*K16 -> 1772.6074 | R16: =Q16/L16 -> 1
C17: 2.1.2 | D17: SINAPI | E17: 93378 | F17: REATERRO MECANIZADO DE VALA COM RETROESCAVADEIRA (CAPACIDADE DA CAÇAMBA DA RETRO: 0,26 M³ / POTÊNCIA: 88 HP), LARGURA ATÉ 0,8 M, PROFUNDIDADE ATÉ 1,5 M, COM SOLO DE 1ª CATEGORIA EM LOCAIS COM BAIXO NÍVEL DE INTERFERÊNCIA. AF_04/2016 | G17: M3 | H17: ='memoria de cálculo'!F16 -> 149.6 | I17: 17.7 | J17: =$J$4 -> 0.2097 | K17: =(J17*I17)+I17 -> 21.41169 | L17: =K17*H17 -> 3203.1888 | M17: 149.6 | N17: =M17*K17 -> 3203.1888 | O17: =N17/L17 -> 1 | P17: 149.6 | Q17: =P17*K17 -> 3203.1888 | R17: =Q17/L17 -> 1
C18: 2.1.3 | D18: SINAPI-I | E18: 37451 | F18: TUBO DE CONCRETO SIMPLES PARA AGUAS PLUVIAIS, CLASSE PS1, COM ENCAIXE MACHO E FEMEA, DIAMETRO NOMINAL DE 400 MM | G18: M | H18: ='memoria de cálculo'!F17 -> 39.4 | I18: 38.44 | J18: =$J$5 -> 0.1402 | K18: =(J18*I18)+I18 -> 43.829288 | L18: =K18*H18 -> 1726.8739 | M18: 39.4 | N18: =M18*K18 -> 1726.8739 | O18: =N18/L18 -> 1 | P18: 39.4 | Q18: =P18*K18 -> 1726.8739 | R18: =Q18/L18 -> 1
C19: 2.1.4 | D19: SINAPI | E19: 92809 | F19: ASSENTAMENTO DE TUBO DE CONCRETO PARA REDES COLETORAS DE ÁGUAS PLUVIAIS, DIÂMETRO DE 400 MM, JUNTA RÍGIDA, INSTALADO EM LOCAL COM BAIXO NÍVEL DE INTERFERÊNCIAS (NÃO INCLUI FORNECIMENTO). AF_12/2015 | G19: M | H19: ='memoria de cálculo'!F18 -> 39.4 | I19: 38.67 | J19: =J13 -> 0.2097 | K19: =(J19*I19)+I19 -> 46.779099 | L19: =K19*H19 -> 1843.0965 | M19: 39.4 | N19: =M19*K19 -> 1843.0965 | O19: =N19/L19 -> 1 | P19: 39.4 | Q19: =P19*K19 -> 1843.0965 | R19: =Q19/L19 -> 1
C20: 2.1.5 | D20: SINAPI-I | E20: 37453 | F20: TUBO DE CONCRETO SIMPLES PARA AGUAS PLUVIAIS, CLASSE PS1, COM ENCAIXE MACHO E FEMEA, DIAMETRO NOMINAL DE 600 MM | G20: M | H20: ='memoria de cálculo'!F19 -> 150.44 | I20: 67.6 | J20: =$J$5 -> 0.1402 | K20: =(J20*I20)+I20 -> 77.07752 | L20: =K20*H20 -> 11595.542 | M20: 120 | N20: =M20*K20 -> 9249.3024 | O20: =N20/L20 -> 0.7976602 | P20: 120 | Q20: =P20*K20 -> 9249.3024 | R20: =Q20/L20 -> 0.7976602
C21: 2.1.6 | D21: SINAPI | E21: 92811 | F21: ASSENTAMENTO DE TUBO DE CONCRETO PARA REDES COLETORAS DE ÁGUAS PLUVIAIS, DIÂMETRO DE 600 MM, JUNTA RÍGIDA, INSTALADO EM LOCAL COM BAIXO NÍVEL DE INTERFERÊNCIAS (NÃO INCLUI FORNECIMENTO). AF_12/2015 | G21: M | H21: ='memoria de cálculo'!F20 -> 150.44 | I21: 55.69 | J21: =$J$13 -> 0.2097 | K21: =(J21*I21)+I21 -> 67.368193 | L21: =K21*H21 -> 10134.871 | M21: 134 | N21: =M21*K21 -> 9027.3379 | O21: =N21/L21 -> 0.89072055 | P21: 134 | Q21: =P21*K21 -> 9027.3379 | R21: =Q21/L21 -> 0.89072055
C22: 2.1.7 | D22: SINAPI | E22: 97949 | F22: CAIXA PARA BOCA DE LOBO SIMPLES RETANGULAR, EM ALVENARIA COM TIJOLOS CERÂMICOS MACIÇOS, DIMENSÕES INTERNAS: 0,6X1X1,2 M. AF_12/2020 | G22: UNID | H22: ='memoria de cálculo'!F21 -> 8 | I22: 1237.6 | J22: =$J$13 -> 0.2097 | K22: =(J22*I22)+I22 -> 1497.1247 | L22: =K22*H22 -> 11976.998 | M22: 8 | N22: =M22*K22 -> 11976.998 | O22: =N22/L22 -> 1 | P22: 8 | Q22: =P22*K22 -> 11976.998 | R22: =Q22/L22 -> 1
C23: 2.2 | F23: PAVIMENTAÇÃO | L23: =L24+L25 -> 114507.49
C24: 2.1 | D24: SINAPI | E24: 94273 | F24: ASSENTAMENTO DE GUIA (MEIO-FIO) EM TRECHO RETO, CONFECCIONADA EM CONCRETO PRÉ-FABRICADO, DIMENSÕES 100X15X13X30 CM (COMPRIMENTO X BASE INFERIOR X BASE SUPERIOR X ALTURA), PARA VIAS URBANAS (USO VIÁRIO). AF_06/2016 | G24: M | H24: ='memoria de cálculo'!F23 -> 224 | I24: 38.74 | J24: =$J$13 -> 0.2097 | K24: =(J24*I24)+I24 -> 46.863778 | L24: =K24*H24 -> 10497.486
C25: 2.2.2 | D25: Composição | E25: 01 | F25: PAVIMENTO EM PARALELEPÍPEDO SOBRE COLCHÃO PÓ DE BRITA REJUNTADO AS VALAS COM ARGAMASSA DE CIMENTO E AREIA | G25: M2 | H25: 1200 | I25: 71.65 | J25: =$J$13 -> 0.2097 | K25: =(J25*I25)+I25 -> 86.675005 | L25: =K25*H25 -> 104010.01
C26: 2.3 | F26: PASSEIOS | L26: =L27+L28 -> 9421.9141
C27: 2.3.1 | D27: SINAPI | E27: 96385 | F27: EXECUÇÃO E COMPACTAÇÃO DE ATERRO COM SOLO PREDOMINANTEMENTE ARGILOSO - EXCLUSIVE SOLO, ESCAVAÇÃO, CARGA E TRANSPORTE. AF_11/2019 | G27: M3 | H27: ='memoria de cálculo'!F29 -> 379.09 | I27: 7.65 | J27: =J25 -> 0.2097 | K27: =(J27*I27)+I27 -> 9.254205 | L27: =K27*H27 -> 3508.1766
C28: 2.3.2 | D28: SINAPI | E28: 94991 | F28: EXECUÇÃO DE PASSEIO (CALÇADA) OU PISO DE CONCRETO COM CONCRETO MOLDADO IN LOCO, USINADO, ACABAMENTO CONVENCIONAL, NÃO ARMADO. AF_07/2016 | G28: M3 | H28: ='memoria de cálculo'!F30 -> 10.08 | I28: 484.98 | J28: =J13 -> 0.2097 | K28: =(J28*I28)+I28 -> 586.68031 | L28: =K28*H28 -> 5913.7375
C29: 2.4 | F29: RAMPAS | L29: =L30+L31 -> 549.88467
C30: 2.4.1 | D30: SINAPI | E30: 94991 | F30: EXECUÇÃO DE PASSEIO (CALÇADA) OU PISO DE CONCRETO COM CONCRETO MOLDADO IN LOCO, USINADO, ACABAMENTO CONVENCIONAL, NÃO ARMADO. AF_07/2016 | G30: M3 | H30: ='memoria de cálculo'!F32 -> 0.61 | I30: 484.98 | J30: =J4 -> 0.2097 | K30: =(J30*I30)+I30 -> 586.68031 | L30: =K30*H30 -> 357.87499
C31: 2.4.2 | D31: SINAPI-I | E31: 36178 | F31: PISO PODOTATIL DE CONCRETO - DIRECIONAL E ALERTA, *40 X 40 X 2,5* CM | G31: UN | H31: ='memoria de cálculo'!F33 -> 20 | I31: 8.42 | J31: =J5 -> 0.1402 | K31: =(J31*I31)+I31 -> 9.600484 | L31: =K31*H31 -> 192.00968
C32: 2.5 | F32: SINALIZAÇÃO | L32: =L33+L34+L35+L36 -> 1081.1062
C33: 2.5.1 | D33: SINAPI-I | E33: 34723 | F33: PLACA DE SINALIZACAO EM CHAPA DE ACO NUM 16 COM PINTURA REFLETIVA | G33: M2 | H33: ='memoria de cálculo'!F35 -> 0.25 | I33: 402.01 | J33: =J5 -> 0.1402 | K33: =(J33*I33)+I33 -> 458.3718 | L33: =K33*H33 -> 114.59295
C34: 2.5.2 | D34: SINAPI-I | E34: 13521 | F34: PLACA DE ACO ESMALTADA PARA IDENTIFICACAO DE RUA, *45 CM X 20* CM | G34: UN | H34: ='memoria de cálculo'!F36 -> 2 | I34: 57.39 | J34: =J5 -> 0.1402 | K34: =(J34*I34)+I34 -> 65.436078 | L34: =K34*H34 -> 130.87216
C35: 2.5.3 | D35: SINAPI-I | E35: 7696 | F35: TUBO ACO GALVANIZADO COM COSTURA, CLASSE MEDIA, DN 2", E = *3,65* MM, PESO *5,10* KG/M (NBR 5580) | G35: M | H35: ='memoria de cálculo'!F37 -> 9 | I35: 77.35 | J35: =J5 -> 0.1402 | K35: =(J35*I35)+I35 -> 88.19447 | L35: =K35*H35 -> 793.75023
C36: 2.5.4 | D36: SINAPI | E36: 94975 | F36: CONCRETO FCK = 15MPA, TRAÇO 1:3,4:3,5 (EM MASSA SECA DE CIMENTO/ AREIA MÉDIA/ BRITA 1) - PREPARO MANUAL. AF_05/2021 | G36: M3 | H36: ='memoria de cálculo'!F38 -> 0.11 | I36: 314.81 | J36: =J4 -> 0.2097 | K36: =(J36*I36)+I36 -> 380.82566 | L36: =K36*H36 -> 41.890822
C37: 3.0 | F37: PAVIMENTAÇÃO GENERAL CÂMARA - 880 M² | L37: =L38+L46+L49+L52+L55 -> 127114.92 | M37: MEDIDO PERÍODO | P37: ACUMULADO
C38: 3.1 | F38: DRENAGEM | L38: =L39+L40+L41+L42+L43+L44+L45 -> 36052.844 | M38: =SUM(N39:N59) -> 10479.873 | P38: =SUM(Q39:Q59) -> 116674.28
C39: 3.1.1 | D39: SINAPI | E39: 90105 | F39: ESCAVAÇÃO MECANIZADA DE VALA COM PROFUNDIDADE ATÉ 1,5 M (MÉDIA ENTRE MONTANTE E JUSANTE/UMA COMPOSIÇÃO POR TRECHO) COM RETROESCAVADEIRA (CAPACIDADE DA CAÇAMBA DA RETRO: 0,26 M3 / POTÊNCIA: 88 HP), LARGURA MENOR QUE 0,8 M, EM SOLO DE 1A CATEGORIA, LOCAISCOM BAIXO NÍVEL DE INTERFERÊNCIA. AF_02/2021 | G39: M3 | H39: ='memoria de cálculo'!F41 -> 161.29 | I39: 5.87 | J39: =J4 -> 0.2097 | K39: =(J39*I39)+I39 -> 7.100939 | L39: =K39*H39 -> 1145.3105 | N39: =M39*K39 -> 0 | O39: =N39/L39 -> 0 | P39: 161.29 | Q39: =P39*K39 -> 1145.3105 | R39: =Q39/L39 -> 1
C40: 3.1.2 | D40: SINAPI | E40: 93378 | F40: REATERRO MECANIZADO DE VALA COM RETROESCAVADEIRA (CAPACIDADE DA CAÇAMBA DA RETRO: 0,26 M³ / POTÊNCIA: 88 HP), LARGURA ATÉ 0,8 M, PROFUNDIDADE ATÉ 1,5 M, COM SOLO DE 1ª CATEGORIA EM LOCAIS COM BAIXO NÍVEL DE INTERFERÊNCIA. AF_04/2016 | G40: M3 | H40: ='memoria de cálculo'!F42 -> 94.4 | I40: 17.7 | J40: =J4 -> 0.2097 | K40: =(J40*I40)+I40 -> 21.41169 | L40: =K40*H40 -> 2021.2635 | N40: =M40*K40 -> 0 | O40: =N40/L40 -> 0 | P40: 94.4 | Q40: =P40*K40 -> 2021.2635 | R40: =Q40/L40 -> 1
C41: 3.1.3 | D41: SINAPI-I | E41: 37451 | F41: TUBO DE CONCRETO SIMPLES PARA AGUAS PLUVIAIS, CLASSE PS1, COM ENCAIXE MACHO E FEMEA, DIAMETRO NOMINAL DE 400 MM | G41: M | H41: ='memoria de cálculo'!F43 -> 39.4 | I41: 38.43 | J41: =J5 -> 0.1402 | K41: =(J41*I41)+I41 -> 43.817886 | L41: =K41*H41 -> 1726.4247 | N41: =M41*K41 -> 0 | O41: =N41/L41 -> 0 | P41: 39.4 | Q41: =P41*K41 -> 1726.4247 | R41: =Q41/L41 -> 1
C42: 3.1.4 | D42: SINAPI | E42: 92809 | F42: ASSENTAMENTO DE TUBO DE CONCRETO PARA REDES COLETORAS DE ÁGUAS PLUVIAIS, DIÂMETRO DE 400 MM, JUNTA RÍGIDA, INSTALADO EM LOCAL COM BAIXO NÍVEL DE INTERFERÊNCIAS (NÃO INCLUI FORNECIMENTO). AF_12/2015 | G42: M | H42: ='memoria de cálculo'!F44 -> 39.4 | I42: 38.67 | J42: =J4 -> 0.2097 | K42: =(J42*I42)+I42 -> 46.779099 | L42: =K42*H42 -> 1843.0965 | N42: =M42*K42 -> 0 | O42: =N42/L42 -> 0 | P42: 39.4 | Q42: =P42*K42 -> 1843.0965 | R42: =Q42/L42 -> 1
C43: 3.1.5 | D43: SINAPI | E43: 37453 | F43: TUBO DE CONCRETO SIMPLES PARA AGUAS PLUVIAIS, CLASSE PS1, COM ENCAIXE MACHO E FEMEA, DIAMETRO NOMINAL DE 600 MM | G43: M | H43: ='memoria de cálculo'!F45 -> 102.79 | I43: 67.6 | J43: =J4 -> 0.2097 | K43: =(J43*I43)+I43 -> 81.77572 | L43: =K43*H43 -> 8405.7263 | N43: =M43*K43 -> 0 | O43: =N43/L43 -> 0 | P43: 102.79 | Q43: =P43*K43 -> 8405.7263 | R43: =Q43/L43 -> 1
C44: 3.1.6 | D44: SINAPI | E44: 92811 | F44: ASSENTAMENTO DE TUBO DE CONCRETO PARA REDES COLETORAS DE ÁGUAS PLUVIAIS, DIÂMETRO DE 600 MM, JUNTA RÍGIDA, INSTALADO EM LOCAL COM BAIXO NÍVEL DE INTERFERÊNCIAS (NÃO INCLUI FORNECIMENTO). AF_12/2015 | G44: M | H44: ='memoria de cálculo'!F46 -> 108.79 | I44: 56.51 | J44: =J4 -> 0.2097 | K44: =(J44*I44)+I44 -> 68.360147 | L44: =K44*H44 -> 7436.9004 | N44: =M44*K44 -> 0 | O44: =N44/L44 -> 0 | P44: 108.79 | Q44: =P44*K44 -> 7436.9004 | R44: =Q44/L44 -> 1
C45: 3.1.7 | D45: SINAPI | E45: 97949 | F45: CAIXA PARA BOCA DE LOBO SIMPLES RETANGULAR, EM ALVENARIA COM TIJOLOS CERÂMICOS MACIÇOS, DIMENSÕES INTERNAS: 0,6X1X1,2 M. AF_12/2020 | G45: UNID | H45: ='memoria de cálculo'!F47 -> 9 | I45: 1237.6 | J45: =J4 -> 0.2097 | K45: =(J45*I45)+I45 -> 1497.1247 | L45: =K45*H45 -> 13474.122 | M45: 7 | N45: =M45*K45 -> 10479.873 | O45: =N45/L45 -> 0.77777778 | P45: 7 | Q45: =P45*K45 -> 10479.873 | R45: =Q45/L45 -> 0.77777778
C46: 3.2 | F46: PAVIMENTAÇÃO | L46: =L47+L48 -> 83615.684
C47: 3.2.1 | D47: SINAPI | E47: 94273 | F47: ASSENTAMENTO DE GUIA (MEIO-FIO) EM TRECHO RETO, CONFECCIONADA EM CONCRETO PRÉ-FABRICADO, DIMENSÕES 100X15X13X30 CM (COMPRIMENTO X BASE INFERIOR X BASE SUPERIOR X ALTURA), PARA VIAS URBANAS (USO VIÁRIO). AF_06/2016 | G47: M | H47: ='memoria de cálculo'!F49 -> 156.66 | I47: 38.74 | J47: =J4 -> 0.2097 | K47: =(J47*I47)+I47 -> 46.863778 | L47: =K47*H47 -> 7341.6795 | N47: =M47*K47 -> 0 | O47: =N47/L47 -> 0 | P47: 156.66 | Q47: =P47*K47 -> 7341.6795 | R47: =Q47/L47 -> 1
C48: 3.2.2 | D48: Composição | E48: 01 | F48: PAVIMENTO EM PARALELEPÍPEDO SOBRE COLCHÃO PÓ DE BRITA REJUNTADO AS VALAS COM ARGAMASSA DE CIMENTO E AREIA | G48: M2 | H48: 880 | I48: 71.65 | J48: =J47 -> 0.2097 | K48: =(J48*I48)+I48 -> 86.675005 | L48: =K48*H48 -> 76274.004 | N48: =M48*K48 -> 0 | O48: =N48/L48 -> 0 | P48: 880 | Q48: =P48*K48 -> 76274.004 | R48: =Q48/L48 -> 1
C49: 3.3 | F49: PASSEIOS | L49: =L50+L51 -> 6147.6794
C50: 3.3.1 | D50: SINAPI | E50: 96385 | F50: EXECUÇÃO E COMPACTAÇÃO DE ATERRO COM SOLO PREDOMINANTEMENTE ARGILOSO - EXCLUSIVE SOLO, ESCAVAÇÃO, CARGA E TRANSPORTE. AF_11/2019 | G50: M3 | H50: ='memoria de cálculo'!F55 -> 147 | I50: 7.65 | J50: =J48 -> 0.2097 | K50: =(J50*I50)+I50 -> 9.254205 | L50: =K50*H50 -> 1360.3681
C51: 3.3.2 | D51: SINAPI | E51: 94991 | F51: EXECUÇÃO DE PASSEIO (CALÇADA) OU PISO DE CONCRETO COM CONCRETO MOLDADO IN LOCO, USINADO, ACABAMENTO CONVENCIONAL, NÃO ARMADO. AF_07/2016 | G51: M3 | H51: ='memoria de cálculo'!F56 -> 8.16 | I51: 484.98 | J51: =J4 -> 0.2097 | K51: =(J51*I51)+I51 -> 586.68031 | L51: =K51*H51 -> 4787.3113
C52: 3.4 | F52: RAMPAS | L52: =L53+L54 -> 217.60715
C53: 3.4.1 | D53: SINAPI | E53: 94991 | F53: EXECUÇÃO DE PASSEIO (CALÇADA) OU PISO DE CONCRETO COM CONCRETO MOLDADO IN LOCO, USINADO, ACABAMENTO CONVENCIONAL, NÃO ARMADO. AF_07/2016 | G53: M3 | H53: ='memoria de cálculo'!F58 -> 0.24 | I53: 484.98 | J53: =J4 -> 0.2097 | K53: =(J53*I53)+I53 -> 586.68031 | L53: =K53*H53 -> 140.80327
C54: 3.4.2 | D54: SINAPI-I | E54: 36178 | F54: PISO PODOTATIL DE CONCRETO - DIRECIONAL E ALERTA, *40 X 40 X 2,5* CM | G54: UN | H54: ='memoria de cálculo'!F59 -> 8 | I54: 8.42 | J54: =J5 -> 0.1402 | K54: =(J54*I54)+I54 -> 9.600484 | L54: =K54*H54 -> 76.803872
C55: 3.5 | F55: SINALIZAÇÃO | L55: =L56+L57+L58+L59 -> 1081.1062
C56: 3.5.1 | D56: SINAPI-I | E56: 34723 | F56: PLACA DE SINALIZACAO EM CHAPA DE ACO NUM 16 COM PINTURA REFLETIVA | G56: M2 | H56: ='memoria de cálculo'!F61 -> 0.25 | I56: 402.01 | J56: =J5 -> 0.1402 | K56: =(J56*I56)+I56 -> 458.3718 | L56: =K56*H56 -> 114.59295
C57: 3.5.2 | D57: SINAPI-I | E57: 13521 | F57: PLACA DE ACO ESMALTADA PARA IDENTIFICACAO DE RUA, *45 CM X 20* CM | G57: UN | H57: ='memoria de cálculo'!F62 -> 2 | I57: 57.39 | J57: =J5 -> 0.1402 | K57: =(J57*I57)+I57 -> 65.436078 | L57: =K57*H57 -> 130.87216
C58: 3.5.3 | D58: SINAPI-I | E58: 7696 | F58: TUBO ACO GALVANIZADO COM COSTURA, CLASSE MEDIA, DN 2", E = *3,65* MM, PESO *5,10* KG/M (NBR 5580) | G58: M | H58: ='memoria de cálculo'!F63 -> 9 | I58: 77.35 | J58: =J5 -> 0.1402 | K58: =(J58*I58)+I58 -> 88.19447 | L58: =K58*H58 -> 793.75023
C59: 3.5.4 | D59: SINAPI | E59: 94975 | F59: CONCRETO FCK = 15MPA, TRAÇO 1:3,4:3,5 (EM MASSA SECA DE CIMENTO/ AREIA MÉDIA/ BRITA 1) - PREPARO MANUAL. AF_05/2021 | G59: M3 | H59: ='memoria de cálculo'!F64 -> 0.11 | I59: 314.81 | J59: =J4 -> 0.2097 | K59: =(J59*I59)+I59 -> 380.82566 | L59: =K59*H59 -> 41.890822
C60: 4 | F60: PAVIMENTAÇÃO RUA EDUARDO PUMPMACKER - 736 M² | L60: =L61+L69+L72+L75+L78 -> 101784.28 | P60: ACUMULADO
C61: 4.1 | F61: DRENAGEM | L61: =L62+L63+L64+L65+L66+L67+L68 -> 19689.808 | M61: =SUM(N62:N82) -> 0 | P61: =SUM(Q62:Q82) -> 101784.28
C62: 4.1.1 | D62: SINAPI | E62: 90105 | F62: ESCAVAÇÃO MECANIZADA DE VALA COM PROFUNDIDADE ATÉ 1,5 M (MÉDIA ENTRE MONTANTE E JUSANTE/UMA COMPOSIÇÃO POR TRECHO) COM RETROESCAVADEIRA (CAPACIDADE DA CAÇAMBA DA RETRO: 0,26 M3 / POTÊNCIA: 88 HP), LARGURA MENOR QUE 0,8 M, EM SOLO DE 1A CATEGORIA, LOCAISCOM BAIXO NÍVEL DE INTERFERÊNCIA. AF_02/2021 | G62: M3 | H62: ='memoria de cálculo'!F67 -> 106.43 | I62: 5.87 | J62: =J13 -> 0.2097 | K62: =(J62*I62)+I62 -> 7.100939 | L62: =K62*H62 -> 755.75294 | P62: 106.43 | Q62: =P62*K62 -> 755.75294 | R62: =Q62/L62 -> 1
C63: 4.1.2 | D63: SINAPI | E63: 93378 | F63: REATERRO MECANIZADO DE VALA COM RETROESCAVADEIRA (CAPACIDADE DA CAÇAMBA DA RETRO: 0,26 M³ / POTÊNCIA: 88 HP), LARGURA ATÉ 0,8 M, PROFUNDIDADE ATÉ 1,5 M, COM SOLO DE 1ª CATEGORIA EM LOCAIS COM BAIXO NÍVEL DE INTERFERÊNCIA. AF_04/2016 | G63: M3 | H63: ='memoria de cálculo'!F68 -> 74 | I63: 17.7 | J63: =J4 -> 0.2097 | K63: =(J63*I63)+I63 -> 21.41169 | L63: =K63*H63 -> 1584.4651 | P63: 74 | Q63: =P63*K63 -> 1584.4651 | R63: =Q63/L63 -> 1
C64: 4.1.3 | D64: SINAPI-I | E64: 37450 | F64: TUBO DE CONCRETO SIMPLES PARA AGUAS PLUVIAIS, CLASSE PS1, COM ENCAIXE MACHO E FEMEA, DIAMETRO NOMINAL DE 300 MM | G64: M | H64: ='memoria de cálculo'!F69 -> 8 | I64: 38.43 | J64: =J5 -> 0.1402 | K64: =(J64*I64)+I64 -> 43.817886 | L64: =K64*H64 -> 350.54309 | P64: 8 | Q64: =P64*K64 -> 350.54309 | R64: =Q64/L64 -> 1
C65: 4.1.4 | D65: SINAPI | E65: 92808 | F65: ASSENTAMENTO DE TUBO DE CONCRETO PARA REDES COLETORAS DE ÁGUAS PLUVIAIS, DIÂMETRO DE 300 MM, JUNTA RÍGIDA, INSTALADO EM LOCAL COM BAIXO NÍVEL DE INTERFERÊNCIAS (NÃO INCLUI FORNECIMENTO). AF_12/2015 | G65: M | H65: ='memoria de cálculo'!F70 -> 8 | I65: 38.67 | J65: =J4 -> 0.2097 | K65: =(J65*I65)+I65 -> 46.779099 | L65: =K65*H65 -> 374.23279 | P65: 8 | Q65: =P65*K65 -> 374.23279 | R65: =Q65/L65 -> 1
C66: 4.1.5 | D66: SINAPI-I | E66: 37451 | F66: TUBO DE CONCRETO SIMPLES PARA AGUAS PLUVIAIS, CLASSE PS1, COM ENCAIXE MACHO E FEMEA, DIAMETRO NOMINAL DE 400 MM | G66: M | H66: ='memoria de cálculo'!F71 -> 84 | I66: 67.6 | J66: =J5 -> 0.1402 | K66: =(J66*I66)+I66 -> 77.07752 | L66: =K66*H66 -> 6474.5117 | P66: 84 | Q66: =P66*K66 -> 6474.5117 | R66: =Q66/L66 -> 1
C67: 4.1.6 | D67: SINAPI | E67: 92809 | F67: ASSENTAMENTO DE TUBO DE CONCRETO PARA REDES COLETORAS DE ÁGUAS PLUVIAIS, DIÂMETRO DE 400 MM, JUNTA RÍGIDA, INSTALADO EM LOCAL COM BAIXO NÍVEL DE INTERFERÊNCIAS (NÃO INCLUI FORNECIMENTO). AF_12/2015 | G67: M | H67: ='memoria de cálculo'!F72 -> 84 | I67: 55.69 | J67: =J62 -> 0.2097 | K67: =(J67*I67)+I67 -> 67.368193 | L67: =K67*H67 -> 5658.9282 | P67: 84 | Q67: =P67*K67 -> 5658.9282 | R67: =Q67/L67 -> 1
C68: 4.1.7 | D68: SINAPI | E68: 97949 | F68: CAIXA PARA BOCA DE LOBO SIMPLES RETANGULAR, EM ALVENARIA COM TIJOLOS CERÂMICOS MACIÇOS, DIMENSÕES INTERNAS: 0,6X1X1,2 M. AF_12/2020 | G68: UN | H68: ='memoria de cálculo'!F73 -> 3 | I68: 1237.6 | J68: =J4 -> 0.2097 | K68: =(J68*I68)+I68 -> 1497.1247 | L68: =K68*H68 -> 4491.3742 | P68: 3 | Q68: =P68*K68 -> 4491.3742 | R68: =Q68/L68 -> 1
C69: 4.2 | F69: PAVIMENTAÇÃO | L69: =L70+L71 -> 72040.829
C70: 4.2.1 | D70: SINAPI | E70: 94273 | F70: ASSENTAMENTO DE GUIA (MEIO-FIO) EM TRECHO RETO, CONFECCIONADA EM CONCRETO PRÉ-FABRICADO, DIMENSÕES 100X15X13X30 CM (COMPRIMENTO X BASE INFERIOR X BASE SUPERIOR X ALTURA), PARA VIAS URBANAS (USO VIÁRIO). AF_06/2016 | G70: M | H70: ='memoria de cálculo'!F75 -> 176 | I70: 38.74 | J70: =J4 -> 0.2097 | K70: =(J70*I70)+I70 -> 46.863778 | L70: =K70*H70 -> 8248.0249 | N70: =M70*K70 -> 0 | O70: =N70/L70 -> 0 | P70: 176 | Q70: =P70*K70 -> 8248.0249 | R70: =Q70/L70 -> 1
C71: 4.2.2 | D71: Composição | E71: 01 | F71: PAVIMENTO EM PARALELEPÍPEDO SOBRE COLCHÃO PÓ DE BRITA REJUNTADO AS VALAS COM ARGAMASSA DE CIMENTO E AREIA | G71: M2 | H71: 736 | I71: 71.65 | J71: =J4 -> 0.2097 | K71: =(J71*I71)+I71 -> 86.675005 | L71: =K71*H71 -> 63792.804 | P71: 736 | Q71: =P71*K71 -> 63792.804 | R71: =Q71/L71 -> 1
C72: 4.3 | F72: PASSEIOS | L72: =L73+L74 -> 8422.6483 | R72: =Q72/L72 -> 0
C73: 4.3.1 | D73: SINAPI | E73: 94991 | F73: EXECUÇÃO DE PASSEIO (CALÇADA) OU PISO DE CONCRETO COM CONCRETO MOLDADO IN LOCO, USINADO, ACABAMENTO CONVENCIONAL, NÃO ARMADO. AF_07/2016 | G73: M3 | H73: ='memoria de cálculo'!F81 -> 18.16 | I73: 7.65 | J73: =J4 -> 0.2097 | K73: =(J73*I73)+I73 -> 9.254205 | L73: =K73*H73 -> 168.05636 | N73: =M73*K73 -> 0 | O73: =N73/L73 -> 0 | P73: 18.16 | Q73: =P73*K73 -> 168.05636 | R73: =Q73/L73 -> 1
C74: 4.3.2 | D74: SINAPI | E74: 96385 | F74: EXECUÇÃO E COMPACTAÇÃO DE ATERRO COM SOLO PREDOMINANTEMENTE ARGILOSO - EXCLUSIVE SOLO, ESCAVAÇÃO, CARGA E TRANSPORTE. AF_11/2019 | G74: M3 | H74: ='memoria de cálculo'!F82 -> 14.07 | I74: 484.98 | J74: =J4 -> 0.2097 | K74: =(J74*I74)+I74 -> 586.68031 | L74: =K74*H74 -> 8254.5919 | N74: =M74*K74 -> 0 | O74: =N74/L74 -> 0 | P74: 14.07 | Q74: =P74*K74 -> 8254.5919 | R74: =Q74/L74 -> 1
C75: 4.4 | F75: RAMPAS | L75: =L76+L77 -> 549.88467
C76: 4.4.1 | D76: SINAPI | E76: 94991 | F76: EXECUÇÃO DE PASSEIO (CALÇADA) OU PISO DE CONCRETO COM CONCRETO MOLDADO IN LOCO, USINADO, ACABAMENTO CONVENCIONAL, NÃO ARMADO. AF_07/2016 | G76: M3 | H76: ='memoria de cálculo'!F84 -> 0.61 | I76: 484.98 | J76: =J73 -> 0.2097 | K76: =(J76*I76)+I76 -> 586.68031 | L76: =K76*H76 -> 357.87499 | N76: =M76*K76 -> 0 | O76: =N76/L76 -> 0 | P76: 0.61 | Q76: =P76*K76 -> 357.87499 | R76: =Q76/L76 -> 1
C77: 4.4.2 | D77: SINAPI-I | E77: 36178 | F77: PISO PODOTATIL DE CONCRETO - DIRECIONAL E ALERTA, *40 X 40 X 2,5* CM | G77: UN | H77: ='memoria de cálculo'!F85 -> 20 | I77: 8.42 | J77: =J5 -> 0.1402 | K77: =(J77*I77)+I77 -> 9.600484 | L77: =K77*H77 -> 192.00968 | N77: =M77*K77 -> 0 | O77: =N77/L77 -> 0 | P77: 20 | Q77: =P77*K77 -> 192.00968 | R77: =Q77/L77 -> 1
C78: 4.5 | F78: SINALIZAÇÃO | L78: =L79+L80+L81+L82 -> 1081.1062
C79: 4.5.1 | D79: SINAPI-I | E79: 34723 | F79: PLACA DE SINALIZACAO EM CHAPA DE ACO NUM 16 COM PINTURA REFLETIVA | G79: M2 | H79: ='memoria de cálculo'!F87 -> 0.25 | I79: 402.01 | J79: =J5 -> 0.1402 | K79: =(J79*I79)+I79 -> 458.3718 | L79: =K79*H79 -> 114.59295 | N79: =M79*K79 -> 0 | O79: =N79/L79 -> 0 | P79: 0.25 | Q79: =P79*K79 -> 114.59295 | R79: =Q79/L79 -> 1
C80: 4.5.2 | D80: SINAPI-I | E80: 13521 | F80: PLACA DE ACO ESMALTADA PARA IDENTIFICACAO DE RUA, *45 CM X 20* CM | G80: UN | H80: ='memoria de cálculo'!F88 -> 2 | I80: 57.39 | J80: =J5 -> 0.1402 | K80: =(J80*I80)+I80 -> 65.436078 | L80: =K80*H80 -> 130.87216 | N80: =M80*K80 -> 0 | O80: =N80/L80 -> 0 | P80: 2 | Q80: =P80*K80 -> 130.87216 | R80: =Q80/L80 -> 1
C81: 4.5.3 | D81: SINAPI-I | E81: 7696 | F81: TUBO ACO GALVANIZADO COM COSTURA, CLASSE MEDIA, DN 2", E = *3,65* MM, PESO *5,10* KG/M (NBR 5580) | G81: M | H81: ='memoria de cálculo'!F89 -> 9 | I81: 77.35 | J81: =J5 -> 0.1402 | K81: =(J81*I81)+I81 -> 88.19447 | L81: =K81*H81 -> 793.75023 | N81: =M81*K81 -> 0 | O81: =N81/L81 -> 0 | P81: 9 | Q81: =P81*K81 -> 793.75023 | R81: =Q81/L81 -> 1
C82: 4.5.4 | D82: SINAPI | E82: 94975 | F82: CONCRETO FCK = 15MPA, TRAÇO 1:3,4:3,5 (EM MASSA SECA DE CIMENTO/ AREIA MÉDIA/ BRITA 1) - PREPARO MANUAL. AF_05/2021 | G82: M3 | H82: ='memoria de cálculo'!F90 -> 0.11 | I82: 314.81 | J82: =J4 -> 0.2097 | K82: =(J82*I82)+I82 -> 380.82566 | L82: =K82*H82 -> 41.890822 | N82: =M82*K82 -> 0 | O82: =N82/L82 -> 0 | P82: 0.11 | Q82: =P82*K82 -> 41.890822 | R82: =Q82/L82 -> 1
M83: =M15+M38 -> 49279.278
C84: Salto do Jacuí/RS, 05 de dezembro de 2024.
F88: ______________________________________________
F89: JOSIELI FERREIRA
F90: CAU/RS A187139-0

Sheet BOLETIM DE MEDIÇÃO 5
C2: PREFEITURA MUNICIPAL DE SALTO DO JACUÍ | M2: BM 05 | P2: ACUMULADO TOTAL
C4: OBRA | D4: PAVIMENTAÇÃO TRECHO RUA GENERAL CÂMARA E RUA E. PUMPMAKER | G4: BDI | H4: NÃO DESONERADO | J4: 0.2097 | K4: SINAPI 12/2021 | M4: PERÍODO DE MEDIÇÃO: 17/04/2024 À 03/06/2024 | P4: =SUM(P38,P61) -> 207978.68
C5: ÁREA | D5: 2.816 M² | G5: BDI | H5: MATERIAIS | J5: 0.1402
C6: CR | D6: 851027/2017
C7: PLANILHA ORÇAMENTÁRIA - NÃO DESONERADA
I8: CUSTO | J8: BDI | K8: CUSTO | L8: VALOR
C9: ITEM | D9: FONTE | E9: CÓDIGO | F9: DESCRIÇÃO | G9: UNID | H9: QUANT | I9: UNIT | J9: % | K9: UNIT+BDI | L9: TOTAL | M9: QUANTIDADE | N9: TOTAL | O9: % | P9: QUANTIDADE | Q9: TOTAL | R9: %
F10: PAVIMENTAÇÃO DE RUAS E DRENAGEM | L10: =L11+L14+L37+L60 -> 402703.7
C11: 1.0 | F11: SERVIÇOS INICIAIS | L11: =L12+L13 -> 5990.9315
C12: 1.1 | D12: SINAPI-I | E12: 4813 | F12: PLACA DE OBRA (PARA CONSTRUCAO CIVIL) EM CHAPA GALVANIZADA *N. 22*, ADESIVADA, DE *2,0 X 1,125* M | G12: M2 | H12: ='memoria de cálculo'!F11 -> 2.88 | I12: 174.03 | J12: =$J$5 -> 0.1402 | K12: =I12+ (I12*$J$12) -> 198.42901 | L12: =K12*H12 -> 571.47554
C13: 1.2 | D13: SINAPI | E13: 90777 | F13: ENGENHEIRO CIVIL DE OBRA JUNIOR COM ENCARGOS COMPLEMENTARES | G13: H | H13: ='memoria de cálculo'!F12 -> 64 | I13: 70 | J13: =$J$4 -> 0.2097 | K13: =I13+ (I13*$J$13) -> 84.679 | L13: =K13*H13 -> 5419.456
C14: 2.0 | F14: PAVIMENTAÇÃO GENERAL CÂMARA - 1.200 M² | L14: =L15+L23+L26++L29+L32 -> 167813.57
C15: 2.1 | F15: DRENAGEM | L15: =L16+L17+L18+L19+L20+L21+L22 -> 42253.177
C16: 2.1.1 | D16: SINAPI | E16: 90105 | F16: ESCAVAÇÃO MECANIZADA DE VALA COM PROFUNDIDADE ATÉ 1,5 M (MÉDIA ENTRE MONTANTE E JUSANTE/UMA COMPOSIÇÃO POR TRECHO) COM RETROESCAVADEIRA (CAPACIDADE DA CAÇAMBA DA RETRO: 0,26 M3 / POTÊNCIA: 88 HP), LARGURA MENOR QUE 0,8 M, EM SOLO DE 1A CATEGORIA, LOCAISCOM BAIXO NÍVEL DE INTERFERÊNCIA. AF_02/2021 | G16: M3 | H16: ='memoria de cálculo'!F15 -> 249.63 | I16: 5.87 | J16: =$J$4 -> 0.2097 | K16: =(J16*I16)+I16 -> 7.100939 | L16: =K16*H16 -> 1772.6074 | N16: =M16*K16 -> 0
C17: 2.1.2 | D17: SINAPI | E17: 93378 | F17: REATERRO MECANIZADO DE VALA COM RETROESCAVADEIRA (CAPACIDADE DA CAÇAMBA DA RETRO: 0,26 M³ / POTÊNCIA: 88 HP), LARGURA ATÉ 0,8 M, PROFUNDIDADE ATÉ 1,5 M, COM SOLO DE 1ª CATEGORIA EM LOCAIS COM BAIXO NÍVEL DE INTERFERÊNCIA. AF_04/2016 | G17: M3 | H17: ='memoria de cálculo'!F16 -> 149.6 | I17: 17.7 | J17: =$J$4 -> 0.2097 | K17: =(J17*I17)+I17 -> 21.41169 | L17: =K17*H17 -> 3203.1888 | N17: =M17*K17 -> 0
C18: 2.1.3 | D18: SINAPI-I | E18: 37451 | F18: TUBO DE CONCRETO SIMPLES PARA AGUAS PLUVIAIS, CLASSE PS1, COM ENCAIXE MACHO E FEMEA, DIAMETRO NOMINAL DE 400 MM | G18: M | H18: ='memoria de cálculo'!F17 -> 39.4 | I18: 38.44 | J18: =$J$5 -> 0.1402 | K18: =(J18*I18)+I18 -> 43.829288 | L18: =K18*H18 -> 1726.8739 | N18: =M18*K18 -> 0
C19: 2.1.4 | D19: SINAPI | E19: 92809 | F19: ASSENTAMENTO DE TUBO DE CONCRETO PARA REDES COLETORAS DE ÁGUAS PLUVIAIS, DIÂMETRO DE 400 MM, JUNTA RÍGIDA, INSTALADO EM LOCAL COM BAIXO NÍVEL DE INTERFERÊNCIAS (NÃO INCLUI FORNECIMENTO). AF_12/2015 | G19: M | H19: ='memoria de cálculo'!F18 -> 39.4 | I19: 38.67 | J19: =J13 -> 0.2097 | K19: =(J19*I19)+I19 -> 46.779099 | L19: =K19*H19 -> 1843.0965 | N19: =M19*K19 -> 0
C20: 2.1.5 | D20: SINAPI-I | E20: 37453 | F20: TUBO DE CONCRETO SIMPLES PARA AGUAS PLUVIAIS, CLASSE PS1, COM ENCAIXE MACHO E FEMEA, DIAMETRO NOMINAL DE 600 MM | G20: M | H20: ='memoria de cálculo'!F19 -> 150.44 | I20: 67.6 | J20: =$J$5 -> 0.1402 | K20: =(J20*I20)+I20 -> 77.07752 | L20: =K20*H20 -> 11595.542 | N20: =M20*K20 -> 0
C21: 2.1.6 | D21: SINAPI | E21: 92811 | F21: ASSENTAMENTO DE TUBO DE CONCRETO PARA REDES COLETORAS DE ÁGUAS PLUVIAIS, DIÂMETRO DE 600 MM, JUNTA RÍGIDA, INSTALADO EM LOCAL COM BAIXO NÍVEL DE INTERFERÊNCIAS (NÃO INCLUI FORNECIMENTO). AF_12/2015 | G21: M | H21: ='memoria de cálculo'!F20 -> 150.44 | I21: 55.69 | J21: =$J$13 -> 0.2097 | K21: =(J21*I21)+I21 -> 67.368193 | L21: =K21*H21 -> 10134.871 | N21: =M21*K21 -> 0
C22: 2.1.7 | D22: SINAPI | E22: 97949 | F22: CAIXA PARA BOCA DE LOBO SIMPLES RETANGULAR, EM ALVENARIA COM TIJOLOS CERÂMICOS MACIÇOS, DIMENSÕES INTERNAS: 0,6X1X1,2 M. AF_12/2020 | G22: UNID | H22: ='memoria de cálculo'!F21 -> 8 | I22: 1237.6 | J22: =$J$13 -> 0.2097 | K22: =(J22*I22)+I22 -> 1497.1247 | L22: =K22*H22 -> 11976.998 | N22: =M22*K22 -> 0
C23: 2.2 | F23: PAVIMENTAÇÃO | L23: =L24+L25 -> 114507.49
C24: 2.1 | D24: SINAPI | E24: 94273 | F24: ASSENTAMENTO DE GUIA (MEIO-FIO) EM TRECHO RETO, CONFECCIONADA EM CONCRETO PRÉ-FABRICADO, DIMENSÕES 100X15X13X30 CM (COMPRIMENTO X BASE INFERIOR X BASE SUPERIOR X ALTURA), PARA VIAS URBANAS (USO VIÁRIO). AF_06/2016 | G24: M | H24: ='memoria de cálculo'!F23 -> 224 | I24: 38.74 | J24: =$J$13 -> 0.2097 | K24: =(J24*I24)+I24 -> 46.863778 | L24: =K24*H24 -> 10497.486
C25: 2.2.2 | D25: Composição | E25: 01 | F25: PAVIMENTO EM PARALELEPÍPEDO SOBRE COLCHÃO PÓ DE BRITA REJUNTADO AS VALAS COM ARGAMASSA DE CIMENTO E AREIA | G25: M2 | H25: 1200 | I25: 71.65 | J25: =$J$13 -> 0.2097 | K25: =(J25*I25)+I25 -> 86.675005 | L25: =K25*H25 -> 104010.01
C26: 2.3 | F26: PASSEIOS | L26: =L27+L28 -> 9421.9141
C27: 2.3.1 | D27: SINAPI | E27: 96385 | F27: EXECUÇÃO E COMPACTAÇÃO DE ATERRO COM SOLO PREDOMINANTEMENTE ARGILOSO - EXCLUSIVE SOLO, ESCAVAÇÃO, CARGA E TRANSPORTE. AF_11/2019 | G27: M3 | H27: ='memoria de cálculo'!F29 -> 379.09 | I27: 7.65 | J27: =J25 -> 0.2097 | K27: =(J27*I27)+I27 -> 9.254205 | L27: =K27*H27 -> 3508.1766
C28: 2.3.2 | D28: SINAPI | E28: 94991 | F28: EXECUÇÃO DE PASSEIO (CALÇADA) OU PISO DE CONCRETO COM CONCRETO MOLDADO IN LOCO, USINADO, ACABAMENTO CONVENCIONAL, NÃO ARMADO. AF_07/2016 | G28: M3 | H28: ='memoria de cálculo'!F30 -> 10.08 | I28: 484.98 | J28: =J13 -> 0.2097 | K28: =(J28*I28)+I28 -> 586.68031 | L28: =K28*H28 -> 5913.7375
C29: 2.4 | F29: RAMPAS | L29: =L30+L31 -> 549.88467
C30: 2.4.1 | D30: SINAPI | E30: 94991 | F30: EXECUÇÃO DE PASSEIO (CALÇADA) OU PISO DE CONCRETO COM CONCRETO MOLDADO IN LOCO, USINADO, ACABAMENTO CONVENCIONAL, NÃO ARMADO. AF_07/2016 | G30: M3 | H30: ='memoria de cálculo'!F32 -> 0.61 | I30: 484.98 | J30: =J4 -> 0.2097 | K30: =(J30*I30)+I30 -> 586.68031 | L30: =K30*H30 -> 357.87499
C31: 2.4.2 | D31: SINAPI-I | E31: 36178 | F31: PISO PODOTATIL DE CONCRETO - DIRECIONAL E ALERTA, *40 X 40 X 2,5* CM | G31: UN | H31: ='memoria de cálculo'!F33 -> 20 | I31: 8.42 | J31: =J5 -> 0.1402 | K31: =(J31*I31)+I31 -> 9.600484 | L31: =K31*H31 -> 192.00968
C32: 2.5 | F32: SINALIZAÇÃO | L32: =L33+L34+L35+L36 -> 1081.1062
C33: 2.5.1 | D33: SINAPI-I | E33: 34723 | F33: PLACA DE SINALIZACAO EM CHAPA DE ACO NUM 16 COM PINTURA REFLETIVA | G33: M2 | H33: ='memoria de cálculo'!F35 -> 0.25 | I33: 402.01 | J33: =J5 -> 0.1402 | K33: =(J33*I33)+I33 -> 458.3718 | L33: =K33*H33 -> 114.59295
C34: 2.5.2 | D34: SINAPI-I | E34: 13521 | F34: PLACA DE ACO ESMALTADA PARA IDENTIFICACAO DE RUA, *45 CM X 20* CM | G34: UN | H34: ='memoria de cálculo'!F36 -> 2 | I34: 57.39 | J34: =J5 -> 0.1402 | K34: =(J34*I34)+I34 -> 65.436078 | L34: =K34*H34 -> 130.87216
C35: 2.5.3 | D35: SINAPI-I | E35: 7696 | F35: TUBO ACO GALVANIZADO COM COSTURA, CLASSE MEDIA, DN 2", E = *3,65* MM, PESO *5,10* KG/M (NBR 5580) | G35: M | H35: ='memoria de cálculo'!F37 -> 9 | I35: 77.35 | J35: =J5 -> 0.1402 | K35: =(J35*I35)+I35 -> 88.19447 | L35: =K35*H35 -> 793.75023
C36: 2.5.4 | D36: SINAPI | E36: 94975 | F36: CONCRETO FCK = 15MPA, TRAÇO 1:3,4:3,5 (EM MASSA SECA DE CIMENTO/ AREIA MÉDIA/ BRITA 1) - PREPARO MANUAL. AF_05/2021 | G36: M3 | H36: ='memoria de cálculo'!F38 -> 0.11 | I36: 314.81 | J36: =J4 -> 0.2097 | K36: =(J36*I36)+I36 -> 380.82566 | L36: =K36*H36 -> 41.890822
C37: 3.0 | F37: PAVIMENTAÇÃO GENERAL CÂMARA - 880 M² | L37: =L38+L46+L49+L52+L55 -> 127114.92 | M37: MEDIDO PERÍODO | P37: ACUMULADO
C38: 3.1 | F38: DRENAGEM | L38: =L39+L40+L41+L42+L43+L44+L45 -> 36052.844 | M38: =SUM(N39:N59) -> 39921.451 | P38: =SUM(Q39:Q59) -> 106194.41
C39: 3.1.1 | D39: SINAPI | E39: 90105 | F39: ESCAVAÇÃO MECANIZADA DE VALA COM PROFUNDIDADE ATÉ 1,5 M (MÉDIA ENTRE MONTANTE E JUSANTE/UMA COMPOSIÇÃO POR TRECHO) COM RETROESCAVADEIRA (CAPACIDADE DA CAÇAMBA DA RETRO: 0,26 M3 / POTÊNCIA: 88 HP), LARGURA MENOR QUE 0,8 M, EM SOLO DE 1A CATEGORIA, LOCAISCOM BAIXO NÍVEL DE INTERFERÊNCIA. AF_02/2021 | G39: M3 | H39: ='memoria de cálculo'!F41 -> 161.29 | I39: 5.87 | J39: =J4 -> 0.2097 | K39: =(J39*I39)+I39 -> 7.100939 | L39: =K39*H39 -> 1145.3105 | M39: 161.29 | N39: =M39*K39 -> 1145.3105 | O39: =N39/L39 -> 1 | P39: 161.29 | Q39: =P39*K39 -> 1145.3105 | R39: =Q39/L39 -> 1
C40: 3.1.2 | D40: SINAPI | E40: 93378 | F40: REATERRO MECANIZADO DE VALA COM RETROESCAVADEIRA (CAPACIDADE DA CAÇAMBA DA RETRO: 0,26 M³ / POTÊNCIA: 88 HP), LARGURA ATÉ 0,8 M, PROFUNDIDADE ATÉ 1,5 M, COM SOLO DE 1ª CATEGORIA EM LOCAIS COM BAIXO NÍVEL DE INTERFERÊNCIA. AF_04/2016 | G40: M3 | H40: ='memoria de cálculo'!F42 -> 94.4 | I40: 17.7 | J40: =J4 -> 0.2097 | K40: =(J40*I40)+I40 -> 21.41169 | L40: =K40*H40 -> 2021.2635 | M40: 94.4 | N40: =M40*K40 -> 2021.2635 | O40: =N40/L40 -> 1 | P40: 161.29 | Q40: =M40*K40 -> 2021.2635 | R40: =Q40/L40 -> 1
C41: 3.1.3 | D41: SINAPI-I | E41: 37451 | F41: TUBO DE CONCRETO SIMPLES PARA AGUAS PLUVIAIS, CLASSE PS1, COM ENCAIXE MACHO E FEMEA, DIAMETRO NOMINAL DE 400 MM | G41: M | H41: ='memoria de cálculo'!F43 -> 39.4 | I41: 38.43 | J41: =J5 -> 0.1402 | K41: =(J41*I41)+I41 -> 43.817886 | L41: =K41*H41 -> 1726.4247 | M41: 39.4 | N41: =M41*K41 -> 1726.4247 | O41: =N41/L41 -> 1 | P41: 39.4 | Q41: =M41*K41 -> 1726.4247 | R41: =Q41/L41 -> 1
C42: 3.1.4 | D42: SINAPI | E42: 92809 | F42: ASSENTAMENTO DE TUBO DE CONCRETO PARA REDES COLETORAS DE ÁGUAS PLUVIAIS, DIÂMETRO DE 400 MM, JUNTA RÍGIDA, INSTALADO EM LOCAL COM BAIXO NÍVEL DE INTERFERÊNCIAS (NÃO INCLUI FORNECIMENTO). AF_12/2015 | G42: M | H42: ='memoria de cálculo'!F44 -> 39.4 | I42: 38.67 | J42: =J4 -> 0.2097 | K42: =(J42*I42)+I42 -> 46.779099 | L42: =K42*H42 -> 1843.0965 | M42: 39.4 | N42: =M42*K42 -> 1843.0965 | O42: =N42/L42 -> 1 | P42: 39.4 | Q42: =M42*K42 -> 1843.0965 | R42: =Q42/L42 -> 1
C43: 3.1.5 | D43: SINAPI | E43: 37453 | F43: TUBO DE CONCRETO SIMPLES PARA AGUAS PLUVIAIS, CLASSE PS1, COM ENCAIXE MACHO E FEMEA, DIAMETRO NOMINAL DE 600 MM | G43: M | H43: ='memoria de cálculo'!F45 -> 102.79 | I43: 67.6 | J43: =J4 -> 0.2097 | K43: =(J43*I43)+I43 -> 81.77572 | L43: =K43*H43 -> 8405.7263 | M43: 102.79 | N43: =M43*K43 -> 8405.7263 | O43: =N43/L43 -> 1 | P43: 102.79 | Q43: =M43*K43 -> 8405.7263 | R43: =Q43/L43 -> 1
C44: 3.1.6 | D44: SINAPI | E44: 92811 | F44: ASSENTAMENTO DE TUBO DE CONCRETO PARA REDES COLETORAS DE ÁGUAS PLUVIAIS, DIÂMETRO DE 600 MM, JUNTA RÍGIDA, INSTALADO EM LOCAL COM BAIXO NÍVEL DE INTERFERÊNCIAS (NÃO INCLUI FORNECIMENTO). AF_12/2015 | G44: M | H44: ='memoria de cálculo'!F46 -> 108.79 | I44: 56.51 | J44: =J4 -> 0.2097 | K44: =(J44*I44)+I44 -> 68.360147 | L44: =K44*H44 -> 7436.9004 | M44: 108.79 | N44: =M44*K44 -> 7436.9004 | O44: =N44/L44 -> 1 | P44: 108.79 | Q44: =M44*K44 -> 7436.9004 | R44: =Q44/L44 -> 1
C45: 3.1.7 | D45: SINAPI | E45: 97949 | F45: CAIXA PARA BOCA DE LOBO SIMPLES RETANGULAR, EM ALVENARIA COM TIJOLOS CERÂMICOS MACIÇOS, DIMENSÕES INTERNAS: 0,6X1X1,2 M. AF_12/2020 | G45: UNID | H45: ='memoria de cálculo'!F47 -> 9 | I45: 1237.6 | J45: =J4 -> 0.2097 | K45: =(J45*I45)+I45 -> 1497.1247 | L45: =K45*H45 -> 13474.122
C46: 3.2 | F46: PAVIMENTAÇÃO | L46: =L47+L48 -> 83615.684
C47: 3.2.1 | D47: SINAPI | E47: 94273 | F47: ASSENTAMENTO DE GUIA (MEIO-FIO) EM TRECHO RETO, CONFECCIONADA EM CONCRETO PRÉ-FABRICADO, DIMENSÕES 100X15X13X30 CM (COMPRIMENTO X BASE INFERIOR X BASE SUPERIOR X ALTURA), PARA VIAS URBANAS (USO VIÁRIO). AF_06/2016 | G47: M | H47: ='memoria de cálculo'!F49 -> 156.66 | I47: 38.74 | J47: =J4 -> 0.2097 | K47: =(J47*I47)+I47 -> 46.863778 | L47: =K47*H47 -> 7341.6795 | M47: 18.66 | N47: =M47*K47 -> 874.4781 | O47: =N47/L47 -> 0.11911145 | P47: 156.66 | Q47: =P47*K47 -> 7341.6795 | R47: =Q47/L47 -> 1
C48: 3.2.2 | D48: Composição | E48: 01 | F48: PAVIMENTO EM PARALELEPÍPEDO SOBRE COLCHÃO PÓ DE BRITA REJUNTADO AS VALAS COM ARGAMASSA DE CIMENTO E AREIA | G48: M2 | H48: 880 | I48: 71.65 | J48: =J47 -> 0.2097 | K48: =(J48*I48)+I48 -> 86.675005 | L48: =K48*H48 -> 76274.004 | M48: 190 | N48: =M48*K48 -> 16468.251 | O48: =N48/L48 -> 0.21590909 | P48: 880 | Q48: =P48*K48 -> 76274.004 | R48: =Q48/L48 -> 1
C49: 3.3 | F49: PASSEIOS | L49: =L50+L51 -> 6147.6794
C50: 3.3.1 | D50: SINAPI | E50: 96385 | F50: EXECUÇÃO E COMPACTAÇÃO DE ATERRO COM SOLO PREDOMINANTEMENTE ARGILOSO - EXCLUSIVE SOLO, ESCAVAÇÃO, CARGA E TRANSPORTE. AF_11/2019 | G50: M3 | H50: ='memoria de cálculo'!F55 -> 147 | I50: 7.65 | J50: =J48 -> 0.2097 | K50: =(J50*I50)+I50 -> 9.254205 | L50: =K50*H50 -> 1360.3681
C51: 3.3.2 | D51: SINAPI | E51: 94991 | F51: EXECUÇÃO DE PASSEIO (CALÇADA) OU PISO DE CONCRETO COM CONCRETO MOLDADO IN LOCO, USINADO, ACABAMENTO CONVENCIONAL, NÃO ARMADO. AF_07/2016 | G51: M3 | H51: ='memoria de cálculo'!F56 -> 8.16 | I51: 484.98 | J51: =J4 -> 0.2097 | K51: =(J51*I51)+I51 -> 586.68031 | L51: =K51*H51 -> 4787.3113
C52: 3.4 | F52: RAMPAS | L52: =L53+L54 -> 217.60715
C53: 3.4.1 | D53: SINAPI | E53: 94991 | F53: EXECUÇÃO DE PASSEIO (CALÇADA) OU PISO DE CONCRETO COM CONCRETO MOLDADO IN LOCO, USINADO, ACABAMENTO CONVENCIONAL, NÃO ARMADO. AF_07/2016 | G53: M3 | H53: ='memoria de cálculo'!F58 -> 0.24 | I53: 484.98 | J53: =J4 -> 0.2097 | K53: =(J53*I53)+I53 -> 586.68031 | L53: =K53*H53 -> 140.80327
C54: 3.4.2 | D54: SINAPI-I | E54: 36178 | F54: PISO PODOTATIL DE CONCRETO - DIRECIONAL E ALERTA, *40 X 40 X 2,5* CM | G54: UN | H54: ='memoria de cálculo'!F59 -> 8 | I54: 8.42 | J54: =J5 -> 0.1402 | K54: =(J54*I54)+I54 -> 9.600484 | L54: =K54*H54 -> 76.803872
C55: 3.5 | F55: SINALIZAÇÃO | L55: =L56+L57+L58+L59 -> 1081.1062
C56: 3.5.1 | D56: SINAPI-I | E56: 34723 | F56: PLACA DE SINALIZACAO EM CHAPA DE ACO NUM 16 COM PINTURA REFLETIVA | G56: M2 | H56: ='memoria de cálculo'!F61 -> 0.25 | I56: 402.01 | J56: =J5 -> 0.1402 | K56: =(J56*I56)+I56 -> 458.3718 | L56: =K56*H56 -> 114.59295
C57: 3.5.2 | D57: SINAPI-I | E57: 13521 | F57: PLACA DE ACO ESMALTADA PARA IDENTIFICACAO DE RUA, *45 CM X 20* CM | G57: UN | H57: ='memoria de cálculo'!F62 -> 2 | I57: 57.39 | J57: =J5 -> 0.1402 | K57: =(J57*I57)+I57 -> 65.436078 | L57: =K57*H57 -> 130.87216
C58: 3.5.3 | D58: SINAPI-I | E58: 7696 | F58: TUBO ACO GALVANIZADO COM COSTURA, CLASSE MEDIA, DN 2", E = *3,65* MM, PESO *5,10* KG/M (NBR 5580) | G58: M | H58: ='memoria de cálculo'!F63 -> 9 | I58: 77.35 | J58: =J5 -> 0.1402 | K58: =(J58*I58)+I58 -> 88.19447 | L58: =K58*H58 -> 793.75023
C59: 3.5.4 | D59: SINAPI | E59: 94975 | F59: CONCRETO FCK = 15MPA, TRAÇO 1:3,4:3,5 (EM MASSA SECA DE CIMENTO/ AREIA MÉDIA/ BRITA 1) - PREPARO MANUAL. AF_05/2021 | G59: M3 | H59: ='memoria de cálculo'!F64 -> 0.11 | I59: 314.81 | J59: =J4 -> 0.2097 | K59: =(J59*I59)+I59 -> 380.82566 | L59: =K59*H59 -> 41.890822
C60: 4 | F60: PAVIMENTAÇÃO RUA EDUARDO PUMPMACKER - 736 M² | L60: =L61+L69+L72+L75+L78 -> 101784.28 | P60: ACUMULADO
C61: 4.1 | F61: DRENAGEM | L61: =L62+L63+L64+L65+L66+L67+L68 -> 19689.808 | M61: =SUM(N62:N82) -> 0 | P61: =SUM(Q62:Q82) -> 101784.28
C62: 4.1.1 | D62: SINAPI | E62: 90105 | F62: ESCAVAÇÃO MECANIZADA DE VALA COM PROFUNDIDADE ATÉ 1,5 M (MÉDIA ENTRE MONTANTE E JUSANTE/UMA COMPOSIÇÃO POR TRECHO) COM RETROESCAVADEIRA (CAPACIDADE DA CAÇAMBA DA RETRO: 0,26 M3 / POTÊNCIA: 88 HP), LARGURA MENOR QUE 0,8 M, EM SOLO DE 1A CATEGORIA, LOCAISCOM BAIXO NÍVEL DE INTERFERÊNCIA. AF_02/2021 | G62: M3 | H62: ='memoria de cálculo'!F67 -> 106.43 | I62: 5.87 | J62: =J13 -> 0.2097 | K62: =(J62*I62)+I62 -> 7.100939 | L62: =K62*H62 -> 755.75294 | P62: 106.43 | Q62: =P62*K62 -> 755.75294 | R62: =Q62/L62 -> 1
C63: 4.1.2 | D63: SINAPI | E63: 93378 | F63: REATERRO MECANIZADO DE VALA COM RETROESCAVADEIRA (CAPACIDADE DA CAÇAMBA DA RETRO: 0,26 M³ / POTÊNCIA: 88 HP), LARGURA ATÉ 0,8 M, PROFUNDIDADE ATÉ 1,5 M, COM SOLO DE 1ª CATEGORIA EM LOCAIS COM BAIXO NÍVEL DE INTERFERÊNCIA. AF_04/2016 | G63: M3 | H63: ='memoria de cálculo'!F68 -> 74 | I63: 17.7 | J63: =J4 -> 0.2097 | K63: =(J63*I63)+I63 -> 21.41169 | L63: =K63*H63 -> 1584.4651 | P63: 74 | Q63: =P63*K63 -> 1584.4651 | R63: =Q63/L63 -> 1
C64: 4.1.3 | D64: SINAPI-I | E64: 37450 | F64: TUBO DE CONCRETO SIMPLES PARA AGUAS PLUVIAIS, CLASSE PS1, COM ENCAIXE MACHO E FEMEA, DIAMETRO NOMINAL DE 300 MM | G64: M | H64: ='memoria de cálculo'!F69 -> 8 | I64: 38.43 | J64: =J5 -> 0.1402 | K64: =(J64*I64)+I64 -> 43.817886 | L64: =K64*H64 -> 350.54309 | P64: 8 | Q64: =P64*K64 -> 350.54309 | R64: =Q64/L64 -> 1
C65: 4.1.4 | D65: SINAPI | E65: 92808 | F65: ASSENTAMENTO DE TUBO DE CONCRETO PARA REDES COLETORAS DE ÁGUAS PLUVIAIS, DIÂMETRO DE 300 MM, JUNTA RÍGIDA, INSTALADO EM LOCAL COM BAIXO NÍVEL DE INTERFERÊNCIAS (NÃO INCLUI FORNECIMENTO). AF_12/2015 | G65: M | H65: ='memoria de cálculo'!F70 -> 8 | I65: 38.67 | J65: =J4 -> 0.2097 | K65: =(J65*I65)+I65 -> 46.779099 | L65: =K65*H65 -> 374.23279 | P65: 8 | Q65: =P65*K65 -> 374.23279 | R65: =Q65/L65 -> 1
C66: 4.1.5 | D66: SINAPI-I | E66: 37451 | F66: TUBO DE CONCRETO SIMPLES PARA AGUAS PLUVIAIS, CLASSE PS1, COM ENCAIXE MACHO E FEMEA, DIAMETRO NOMINAL DE 400 MM | G66: M | H66: ='memoria de cálculo'!F71 -> 84 | I66: 67.6 | J66: =J5 -> 0.1402 | K66: =(J66*I66)+I66 -> 77.07752 | L66: =K66*H66 -> 6474.5117 | P66: 84 | Q66: =P66*K66 -> 6474.5117 | R66: =Q66/L66 -> 1
C67: 4.1.6 | D67: SINAPI | E67: 92809 | F67: ASSENTAMENTO DE TUBO DE CONCRETO PARA REDES COLETORAS DE ÁGUAS PLUVIAIS, DIÂMETRO DE 400 MM, JUNTA RÍGIDA, INSTALADO EM LOCAL COM BAIXO NÍVEL DE INTERFERÊNCIAS (NÃO INCLUI FORNECIMENTO). AF_12/2015 | G67: M | H67: ='memoria de cálculo'!F72 -> 84 | I67: 55.69 | J67: =J62 -> 0.2097 | K67: =(J67*I67)+I67 -> 67.368193 | L67: =K67*H67 -> 5658.9282 | P67: 84 | Q67: =P67*K67 -> 5658.9282 | R67: =Q67/L67 -> 1
C68: 4.1.7 | D68: SINAPI | E68: 97949 | F68: CAIXA PARA BOCA DE LOBO SIMPLES RETANGULAR, EM ALVENARIA COM TIJOLOS CERÂMICOS MACIÇOS, DIMENSÕES INTERNAS: 0,6X1X1,2 M. AF_12/2020 | G68: UN | H68: ='memoria de cálculo'!F73 -> 3 | I68: 1237.6 | J68: =J4 -> 0.2097 | K68: =(J68*I68)+I68 -> 1497.1247 | L68: =K68*H68 -> 4491.3742 | P68: 3 | Q68: =P68*K68 -> 4491.3742 | R68: =Q68/L68 -> 1
C69: 4.2 | F69: PAVIMENTAÇÃO | L69: =L70+L71 -> 72040.829
C70: 4.2.1 | D70: SINAPI | E70: 94273 | F70: ASSENTAMENTO DE GUIA (MEIO-FIO) EM TRECHO RETO, CONFECCIONADA EM CONCRETO PRÉ-FABRICADO, DIMENSÕES 100X15X13X30 CM (COMPRIMENTO X BASE INFERIOR X BASE SUPERIOR X ALTURA), PARA VIAS URBANAS (USO VIÁRIO). AF_06/2016 | G70: M | H70: ='memoria de cálculo'!F75 -> 176 | I70: 38.74 | J70: =J4 -> 0.2097 | K70: =(J70*I70)+I70 -> 46.863778 | L70: =K70*H70 -> 8248.0249 | N70: =M70*K70 -> 0 | O70: =N70/L70 -> 0 | P70: 176 | Q70: =P70*K70 -> 8248.0249 | R70: =Q70/L70 -> 1
C71: 4.2.2 | D71: Composição | E71: 01 | F71: PAVIMENTO EM PARALELEPÍPEDO SOBRE COLCHÃO PÓ DE BRITA REJUNTADO AS VALAS COM ARGAMASSA DE CIMENTO E AREIA | G71: M2 | H71: 736 | I71: 71.65 | J71: =J4 -> 0.2097 | K71: =(J71*I71)+I71 -> 86.675005 | L71: =K71*H71 -> 63792.804 | P71: 736 | Q71: =P71*K71 -> 63792.804 | R71: =Q71/L71 -> 1
C72: 4.3 | F72: PASSEIOS | L72: =L73+L74 -> 8422.6483 | R72: =Q72/L72 -> 0
C73: 4.3.1 | D73: SINAPI | E73: 94991 | F73: EXECUÇÃO DE PASSEIO (CALÇADA) OU PISO DE CONCRETO COM CONCRETO MOLDADO IN LOCO, USINADO, ACABAMENTO CONVENCIONAL, NÃO ARMADO. AF_07/2016 | G73: M3 | H73: ='memoria de cálculo'!F81 -> 18.16 | I73: 7.65 | J73: =J4 -> 0.2097 | K73: =(J73*I73)+I73 -> 9.254205 | L73: =K73*H73 -> 168.05636 | N73: =M73*K73 -> 0 | O73: =N73/L73 -> 0 | P73: 18.16 | Q73: =P73*K73 -> 168.05636 | R73: =Q73/L73 -> 1
C74: 4.3.2 | D74: SINAPI | E74: 96385 | F74: EXECUÇÃO E COMPACTAÇÃO DE ATERRO COM SOLO PREDOMINANTEMENTE ARGILOSO - EXCLUSIVE SOLO, ESCAVAÇÃO, CARGA E TRANSPORTE. AF_11/2019 | G74: M3 | H74: ='memoria de cálculo'!F82 -> 14.07 | I74: 484.98 | J74: =J4 -> 0.2097 | K74: =(J74*I74)+I74 -> 586.68031 | L74: =K74*H74 -> 8254.5919 | N74: =M74*K74 -> 0 | O74: =N74/L74 -> 0 | P74: 14.07 | Q74: =P74*K74 -> 8254.5919 | R74: =Q74/L74 -> 1
C75: 4.4 | F75: RAMPAS | L75: =L76+L77 -> 549.88467
C76: 4.4.1 | D76: SINAPI | E76: 94991 | F76: EXECUÇÃO DE PASSEIO (CALÇADA) OU PISO DE CONCRETO COM CONCRETO MOLDADO IN LOCO, USINADO, ACABAMENTO CONVENCIONAL, NÃO ARMADO. AF_07/2016 | G76: M3 | H76: ='memoria de cálculo'!F84 -> 0.61 | I76: 484.98 | J76: =J73 -> 0.2097 | K76: =(J76*I76)+I76 -> 586.68031 | L76: =K76*H76 -> 357.87499 | N76: =M76*K76 -> 0 | O76: =N76/L76 -> 0 | P76: 0.61 | Q76: =P76*K76 -> 357.87499 | R76: =Q76/L76 -> 1
C77: 4.4.2 | D77: SINAPI-I | E77: 36178 | F77: PISO PODOTATIL DE CONCRETO - DIRECIONAL E ALERTA, *40 X 40 X 2,5* CM | G77: UN | H77: ='memoria de cálculo'!F85 -> 20 | I77: 8.42 | J77: =J5 -> 0.1402 | K77: =(J77*I77)+I77 -> 9.600484 | L77: =K77*H77 -> 192.00968 | N77: =M77*K77 -> 0 | O77: =N77/L77 -> 0 | P77: 20 | Q77: =P77*K77 -> 192.00968 | R77: =Q77/L77 -> 1
C78: 4.5 | F78: SINALIZAÇÃO | L78: =L79+L80+L81+L82 -> 1081.1062
C79: 4.5.1 | D79: SINAPI-I | E79: 34723 | F79: PLACA DE SINALIZACAO EM CHAPA DE ACO NUM 16 COM PINTURA REFLETIVA | G79: M2 | H79: ='memoria de cálculo'!F87 -> 0.25 | I79: 402.01 | J79: =J5 -> 0.1402 | K79: =(J79*I79)+I79 -> 458.3718 | L79: =K79*H79 -> 114.59295 | N79: =M79*K79 -> 0 | O79: =N79/L79 -> 0 | P79: 0.25 | Q79: =P79*K79 -> 114.59295 | R79: =Q79/L79 -> 1
C80: 4.5.2 | D80: SINAPI-I | E80: 13521 | F80: PLACA DE ACO ESMALTADA PARA IDENTIFICACAO DE RUA, *45 CM X 20* CM | G80: UN | H80: ='memoria de cálculo'!F88 -> 2 | I80: 57.39 | J80: =J5 -> 0.1402 | K80: =(J80*I80)+I80 -> 65.436078 | L80: =K80*H80 -> 130.87216 | N80: =M80*K80 -> 0 | O80: =N80/L80 -> 0 | P80: 2 | Q80: =P80*K80 -> 130.87216 | R80: =Q80/L80 -> 1
C81: 4.5.3 | D81: SINAPI-I | E81: 7696 | F81: TUBO ACO GALVANIZADO COM COSTURA, CLASSE MEDIA, DN 2", E = *3,65* MM, PESO *5,10* KG/M (NBR 5580) | G81: M | H81: ='memoria de cálculo'!F89 -> 9 | I81: 77.35 | J81: =J5 -> 0.1402 | K81: =(J81*I81)+I81 -> 88.19447 | L81: =K81*H81 -> 793.75023 | N81: =M81*K81 -> 0 | O81: =N81/L81 -> 0 | P81: 9 | Q81: =P81*K81 -> 793.75023 | R81: =Q81/L81 -> 1
C82: 4.5.4 | D82: SINAPI | E82: 94975 | F82: CONCRETO FCK = 15MPA, TRAÇO 1:3,4:3,5 (EM MASSA SECA DE CIMENTO/ AREIA MÉDIA/ BRITA 1) - PREPARO MANUAL. AF_05/2021 | G82: M3 | H82: ='memoria de cálculo'!F90 -> 0.11 | I82: 314.81 | J82: =J4 -> 0.2097 | K82: =(J82*I82)+I82 -> 380.82566 | L82: =K82*H82 -> 41.890822 | N82: =M82*K82 -> 0 | O82: =N82/L82 -> 0 | P82: 0.11 | Q82: =P82*K82 -> 41.890822 | R82: =Q82/L82 -> 1
C84: Salto do Jacuí/RS, 03 de junho de 2024.
F88: ______________________________________________
F89: JOSIELI FERREIRA
F90: CAU/RS A187139-0

Sheet BOLETIM DE MEDIÇÃO 4
C2: PREFEITURA MUNICIPAL DE SALTO DO JACUÍ | M2: BM 04 | P2: ACUMULADO TOTAL
C4: OBRA | D4: PAVIMENTAÇÃO TRECHO RUA GENERAL CÂMARA E RUA E. PUMPMAKER | G4: BDI | H4: NÃO DESONERADO | J4: 0.2097 | K4: SINAPI 12/2021 | M4: PERÍODO DE MEDIÇÃO: 25/03/2024 À 17/04/2024 | P4: =SUM(P38,P61) -> 168057.23
C5: ÁREA | D5: 2.816 M² | G5: BDI | H5: MATERIAIS | J5: 0.1402
C6: CR | D6: 851027/2017
C7: PLANILHA ORÇAMENTÁRIA - NÃO DESONERADA
I8: CUSTO | J8: BDI | K8: CUSTO | L8: VALOR
C9: ITEM | D9: FONTE | E9: CÓDIGO | F9: DESCRIÇÃO | G9: UNID | H9: QUANT | I9: UNIT | J9: % | K9: UNIT+BDI | L9: TOTAL | M9: QUANTIDADE | N9: TOTAL | O9: % | P9: QUANTIDADE | Q9: TOTAL | R9: %
F10: PAVIMENTAÇÃO DE RUAS E DRENAGEM | L10: =L11+L14+L37+L60 -> 402703.7
C11: 1.0 | F11: SERVIÇOS INICIAIS | L11: =L12+L13 -> 5990.9315
C12: 1.1 | D12: SINAPI-I | E12: 4813 | F12: PLACA DE OBRA (PARA CONSTRUCAO CIVIL) EM CHAPA GALVANIZADA *N. 22*, ADESIVADA, DE *2,0 X 1,125* M | G12: M2 | H12: ='memoria de cálculo'!F11 -> 2.88 | I12: 174.03 | J12: =$J$5 -> 0.1402 | K12: =I12+ (I12*$J$12) -> 198.42901 | L12: =K12*H12 -> 571.47554
C13: 1.2 | D13: SINAPI | E13: 90777 | F13: ENGENHEIRO CIVIL DE OBRA JUNIOR COM ENCARGOS COMPLEMENTARES | G13: H | H13: ='memoria de cálculo'!F12 -> 64 | I13: 70 | J13: =$J$4 -> 0.2097 | K13: =I13+ (I13*$J$13) -> 84.679 | L13: =K13*H13 -> 5419.456
C14: 2.0 | F14: PAVIMENTAÇÃO GENERAL CÂMARA - 1.200 M² | L14: =L15+L23+L26++L29+L32 -> 167813.57
C15: 2.1 | F15: DRENAGEM | L15: =L16+L17+L18+L19+L20+L21+L22 -> 42253.177
C16: 2.1.1 | D16: SINAPI | E16: 90105 | F16: ESCAVAÇÃO MECANIZADA DE VALA COM PROFUNDIDADE ATÉ 1,5 M (MÉDIA ENTRE MONTANTE E JUSANTE/UMA COMPOSIÇÃO POR TRECHO) COM RETROESCAVADEIRA (CAPACIDADE DA CAÇAMBA DA RETRO: 0,26 M3 / POTÊNCIA: 88 HP), LARGURA MENOR QUE 0,8 M, EM SOLO DE 1A CATEGORIA, LOCAISCOM BAIXO NÍVEL DE INTERFERÊNCIA. AF_02/2021 | G16: M3 | H16: ='memoria de cálculo'!F15 -> 249.63 | I16: 5.87 | J16: =$J$4 -> 0.2097 | K16: =(J16*I16)+I16 -> 7.100939 | L16: =K16*H16 -> 1772.6074 | N16: =M16*K16 -> 0
C17: 2.1.2 | D17: SINAPI | E17: 93378 | F17: REATERRO MECANIZADO DE VALA COM RETROESCAVADEIRA (CAPACIDADE DA CAÇAMBA DA RETRO: 0,26 M³ / POTÊNCIA: 88 HP), LARGURA ATÉ 0,8 M, PROFUNDIDADE ATÉ 1,5 M, COM SOLO DE 1ª CATEGORIA EM LOCAIS COM BAIXO NÍVEL DE INTERFERÊNCIA. AF_04/2016 | G17: M3 | H17: ='memoria de cálculo'!F16 -> 149.6 | I17: 17.7 | J17: =$J$4 -> 0.2097 | K17: =(J17*I17)+I17 -> 21.41169 | L17: =K17*H17 -> 3203.1888 | N17: =M17*K17 -> 0
C18: 2.1.3 | D18: SINAPI-I | E18: 37451 | F18: TUBO DE CONCRETO SIMPLES PARA AGUAS PLUVIAIS, CLASSE PS1, COM ENCAIXE MACHO E FEMEA, DIAMETRO NOMINAL DE 400 MM | G18: M | H18: ='memoria de cálculo'!F17 -> 39.4 | I18: 38.44 | J18: =$J$5 -> 0.1402 | K18: =(J18*I18)+I18 -> 43.829288 | L18: =K18*H18 -> 1726.8739 | N18: =M18*K18 -> 0
C19: 2.1.4 | D19: SINAPI | E19: 92809 | F19: ASSENTAMENTO DE TUBO DE CONCRETO PARA REDES COLETORAS DE ÁGUAS PLUVIAIS, DIÂMETRO DE 400 MM, JUNTA RÍGIDA, INSTALADO EM LOCAL COM BAIXO NÍVEL DE INTERFERÊNCIAS (NÃO INCLUI FORNECIMENTO). AF_12/2015 | G19: M | H19: ='memoria de cálculo'!F18 -> 39.4 | I19: 38.67 | J19: =J13 -> 0.2097 | K19: =(J19*I19)+I19 -> 46.779099 | L19: =K19*H19 -> 1843.0965 | N19: =M19*K19 -> 0
C20: 2.1.5 | D20: SINAPI-I | E20: 37453 | F20: TUBO DE CONCRETO SIMPLES PARA AGUAS PLUVIAIS, CLASSE PS1, COM ENCAIXE MACHO E FEMEA, DIAMETRO NOMINAL DE 600 MM | G20: M | H20: ='memoria de cálculo'!F19 -> 150.44 | I20: 67.6 | J20: =$J$5 -> 0.1402 | K20: =(J20*I20)+I20 -> 77.07752 | L20: =K20*H20 -> 11595.542 | N20: =M20*K20 -> 0
C21: 2.1.6 | D21: SINAPI | E21: 92811 | F21: ASSENTAMENTO DE TUBO DE CONCRETO PARA REDES COLETORAS DE ÁGUAS PLUVIAIS, DIÂMETRO DE 600 MM, JUNTA RÍGIDA, INSTALADO EM LOCAL COM BAIXO NÍVEL DE INTERFERÊNCIAS (NÃO INCLUI FORNECIMENTO). AF_12/2015 | G21: M | H21: ='memoria de cálculo'!F20 -> 150.44 | I21: 55.69 | J21: =$J$13 -> 0.2097 | K21: =(J21*I21)+I21 -> 67.368193 | L21: =K21*H21 -> 10134.871 | N21: =M21*K21 -> 0
C22: 2.1.7 | D22: SINAPI | E22: 97949 | F22: CAIXA PARA BOCA DE LOBO SIMPLES RETANGULAR, EM ALVENARIA COM TIJOLOS CERÂMICOS MACIÇOS, DIMENSÕES INTERNAS: 0,6X1X1,2 M. AF_12/2020 | G22: UNID | H22: ='memoria de cálculo'!F21 -> 8 | I22: 1237.6 | J22: =$J$13 -> 0.2097 | K22: =(J22*I22)+I22 -> 1497.1247 | L22: =K22*H22 -> 11976.998 | N22: =M22*K22 -> 0
C23: 2.2 | F23: PAVIMENTAÇÃO | L23: =L24+L25 -> 114507.49
C24: 2.1 | D24: SINAPI | E24: 94273 | F24: ASSENTAMENTO DE GUIA (MEIO-FIO) EM TRECHO RETO, CONFECCIONADA EM CONCRETO PRÉ-FABRICADO, DIMENSÕES 100X15X13X30 CM (COMPRIMENTO X BASE INFERIOR X BASE SUPERIOR X ALTURA), PARA VIAS URBANAS (USO VIÁRIO). AF_06/2016 | G24: M | H24: ='memoria de cálculo'!F23 -> 224 | I24: 38.74 | J24: =$J$13 -> 0.2097 | K24: =(J24*I24)+I24 -> 46.863778 | L24: =K24*H24 -> 10497.486
C25: 2.2.2 | D25: Composição | E25: 01 | F25: PAVIMENTO EM PARALELEPÍPEDO SOBRE COLCHÃO PÓ DE BRITA REJUNTADO AS VALAS COM ARGAMASSA DE CIMENTO E AREIA | G25: M2 | H25: 1200 | I25: 71.65 | J25: =$J$13 -> 0.2097 | K25: =(J25*I25)+I25 -> 86.675005 | L25: =K25*H25 -> 104010.01
C26: 2.3 | F26: PASSEIOS | L26: =L27+L28 -> 9421.9141
C27: 2.3.1 | D27: SINAPI | E27: 96385 | F27: EXECUÇÃO E COMPACTAÇÃO DE ATERRO COM SOLO PREDOMINANTEMENTE ARGILOSO - EXCLUSIVE SOLO, ESCAVAÇÃO, CARGA E TRANSPORTE. AF_11/2019 | G27: M3 | H27: ='memoria de cálculo'!F29 -> 379.09 | I27: 7.65 | J27: =J25 -> 0.2097 | K27: =(J27*I27)+I27 -> 9.254205 | L27: =K27*H27 -> 3508.1766
C28: 2.3.2 | D28: SINAPI | E28: 94991 | F28: EXECUÇÃO DE PASSEIO (CALÇADA) OU PISO DE CONCRETO COM CONCRETO MOLDADO IN LOCO, USINADO, ACABAMENTO CONVENCIONAL, NÃO ARMADO. AF_07/2016 | G28: M3 | H28: ='memoria de cálculo'!F30 -> 10.08 | I28: 484.98 | J28: =J13 -> 0.2097 | K28: =(J28*I28)+I28 -> 586.68031 | L28: =K28*H28 -> 5913.7375
C29: 2.4 | F29: RAMPAS | L29: =L30+L31 -> 549.88467
C30: 2.4.1 | D30: SINAPI | E30: 94991 | F30: EXECUÇÃO DE PASSEIO (CALÇADA) OU PISO DE CONCRETO COM CONCRETO MOLDADO IN LOCO, USINADO, ACABAMENTO CONVENCIONAL, NÃO ARMADO. AF_07/2016 | G30: M3 | H30: ='memoria de cálculo'!F32 -> 0.61 | I30: 484.98 | J30: =J4 -> 0.2097 | K30: =(J30*I30)+I30 -> 586.68031 | L30: =K30*H30 -> 357.87499
C31: 2.4.2 | D31: SINAPI-I | E31: 36178 | F31: PISO PODOTATIL DE CONCRETO - DIRECIONAL E ALERTA, *40 X 40 X 2,5* CM | G31: UN | H31: ='memoria de cálculo'!F33 -> 20 | I31: 8.42 | J31: =J5 -> 0.1402 | K31: =(J31*I31)+I31 -> 9.600484 | L31: =K31*H31 -> 192.00968
C32: 2.5 | F32: SINALIZAÇÃO | L32: =L33+L34+L35+L36 -> 1081.1062
C33: 2.5.1 | D33: SINAPI-I | E33: 34723 | F33: PLACA DE SINALIZACAO EM CHAPA DE ACO NUM 16 COM PINTURA REFLETIVA | G33: M2 | H33: ='memoria de cálculo'!F35 -> 0.25 | I33: 402.01 | J33: =J5 -> 0.1402 | K33: =(J33*I33)+I33 -> 458.3718 | L33: =K33*H33 -> 114.59295
C34: 2.5.2 | D34: SINAPI-I | E34: 13521 | F34: PLACA DE ACO ESMALTADA PARA IDENTIFICACAO DE RUA, *45 CM X 20* CM | G34: UN | H34: ='memoria de cálculo'!F36 -> 2 | I34: 57.39 | J34: =J5 -> 0.1402 | K34: =(J34*I34)+I34 -> 65.436078 | L34: =K34*H34 -> 130.87216
C35: 2.5.3 | D35: SINAPI-I | E35: 7696 | F35: TUBO ACO GALVANIZADO COM COSTURA, CLASSE MEDIA, DN 2", E = *3,65* MM, PESO *5,10* KG/M (NBR 5580) | G35: M | H35: ='memoria de cálculo'!F37 -> 9 | I35: 77.35 | J35: =J5 -> 0.1402 | K35: =(J35*I35)+I35 -> 88.19447 | L35: =K35*H35 -> 793.75023
C36: 2.5.4 | D36: SINAPI | E36: 94975 | F36: CONCRETO FCK = 15MPA, TRAÇO 1:3,4:3,5 (EM MASSA SECA DE CIMENTO/ AREIA MÉDIA/ BRITA 1) - PREPARO MANUAL. AF_05/2021 | G36: M3 | H36: ='memoria de cálculo'!F38 -> 0.11 | I36: 314.81 | J36: =J4 -> 0.2097 | K36: =(J36*I36)+I36 -> 380.82566 | L36: =K36*H36 -> 41.890822
C37: 3.0 | F37: PAVIMENTAÇÃO GENERAL CÂMARA - 880 M² | L37: =L38+L46+L49+L52+L55 -> 127114.92 | M37: MEDIDO PERÍODO | P37: ACUMULADO
C38: 3.1 | F38: DRENAGEM | L38: =L39+L40+L41+L42+L43+L44+L45 -> 36052.844 | M38: =SUM(N39:N59) -> 30351.092 | P38: =SUM(Q39:Q59) -> 66272.955
C39: 3.1.1 | D39: SINAPI | E39: 90105 | F39: ESCAVAÇÃO MECANIZADA DE VALA COM PROFUNDIDADE ATÉ 1,5 M (MÉDIA ENTRE MONTANTE E JUSANTE/UMA COMPOSIÇÃO POR TRECHO) COM RETROESCAVADEIRA (CAPACIDADE DA CAÇAMBA DA RETRO: 0,26 M3 / POTÊNCIA: 88 HP), LARGURA MENOR QUE 0,8 M, EM SOLO DE 1A CATEGORIA, LOCAISCOM BAIXO NÍVEL DE INTERFERÊNCIA. AF_02/2021 | G39: M3 | H39: ='memoria de cálculo'!F41 -> 161.29 | I39: 5.87 | J39: =J4 -> 0.2097 | K39: =(J39*I39)+I39 -> 7.100939 | L39: =K39*H39 -> 1145.3105
C40: 3.1.2 | D40: SINAPI | E40: 93378 | F40: REATERRO MECANIZADO DE VALA COM RETROESCAVADEIRA (CAPACIDADE DA CAÇAMBA DA RETRO: 0,26 M³ / POTÊNCIA: 88 HP), LARGURA ATÉ 0,8 M, PROFUNDIDADE ATÉ 1,5 M, COM SOLO DE 1ª CATEGORIA EM LOCAIS COM BAIXO NÍVEL DE INTERFERÊNCIA. AF_04/2016 | G40: M3 | H40: ='memoria de cálculo'!F42 -> 94.4 | I40: 17.7 | J40: =J4 -> 0.2097 | K40: =(J40*I40)+I40 -> 21.41169 | L40: =K40*H40 -> 2021.2635
C41: 3.1.3 | D41: SINAPI-I | E41: 37451 | F41: TUBO DE CONCRETO SIMPLES PARA AGUAS PLUVIAIS, CLASSE PS1, COM ENCAIXE MACHO E FEMEA, DIAMETRO NOMINAL DE 400 MM | G41: M | H41: ='memoria de cálculo'!F43 -> 39.4 | I41: 38.43 | J41: =J5 -> 0.1402 | K41: =(J41*I41)+I41 -> 43.817886 | L41: =K41*H41 -> 1726.4247
C42: 3.1.4 | D42: SINAPI | E42: 92809 | F42: ASSENTAMENTO DE TUBO DE CONCRETO PARA REDES COLETORAS DE ÁGUAS PLUVIAIS, DIÂMETRO DE 400 MM, JUNTA RÍGIDA, INSTALADO EM LOCAL COM BAIXO NÍVEL DE INTERFERÊNCIAS (NÃO INCLUI FORNECIMENTO). AF_12/2015 | G42: M | H42: ='memoria de cálculo'!F44 -> 39.4 | I42: 38.67 | J42: =J4 -> 0.2097 | K42: =(J42*I42)+I42 -> 46.779099 | L42: =K42*H42 -> 1843.0965
C43: 3.1.5 | D43: SINAPI | E43: 37453 | F43: TUBO DE CONCRETO SIMPLES PARA AGUAS PLUVIAIS, CLASSE PS1, COM ENCAIXE MACHO E FEMEA, DIAMETRO NOMINAL DE 600 MM | G43: M | H43: ='memoria de cálculo'!F45 -> 102.79 | I43: 67.6 | J43: =J4 -> 0.2097 | K43: =(J43*I43)+I43 -> 81.77572 | L43: =K43*H43 -> 8405.7263
C44: 3.1.6 | D44: SINAPI | E44: 92811 | F44: ASSENTAMENTO DE TUBO DE CONCRETO PARA REDES COLETORAS DE ÁGUAS PLUVIAIS, DIÂMETRO DE 600 MM, JUNTA RÍGIDA, INSTALADO EM LOCAL COM BAIXO NÍVEL DE INTERFERÊNCIAS (NÃO INCLUI FORNECIMENTO). AF_12/2015 | G44: M | H44: ='memoria de cálculo'!F46 -> 108.79 | I44: 56.51 | J44: =J4 -> 0.2097 | K44: =(J44*I44)+I44 -> 68.360147 | L44: =K44*H44 -> 7436.9004
C45: 3.1.7 | D45: SINAPI | E45: 97949 | F45: CAIXA PARA BOCA DE LOBO SIMPLES RETANGULAR, EM ALVENARIA COM TIJOLOS CERÂMICOS MACIÇOS, DIMENSÕES INTERNAS: 0,6X1X1,2 M. AF_12/2020 | G45: UNID | H45: ='memoria de cálculo'!F47 -> 9 | I45: 1237.6 | J45: =J4 -> 0.2097 | K45: =(J45*I45)+I45 -> 1497.1247 | L45: =K45*H45 -> 13474.122
C46: 3.2 | F46: PAVIMENTAÇÃO | L46: =L47+L48 -> 83615.684
C47: 3.2.1 | D47: SINAPI | E47: 94273 | F47: ASSENTAMENTO DE GUIA (MEIO-FIO) EM TRECHO RETO, CONFECCIONADA EM CONCRETO PRÉ-FABRICADO, DIMENSÕES 100X15X13X30 CM (COMPRIMENTO X BASE INFERIOR X BASE SUPERIOR X ALTURA), PARA VIAS URBANAS (USO VIÁRIO). AF_06/2016 | G47: M | H47: ='memoria de cálculo'!F49 -> 156.66 | I47: 38.74 | J47: =J4 -> 0.2097 | K47: =(J47*I47)+I47 -> 46.863778 | L47: =K47*H47 -> 7341.6795 | M47: 63.2 | N47: =M47*K47 -> 2961.7908 | O47: =N47/L47 -> 0.40342142 | P47: 138 | Q47: =P47*K47 -> 6467.2014 | R47: =Q47/L47 -> 0.88088855
C48: 3.2.2 | D48: Composição | E48: 01 | F48: PAVIMENTO EM PARALELEPÍPEDO SOBRE COLCHÃO PÓ DE BRITA REJUNTADO AS VALAS COM ARGAMASSA DE CIMENTO E AREIA | G48: M2 | H48: 880 | I48: 71.65 | J48: =J47 -> 0.2097 | K48: =(J48*I48)+I48 -> 86.675005 | L48: =K48*H48 -> 76274.004 | M48: 316 | N48: =M48*K48 -> 27389.302 | O48: =N48/L48 -> 0.35909091 | P48: 690 | Q48: =P48*K48 -> 59805.753 | R48: =Q48/L48 -> 0.78409091
C49: 3.3 | F49: PASSEIOS | L49: =L50+L51 -> 6147.6794
C50: 3.3.1 | D50: SINAPI | E50: 96385 | F50: EXECUÇÃO E COMPACTAÇÃO DE ATERRO COM SOLO PREDOMINANTEMENTE ARGILOSO - EXCLUSIVE SOLO, ESCAVAÇÃO, CARGA E TRANSPORTE. AF_11/2019 | G50: M3 | H50: ='memoria de cálculo'!F55 -> 147 | I50: 7.65 | J50: =J48 -> 0.2097 | K50: =(J50*I50)+I50 -> 9.254205 | L50: =K50*H50 -> 1360.3681
C51: 3.3.2 | D51: SINAPI | E51: 94991 | F51: EXECUÇÃO DE PASSEIO (CALÇADA) OU PISO DE CONCRETO COM CONCRETO MOLDADO IN LOCO, USINADO, ACABAMENTO CONVENCIONAL, NÃO ARMADO. AF_07/2016 | G51: M3 | H51: ='memoria de cálculo'!F56 -> 8.16 | I51: 484.98 | J51: =J4 -> 0.2097 | K51: =(J51*I51)+I51 -> 586.68031 | L51: =K51*H51 -> 4787.3113
C52: 3.4 | F52: RAMPAS | L52: =L53+L54 -> 217.60715
C53: 3.4.1 | D53: SINAPI | E53: 94991 | F53: EXECUÇÃO DE PASSEIO (CALÇADA) OU PISO DE CONCRETO COM CONCRETO MOLDADO IN LOCO, USINADO, ACABAMENTO CONVENCIONAL, NÃO ARMADO. AF_07/2016 | G53: M3 | H53: ='memoria de cálculo'!F58 -> 0.24 | I53: 484.98 | J53: =J4 -> 0.2097 | K53: =(J53*I53)+I53 -> 586.68031 | L53: =K53*H53 -> 140.80327
C54: 3.4.2 | D54: SINAPI-I | E54: 36178 | F54: PISO PODOTATIL DE CONCRETO - DIRECIONAL E ALERTA, *40 X 40 X 2,5* CM | G54: UN | H54: ='memoria de cálculo'!F59 -> 8 | I54: 8.42 | J54: =J5 -> 0.1402 | K54: =(J54*I54)+I54 -> 9.600484 | L54: =K54*H54 -> 76.803872
C55: 3.5 | F55: SINALIZAÇÃO | L55: =L56+L57+L58+L59 -> 1081.1062
C56: 3.5.1 | D56: SINAPI-I | E56: 34723 | F56: PLACA DE SINALIZACAO EM CHAPA DE ACO NUM 16 COM PINTURA REFLETIVA | G56: M2 | H56: ='memoria de cálculo'!F61 -> 0.25 | I56: 402.01 | J56: =J5 -> 0.1402 | K56: =(J56*I56)+I56 -> 458.3718 | L56: =K56*H56 -> 114.59295
C57: 3.5.2 | D57: SINAPI-I | E57: 13521 | F57: PLACA DE ACO ESMALTADA PARA IDENTIFICACAO DE RUA, *45 CM X 20* CM | G57: UN | H57: ='memoria de cálculo'!F62 -> 2 | I57: 57.39 | J57: =J5 -> 0.1402 | K57: =(J57*I57)+I57 -> 65.436078 | L57: =K57*H57 -> 130.87216
C58: 3.5.3 | D58: SINAPI-I | E58: 7696 | F58: TUBO ACO GALVANIZADO COM COSTURA, CLASSE MEDIA, DN 2", E = *3,65* MM, PESO *5,10* KG/M (NBR 5580) | G58: M | H58: ='memoria de cálculo'!F63 -> 9 | I58: 77.35 | J58: =J5 -> 0.1402 | K58: =(J58*I58)+I58 -> 88.19447 | L58: =K58*H58 -> 793.75023
C59: 3.5.4 | D59: SINAPI | E59: 94975 | F59: CONCRETO FCK = 15MPA, TRAÇO 1:3,4:3,5 (EM MASSA SECA DE CIMENTO/ AREIA MÉDIA/ BRITA 1) - PREPARO MANUAL. AF_05/2021 | G59: M3 | H59: ='memoria de cálculo'!F64 -> 0.11 | I59: 314.81 | J59: =J4 -> 0.2097 | K59: =(J59*I59)+I59 -> 380.82566 | L59: =K59*H59 -> 41.890822
C60: 4 | F60: PAVIMENTAÇÃO RUA EDUARDO PUMPMACKER - 736 M² | L60: =L61+L69+L72+L75+L78 -> 101784.28 | P60: ACUMULADO
C61: 4.1 | F61: DRENAGEM | L61: =L62+L63+L64+L65+L66+L67+L68 -> 19689.808 | M61: =SUM(N62:N82) -> 0 | P61: =SUM(Q62:Q82) -> 101784.28
C62: 4.1.1 | D62: SINAPI | E62: 90105 | F62: ESCAVAÇÃO MECANIZADA DE VALA COM PROFUNDIDADE ATÉ 1,5 M (MÉDIA ENTRE MONTANTE E JUSANTE/UMA COMPOSIÇÃO POR TRECHO) COM RETROESCAVADEIRA (CAPACIDADE DA CAÇAMBA DA RETRO: 0,26 M3 / POTÊNCIA: 88 HP), LARGURA MENOR QUE 0,8 M, EM SOLO DE 1A CATEGORIA, LOCAISCOM BAIXO NÍVEL DE INTERFERÊNCIA. AF_02/2021 | G62: M3 | H62: ='memoria de cálculo'!F67 -> 106.43 | I62: 5.87 | J62: =J13 -> 0.2097 | K62: =(J62*I62)+I62 -> 7.100939 | L62: =K62*H62 -> 755.75294 | P62: 106.43 | Q62: =P62*K62 -> 755.75294 | R62: =Q62/L62 -> 1
C63: 4.1.2 | D63: SINAPI | E63: 93378 | F63: REATERRO MECANIZADO DE VALA COM RETROESCAVADEIRA (CAPACIDADE DA CAÇAMBA DA RETRO: 0,26 M³ / POTÊNCIA: 88 HP), LARGURA ATÉ 0,8 M, PROFUNDIDADE ATÉ 1,5 M, COM SOLO DE 1ª CATEGORIA EM LOCAIS COM BAIXO NÍVEL DE INTERFERÊNCIA. AF_04/2016 | G63: M3 | H63: ='memoria de cálculo'!F68 -> 74 | I63: 17.7 | J63: =J4 -> 0.2097 | K63: =(J63*I63)+I63 -> 21.41169 | L63: =K63*H63 -> 1584.4651 | P63: 74 | Q63: =P63*K63 -> 1584.4651 | R63: =Q63/L63 -> 1
C64: 4.1.3 | D64: SINAPI-I | E64: 37450 | F64: TUBO DE CONCRETO SIMPLES PARA AGUAS PLUVIAIS, CLASSE PS1, COM ENCAIXE MACHO E FEMEA, DIAMETRO NOMINAL DE 300 MM | G64: M | H64: ='memoria de cálculo'!F69 -> 8 | I64: 38.43 | J64: =J5 -> 0.1402 | K64: =(J64*I64)+I64 -> 43.817886 | L64: =K64*H64 -> 350.54309 | P64: 8 | Q64: =P64*K64 -> 350.54309 | R64: =Q64/L64 -> 1
C65: 4.1.4 | D65: SINAPI | E65: 92808 | F65: ASSENTAMENTO DE TUBO DE CONCRETO PARA REDES COLETORAS DE ÁGUAS PLUVIAIS, DIÂMETRO DE 300 MM, JUNTA RÍGIDA, INSTALADO EM LOCAL COM BAIXO NÍVEL DE INTERFERÊNCIAS (NÃO INCLUI FORNECIMENTO). AF_12/2015 | G65: M | H65: ='memoria de cálculo'!F70 -> 8 | I65: 38.67 | J65: =J4 -> 0.2097 | K65: =(J65*I65)+I65 -> 46.779099 | L65: =K65*H65 -> 374.23279 | P65: 8 | Q65: =P65*K65 -> 374.23279 | R65: =Q65/L65 -> 1
C66: 4.1.5 | D66: SINAPI-I | E66: 37451 | F66: TUBO DE CONCRETO SIMPLES PARA AGUAS PLUVIAIS, CLASSE PS1, COM ENCAIXE MACHO E FEMEA, DIAMETRO NOMINAL DE 400 MM | G66: M | H66: ='memoria de cálculo'!F71 -> 84 | I66: 67.6 | J66: =J5 -> 0.1402 | K66: =(J66*I66)+I66 -> 77.07752 | L66: =K66*H66 -> 6474.5117 | P66: 84 | Q66: =P66*K66 -> 6474.5117 | R66: =Q66/L66 -> 1
C67: 4.1.6 | D67: SINAPI | E67: 92809 | F67: ASSENTAMENTO DE TUBO DE CONCRETO PARA REDES COLETORAS DE ÁGUAS PLUVIAIS, DIÂMETRO DE 400 MM, JUNTA RÍGIDA, INSTALADO EM LOCAL COM BAIXO NÍVEL DE INTERFERÊNCIAS (NÃO INCLUI FORNECIMENTO). AF_12/2015 | G67: M | H67: ='memoria de cálculo'!F72 -> 84 | I67: 55.69 | J67: =J62 -> 0.2097 | K67: =(J67*I67)+I67 -> 67.368193 | L67: =K67*H67 -> 5658.9282 | P67: 84 | Q67: =P67*K67 -> 5658.9282 | R67: =Q67/L67 -> 1
C68: 4.1.7 | D68: SINAPI | E68: 97949 | F68: CAIXA PARA BOCA DE LOBO SIMPLES RETANGULAR, EM ALVENARIA COM TIJOLOS CERÂMICOS MACIÇOS, DIMENSÕES INTERNAS: 0,6X1X1,2 M. AF_12/2020 | G68: UN | H68: ='memoria de cálculo'!F73 -> 3 | I68: 1237.6 | J68: =J4 -> 0.2097 | K68: =(J68*I68)+I68 -> 1497.1247 | L68: =K68*H68 -> 4491.3742 | P68: 3 | Q68: =P68*K68 -> 4491.3742 | R68: =Q68/L68 -> 1
C69: 4.2 | F69: PAVIMENTAÇÃO | L69: =L70+L71 -> 72040.829
C70: 4.2.1 | D70: SINAPI | E70: 94273 | F70: ASSENTAMENTO DE GUIA (MEIO-FIO) EM TRECHO RETO, CONFECCIONADA EM CONCRETO PRÉ-FABRICADO, DIMENSÕES 100X15X13X30 CM (COMPRIMENTO X BASE INFERIOR X BASE SUPERIOR X ALTURA), PARA VIAS URBANAS (USO VIÁRIO). AF_06/2016 | G70: M | H70: ='memoria de cálculo'!F75 -> 176 | I70: 38.74 | J70: =J4 -> 0.2097 | K70: =(J70*I70)+I70 -> 46.863778 | L70: =K70*H70 -> 8248.0249 | N70: =M70*K70 -> 0 | O70: =N70/L70 -> 0 | P70: 176 | Q70: =P70*K70 -> 8248.0249 | R70: =Q70/L70 -> 1
C71: 4.2.2 | D71: Composição | E71: 01 | F71: PAVIMENTO EM PARALELEPÍPEDO SOBRE COLCHÃO PÓ DE BRITA REJUNTADO AS VALAS COM ARGAMASSA DE CIMENTO E AREIA | G71: M2 | H71: 736 | I71: 71.65 | J71: =J4 -> 0.2097 | K71: =(J71*I71)+I71 -> 86.675005 | L71: =K71*H71 -> 63792.804 | P71: 736 | Q71: =P71*K71 -> 63792.804 | R71: =Q71/L71 -> 1
C72: 4.3 | F72: PASSEIOS | L72: =L73+L74 -> 8422.6483 | R72: =Q72/L72 -> 0
C73: 4.3.1 | D73: SINAPI | E73: 94991 | F73: EXECUÇÃO DE PASSEIO (CALÇADA) OU PISO DE CONCRETO COM CONCRETO MOLDADO IN LOCO, USINADO, ACABAMENTO CONVENCIONAL, NÃO ARMADO. AF_07/2016 | G73: M3 | H73: ='memoria de cálculo'!F81 -> 18.16 | I73: 7.65 | J73: =J4 -> 0.2097 | K73: =(J73*I73)+I73 -> 9.254205 | L73: =K73*H73 -> 168.05636 | N73: =M73*K73 -> 0 | O73: =N73/L73 -> 0 | P73: 18.16 | Q73: =P73*K73 -> 168.05636 | R73: =Q73/L73 -> 1
C74: 4.3.2 | D74: SINAPI | E74: 96385 | F74: EXECUÇÃO E COMPACTAÇÃO DE ATERRO COM SOLO PREDOMINANTEMENTE ARGILOSO - EXCLUSIVE SOLO, ESCAVAÇÃO, CARGA E TRANSPORTE. AF_11/2019 | G74: M3 | H74: ='memoria de cálculo'!F82 -> 14.07 | I74: 484.98 | J74: =J4 -> 0.2097 | K74: =(J74*I74)+I74 -> 586.68031 | L74: =K74*H74 -> 8254.5919 | N74: =M74*K74 -> 0 | O74: =N74/L74 -> 0 | P74: 14.07 | Q74: =P74*K74 -> 8254.5919 | R74: =Q74/L74 -> 1
C75: 4.4 | F75: RAMPAS | L75: =L76+L77 -> 549.88467
C76: 4.4.1 | D76: SINAPI | E76: 94991 | F76: EXECUÇÃO DE PASSEIO (CALÇADA) OU PISO DE CONCRETO COM CONCRETO MOLDADO IN LOCO, USINADO, ACABAMENTO CONVENCIONAL, NÃO ARMADO. AF_07/2016 | G76: M3 | H76: ='memoria de cálculo'!F84 -> 0.61 | I76: 484.98 | J76: =J73 -> 0.2097 | K76: =(J76*I76)+I76 -> 586.68031 | L76: =K76*H76 -> 357.87499 | N76: =M76*K76 -> 0 | O76: =N76/L76 -> 0 | P76: 0.61 | Q76: =P76*K76 -> 357.87499 | R76: =Q76/L76 -> 1
C77: 4.4.2 | D77: SINAPI-I | E77: 36178 | F77: PISO PODOTATIL DE CONCRETO - DIRECIONAL E ALERTA, *40 X 40 X 2,5* CM | G77: UN | H77: ='memoria de cálculo'!F85 -> 20 | I77: 8.42 | J77: =J5 -> 0.1402 | K77: =(J77*I77)+I77 -> 9.600484 | L77: =K77*H77 -> 192.00968 | N77: =M77*K77 -> 0 | O77: =N77/L77 -> 0 | P77: 20 | Q77: =P77*K77 -> 192.00968 | R77: =Q77/L77 -> 1
C78: 4.5 | F78: SINALIZAÇÃO | L78: =L79+L80+L81+L82 -> 1081.1062
C79: 4.5.1 | D79: SINAPI-I | E79: 34723 | F79: PLACA DE SINALIZACAO EM CHAPA DE ACO NUM 16 COM PINTURA REFLETIVA | G79: M2 | H79: ='memoria de cálculo'!F87 -> 0.25 | I79: 402.01 | J79: =J5 -> 0.1402 | K79: =(J79*I79)+I79 -> 458.3718 | L79: =K79*H79 -> 114.59295 | N79: =M79*K79 -> 0 | O79: =N79/L79 -> 0 | P79: 0.25 | Q79: =P79*K79 -> 114.59295 | R79: =Q79/L79 -> 1
C80: 4.5.2 | D80: SINAPI-I | E80: 13521 | F80: PLACA DE ACO ESMALTADA PARA IDENTIFICACAO DE RUA, *45 CM X 20* CM | G80: UN | H80: ='memoria de cálculo'!F88 -> 2 | I80: 57.39 | J80: =J5 -> 0.1402 | K80: =(J80*I80)+I80 -> 65.436078 | L80: =K80*H80 -> 130.87216 | N80: =M80*K80 -> 0 | O80: =N80/L80 -> 0 | P80: 2 | Q80: =P80*K80 -> 130.87216 | R80: =Q80/L80 -> 1
C81: 4.5.3 | D81: SINAPI-I | E81: 7696 | F81: TUBO ACO GALVANIZADO COM COSTURA, CLASSE MEDIA, DN 2", E = *3,65* MM, PESO *5,10* KG/M (NBR 5580) | G81: M | H81: ='memoria de cálculo'!F89 -> 9 | I81: 77.35 | J81: =J5 -> 0.1402 | K81: =(J81*I81)+I81 -> 88.19447 | L81: =K81*H81 -> 793.75023 | N81: =M81*K81 -> 0 | O81: =N81/L81 -> 0 | P81: 9 | Q81: =P81*K81 -> 793.75023 | R81: =Q81/L81 -> 1
C82: 4.5.4 | D82: SINAPI | E82: 94975 | F82: CONCRETO FCK = 15MPA, TRAÇO 1:3,4:3,5 (EM MASSA SECA DE CIMENTO/ AREIA MÉDIA/ BRITA 1) - PREPARO MANUAL. AF_05/2021 | G82: M3 | H82: ='memoria de cálculo'!F90 -> 0.11 | I82: 314.81 | J82: =J4 -> 0.2097 | K82: =(J82*I82)+I82 -> 380.82566 | L82: =K82*H82 -> 41.890822 | N82: =M82*K82 -> 0 | O82: =N82/L82 -> 0 | P82: 0.11 | Q82: =P82*K82 -> 41.890822 | R82: =Q82/L82 -> 1
C84: Salto do Jacuí/RS, 17 de abril de 2024.
F88: ______________________________________________
F89: JOSIELI FERREIRA
F90: CAU/RS A187139-0

Sheet BOLETIM DE MEDIÇÃO 3 .
C2: PREFEITURA MUNICIPAL DE SALTO DO JACUÍ | M2: BM 03 | P2: ACUMULADO TOTAL
C4: OBRA | D4: PAVIMENTAÇÃO TRECHO RUA GENERAL CÂMARA E RUA E. PUMPMAKER | G4: BDI | H4: NÃO DESONERADO | J4: 0.2097 | K4: SINAPI 12/2021 | M4: PERÍODO DE MEDIÇÃO: 05/10/2023 À 25/03/2024 | P4: =SUM(P38,P61) -> 137706.14
C5: ÁREA | D5: 2.816 M² | G5: BDI | H5: MATERIAIS | J5: 0.1402
C6: CR | D6: 851027/2017
C7: PLANILHA ORÇAMENTÁRIA - NÃO DESONERADA
I8: CUSTO | J8: BDI | K8: CUSTO | L8: VALOR
C9: ITEM | D9: FONTE | E9: CÓDIGO | F9: DESCRIÇÃO | G9: UNID | H9: QUANT | I9: UNIT | J9: % | K9: UNIT+BDI | L9: TOTAL | M9: QUANTIDADE | N9: TOTAL | O9: % | P9: QUANTIDADE | Q9: TOTAL | R9: %
F10: PAVIMENTAÇÃO DE RUAS E DRENAGEM | L10: =L11+L14+L37+L60 -> 402703.7
C11: 1.0 | F11: SERVIÇOS INICIAIS | L11: =L12+L13 -> 5990.9315
C12: 1.1 | D12: SINAPI-I | E12: 4813 | F12: PLACA DE OBRA (PARA CONSTRUCAO CIVIL) EM CHAPA GALVANIZADA *N. 22*, ADESIVADA, DE *2,0 X 1,125* M | G12: M2 | H12: ='memoria de cálculo'!F11 -> 2.88 | I12: 174.03 | J12: =$J$5 -> 0.1402 | K12: =I12+ (I12*$J$12) -> 198.42901 | L12: =K12*H12 -> 571.47554
C13: 1.2 | D13: SINAPI | E13: 90777 | F13: ENGENHEIRO CIVIL DE OBRA JUNIOR COM ENCARGOS COMPLEMENTARES | G13: H | H13: ='memoria de cálculo'!F12 -> 64 | I13: 70 | J13: =$J$4 -> 0.2097 | K13: =I13+ (I13*$J$13) -> 84.679 | L13: =K13*H13 -> 5419.456
C14: 2.0 | F14: PAVIMENTAÇÃO GENERAL CÂMARA - 1.200 M² | L14: =L15+L23+L26++L29+L32 -> 167813.57
C15: 2.1 | F15: DRENAGEM | L15: =L16+L17+L18+L19+L20+L21+L22 -> 42253.177
C16: 2.1.1 | D16: SINAPI | E16: 90105 | F16: ESCAVAÇÃO MECANIZADA DE VALA COM PROFUNDIDADE ATÉ 1,5 M (MÉDIA ENTRE MONTANTE E JUSANTE/UMA COMPOSIÇÃO POR TRECHO) COM RETROESCAVADEIRA (CAPACIDADE DA CAÇAMBA DA RETRO: 0,26 M3 / POTÊNCIA: 88 HP), LARGURA MENOR QUE 0,8 M, EM SOLO DE 1A CATEGORIA, LOCAISCOM BAIXO NÍVEL DE INTERFERÊNCIA. AF_02/2021 | G16: M3 | H16: ='memoria de cálculo'!F15 -> 249.63 | I16: 5.87 | J16: =$J$4 -> 0.2097 | K16: =(J16*I16)+I16 -> 7.100939 | L16: =K16*H16 -> 1772.6074 | N16: =M16*K16 -> 0
C17: 2.1.2 | D17: SINAPI | E17: 93378 | F17: REATERRO MECANIZADO DE VALA COM RETROESCAVADEIRA (CAPACIDADE DA CAÇAMBA DA RETRO: 0,26 M³ / POTÊNCIA: 88 HP), LARGURA ATÉ 0,8 M, PROFUNDIDADE ATÉ 1,5 M, COM SOLO DE 1ª CATEGORIA EM LOCAIS COM BAIXO NÍVEL DE INTERFERÊNCIA. AF_04/2016 | G17: M3 | H17: ='memoria de cálculo'!F16 -> 149.6 | I17: 17.7 | J17: =$J$4 -> 0.2097 | K17: =(J17*I17)+I17 -> 21.41169 | L17: =K17*H17 -> 3203.1888 | N17: =M17*K17 -> 0
C18: 2.1.3 | D18: SINAPI-I | E18: 37451 | F18: TUBO DE CONCRETO SIMPLES PARA AGUAS PLUVIAIS, CLASSE PS1, COM ENCAIXE MACHO E FEMEA, DIAMETRO NOMINAL DE 400 MM | G18: M | H18: ='memoria de cálculo'!F17 -> 39.4 | I18: 38.44 | J18: =$J$5 -> 0.1402 | K18: =(J18*I18)+I18 -> 43.829288 | L18: =K18*H18 -> 1726.8739 | N18: =M18*K18 -> 0
C19: 2.1.4 | D19: SINAPI | E19: 92809 | F19: ASSENTAMENTO DE TUBO DE CONCRETO PARA REDES COLETORAS DE ÁGUAS PLUVIAIS, DIÂMETRO DE 400 MM, JUNTA RÍGIDA, INSTALADO EM LOCAL COM BAIXO NÍVEL DE INTERFERÊNCIAS (NÃO INCLUI FORNECIMENTO). AF_12/2015 | G19: M | H19: ='memoria de cálculo'!F18 -> 39.4 | I19: 38.67 | J19: =J13 -> 0.2097 | K19: =(J19*I19)+I19 -> 46.779099 | L19: =K19*H19 -> 1843.0965 | N19: =M19*K19 -> 0
C20: 2.1.5 | D20: SINAPI-I | E20: 37453 | F20: TUBO DE CONCRETO SIMPLES PARA AGUAS PLUVIAIS, CLASSE PS1, COM ENCAIXE MACHO E FEMEA, DIAMETRO NOMINAL DE 600 MM | G20: M | H20: ='memoria de cálculo'!F19 -> 150.44 | I20: 67.6 | J20: =$J$5 -> 0.1402 | K20: =(J20*I20)+I20 -> 77.07752 | L20: =K20*H20 -> 11595.542 | N20: =M20*K20 -> 0
C21: 2.1.6 | D21: SINAPI | E21: 92811 | F21: ASSENTAMENTO DE TUBO DE CONCRETO PARA REDES COLETORAS DE ÁGUAS PLUVIAIS, DIÂMETRO DE 600 MM, JUNTA RÍGIDA, INSTALADO EM LOCAL COM BAIXO NÍVEL DE INTERFERÊNCIAS (NÃO INCLUI FORNECIMENTO). AF_12/2015 | G21: M | H21: ='memoria de cálculo'!F20 -> 150.44 | I21: 55.69 | J21: =$J$13 -> 0.2097 | K21: =(J21*I21)+I21 -> 67.368193 | L21: =K21*H21 -> 10134.871 | N21: =M21*K21 -> 0
C22: 2.1.7 | D22: SINAPI | E22: 97949 | F22: CAIXA PARA BOCA DE LOBO SIMPLES RETANGULAR, EM ALVENARIA COM TIJOLOS CERÂMICOS MACIÇOS, DIMENSÕES INTERNAS: 0,6X1X1,2 M. AF_12/2020 | G22: UNID | H22: ='memoria de cálculo'!F21 -> 8 | I22: 1237.6 | J22: =$J$13 -> 0.2097 | K22: =(J22*I22)+I22 -> 1497.1247 | L22: =K22*H22 -> 11976.998 | N22: =M22*K22 -> 0
C23: 2.2 | F23: PAVIMENTAÇÃO | L23: =L24+L25 -> 114507.49
C24: 2.1 | D24: SINAPI | E24: 94273 | F24: ASSENTAMENTO DE GUIA (MEIO-FIO) EM TRECHO RETO, CONFECCIONADA EM CONCRETO PRÉ-FABRICADO, DIMENSÕES 100X15X13X30 CM (COMPRIMENTO X BASE INFERIOR X BASE SUPERIOR X ALTURA), PARA VIAS URBANAS (USO VIÁRIO). AF_06/2016 | G24: M | H24: ='memoria de cálculo'!F23 -> 224 | I24: 38.74 | J24: =$J$13 -> 0.2097 | K24: =(J24*I24)+I24 -> 46.863778 | L24: =K24*H24 -> 10497.486
C25: 2.2.2 | D25: Composição | E25: 01 | F25: PAVIMENTO EM PARALELEPÍPEDO SOBRE COLCHÃO PÓ DE BRITA REJUNTADO AS VALAS COM ARGAMASSA DE CIMENTO E AREIA | G25: M2 | H25: 1200 | I25: 71.65 | J25: =$J$13 -> 0.2097 | K25: =(J25*I25)+I25 -> 86.675005 | L25: =K25*H25 -> 104010.01
C26: 2.3 | F26: PASSEIOS | L26: =L27+L28 -> 9421.9141
C27: 2.3.1 | D27: SINAPI | E27: 96385 | F27: EXECUÇÃO E COMPACTAÇÃO DE ATERRO COM SOLO PREDOMINANTEMENTE ARGILOSO - EXCLUSIVE SOLO, ESCAVAÇÃO, CARGA E TRANSPORTE. AF_11/2019 | G27: M3 | H27: ='memoria de cálculo'!F29 -> 379.09 | I27: 7.65 | J27: =J25 -> 0.2097 | K27: =(J27*I27)+I27 -> 9.254205 | L27: =K27*H27 -> 3508.1766
C28: 2.3.2 | D28: SINAPI | E28: 94991 | F28: EXECUÇÃO DE PASSEIO (CALÇADA) OU PISO DE CONCRETO COM CONCRETO MOLDADO IN LOCO, USINADO, ACABAMENTO CONVENCIONAL, NÃO ARMADO. AF_07/2016 | G28: M3 | H28: ='memoria de cálculo'!F30 -> 10.08 | I28: 484.98 | J28: =J13 -> 0.2097 | K28: =(J28*I28)+I28 -> 586.68031 | L28: =K28*H28 -> 5913.7375
C29: 2.4 | F29: RAMPAS | L29: =L30+L31 -> 549.88467
C30: 2.4.1 | D30: SINAPI | E30: 94991 | F30: EXECUÇÃO DE PASSEIO (CALÇADA) OU PISO DE CONCRETO COM CONCRETO MOLDADO IN LOCO, USINADO, ACABAMENTO CONVENCIONAL, NÃO ARMADO. AF_07/2016 | G30: M3 | H30: ='memoria de cálculo'!F32 -> 0.61 | I30: 484.98 | J30: =J4 -> 0.2097 | K30: =(J30*I30)+I30 -> 586.68031 | L30: =K30*H30 -> 357.87499
C31: 2.4.2 | D31: SINAPI-I | E31: 36178 | F31: PISO PODOTATIL DE CONCRETO - DIRECIONAL E ALERTA, *40 X 40 X 2,5* CM | G31: UN | H31: ='memoria de cálculo'!F33 -> 20 | I31: 8.42 | J31: =J5 -> 0.1402 | K31: =(J31*I31)+I31 -> 9.600484 | L31: =K31*H31 -> 192.00968
C32: 2.5 | F32: SINALIZAÇÃO | L32: =L33+L34+L35+L36 -> 1081.1062
C33: 2.5.1 | D33: SINAPI-I | E33: 34723 | F33: PLACA DE SINALIZACAO EM CHAPA DE ACO NUM 16 COM PINTURA REFLETIVA | G33: M2 | H33: ='memoria de cálculo'!F35 -> 0.25 | I33: 402.01 | J33: =J5 -> 0.1402 | K33: =(J33*I33)+I33 -> 458.3718 | L33: =K33*H33 -> 114.59295
C34: 2.5.2 | D34: SINAPI-I | E34: 13521 | F34: PLACA DE ACO ESMALTADA PARA IDENTIFICACAO DE RUA, *45 CM X 20* CM | G34: UN | H34: ='memoria de cálculo'!F36 -> 2 | I34: 57.39 | J34: =J5 -> 0.1402 | K34: =(J34*I34)+I34 -> 65.436078 | L34: =K34*H34 -> 130.87216
C35: 2.5.3 | D35: SINAPI-I | E35: 7696 | F35: TUBO ACO GALVANIZADO COM COSTURA, CLASSE MEDIA, DN 2", E = *3,65* MM, PESO *5,10* KG/M (NBR 5580) | G35: M | H35: ='memoria de cálculo'!F37 -> 9 | I35: 77.35 | J35: =J5 -> 0.1402 | K35: =(J35*I35)+I35 -> 88.19447 | L35: =K35*H35 -> 793.75023
C36: 2.5.4 | D36: SINAPI | E36: 94975 | F36: CONCRETO FCK = 15MPA, TRAÇO 1:3,4:3,5 (EM MASSA SECA DE CIMENTO/ AREIA MÉDIA/ BRITA 1) - PREPARO MANUAL. AF_05/2021 | G36: M3 | H36: ='memoria de cálculo'!F38 -> 0.11 | I36: 314.81 | J36: =J4 -> 0.2097 | K36: =(J36*I36)+I36 -> 380.82566 | L36: =K36*H36 -> 41.890822
C37: 3.0 | F37: PAVIMENTAÇÃO GENERAL CÂMARA - 880 M² | L37: =L38+L46+L49+L52+L55 -> 127114.92 | M37: MEDIDO PERÍODO | P37: ACUMULADO
C38: 3.1 | F38: DRENAGEM | L38: =L39+L40+L41+L42+L43+L44+L45 -> 36052.844 | M38: =SUM(N39:N59) -> 35921.862 | P38: =SUM(Q39:Q59) -> 35921.862
C39: 3.1.1 | D39: SINAPI | E39: 90105 | F39: ESCAVAÇÃO MECANIZADA DE VALA COM PROFUNDIDADE ATÉ 1,5 M (MÉDIA ENTRE MONTANTE E JUSANTE/UMA COMPOSIÇÃO POR TRECHO) COM RETROESCAVADEIRA (CAPACIDADE DA CAÇAMBA DA RETRO: 0,26 M3 / POTÊNCIA: 88 HP), LARGURA MENOR QUE 0,8 M, EM SOLO DE 1A CATEGORIA, LOCAISCOM BAIXO NÍVEL DE INTERFERÊNCIA. AF_02/2021 | G39: M3 | H39: ='memoria de cálculo'!F41 -> 161.29 | I39: 5.87 | J39: =J4 -> 0.2097 | K39: =(J39*I39)+I39 -> 7.100939 | L39: =K39*H39 -> 1145.3105
C40: 3.1.2 | D40: SINAPI | E40: 93378 | F40: REATERRO MECANIZADO DE VALA COM RETROESCAVADEIRA (CAPACIDADE DA CAÇAMBA DA RETRO: 0,26 M³ / POTÊNCIA: 88 HP), LARGURA ATÉ 0,8 M, PROFUNDIDADE ATÉ 1,5 M, COM SOLO DE 1ª CATEGORIA EM LOCAIS COM BAIXO NÍVEL DE INTERFERÊNCIA. AF_04/2016 | G40: M3 | H40: ='memoria de cálculo'!F42 -> 94.4 | I40: 17.7 | J40: =J4 -> 0.2097 | K40: =(J40*I40)+I40 -> 21.41169 | L40: =K40*H40 -> 2021.2635
C41: 3.1.3 | D41: SINAPI-I | E41: 37451 | F41: TUBO DE CONCRETO SIMPLES PARA AGUAS PLUVIAIS, CLASSE PS1, COM ENCAIXE MACHO E FEMEA, DIAMETRO NOMINAL DE 400 MM | G41: M | H41: ='memoria de cálculo'!F43 -> 39.4 | I41: 38.43 | J41: =J5 -> 0.1402 | K41: =(J41*I41)+I41 -> 43.817886 | L41: =K41*H41 -> 1726.4247
C42: 3.1.4 | D42: SINAPI | E42: 92809 | F42: ASSENTAMENTO DE TUBO DE CONCRETO PARA REDES COLETORAS DE ÁGUAS PLUVIAIS, DIÂMETRO DE 400 MM, JUNTA RÍGIDA, INSTALADO EM LOCAL COM BAIXO NÍVEL DE INTERFERÊNCIAS (NÃO INCLUI FORNECIMENTO). AF_12/2015 | G42: M | H42: ='memoria de cálculo'!F44 -> 39.4 | I42: 38.67 | J42: =J4 -> 0.2097 | K42: =(J42*I42)+I42 -> 46.779099 | L42: =K42*H42 -> 1843.0965
C43: 3.1.5 | D43: SINAPI | E43: 37453 | F43: TUBO DE CONCRETO SIMPLES PARA AGUAS PLUVIAIS, CLASSE PS1, COM ENCAIXE MACHO E FEMEA, DIAMETRO NOMINAL DE 600 MM | G43: M | H43: ='memoria de cálculo'!F45 -> 102.79 | I43: 67.6 | J43: =J4 -> 0.2097 | K43: =(J43*I43)+I43 -> 81.77572 | L43: =K43*H43 -> 8405.7263
C44: 3.1.6 | D44: SINAPI | E44: 92811 | F44: ASSENTAMENTO DE TUBO DE CONCRETO PARA REDES COLETORAS DE ÁGUAS PLUVIAIS, DIÂMETRO DE 600 MM, JUNTA RÍGIDA, INSTALADO EM LOCAL COM BAIXO NÍVEL DE INTERFERÊNCIAS (NÃO INCLUI FORNECIMENTO). AF_12/2015 | G44: M | H44: ='memoria de cálculo'!F46 -> 108.79 | I44: 56.51 | J44: =J4 -> 0.2097 | K44: =(J44*I44)+I44 -> 68.360147 | L44: =K44*H44 -> 7436.9004
C45: 3.1.7 | D45: SINAPI | E45: 97949 | F45: CAIXA PARA BOCA DE LOBO SIMPLES RETANGULAR, EM ALVENARIA COM TIJOLOS CERÂMICOS MACIÇOS, DIMENSÕES INTERNAS: 0,6X1X1,2 M. AF_12/2020 | G45: UNID | H45: ='memoria de cálculo'!F47 -> 9 | I45: 1237.6 | J45: =J4 -> 0.2097 | K45: =(J45*I45)+I45 -> 1497.1247 | L45: =K45*H45 -> 13474.122
C46: 3.2 | F46: PAVIMENTAÇÃO | L46: =L47+L48 -> 83615.684
C47: 3.2.1 | D47: SINAPI | E47: 94273 | F47: ASSENTAMENTO DE GUIA (MEIO-FIO) EM TRECHO RETO, CONFECCIONADA EM CONCRETO PRÉ-FABRICADO, DIMENSÕES 100X15X13X30 CM (COMPRIMENTO X BASE INFERIOR X BASE SUPERIOR X ALTURA), PARA VIAS URBANAS (USO VIÁRIO). AF_06/2016 | G47: M | H47: ='memoria de cálculo'!F49 -> 156.66 | I47: 38.74 | J47: =J4 -> 0.2097 | K47: =(J47*I47)+I47 -> 46.863778 | L47: =K47*H47 -> 7341.6795 | M47: 74.8 | N47: =M47*K47 -> 3505.4106 | O47: =N47/L47 -> 0.47746713 | P47: 74.8 | Q47: =P47*K47 -> 3505.4106 | R47: =Q47/L47 -> 0.47746713
C48: 3.2.2 | D48: Composição | E48: 01 | F48: PAVIMENTO EM PARALELEPÍPEDO SOBRE COLCHÃO PÓ DE BRITA REJUNTADO AS VALAS COM ARGAMASSA DE CIMENTO E AREIA | G48: M2 | H48: 880 | I48: 71.65 | J48: =J47 -> 0.2097 | K48: =(J48*I48)+I48 -> 86.675005 | L48: =K48*H48 -> 76274.004 | M48: 374 | N48: =M48*K48 -> 32416.452 | O48: =N48/L48 -> 0.425 | P48: 374 | Q48: =P48*K48 -> 32416.452 | R48: =Q48/L48 -> 0.425
C49: 3.3 | F49: PASSEIOS | L49: =L50+L51 -> 6147.6794
C50: 3.3.1 | D50: SINAPI | E50: 96385 | F50: EXECUÇÃO E COMPACTAÇÃO DE ATERRO COM SOLO PREDOMINANTEMENTE ARGILOSO - EXCLUSIVE SOLO, ESCAVAÇÃO, CARGA E TRANSPORTE. AF_11/2019 | G50: M3 | H50: ='memoria de cálculo'!F55 -> 147 | I50: 7.65 | J50: =J48 -> 0.2097 | K50: =(J50*I50)+I50 -> 9.254205 | L50: =K50*H50 -> 1360.3681
C51: 3.3.2 | D51: SINAPI | E51: 94991 | F51: EXECUÇÃO DE PASSEIO (CALÇADA) OU PISO DE CONCRETO COM CONCRETO MOLDADO IN LOCO, USINADO, ACABAMENTO CONVENCIONAL, NÃO ARMADO. AF_07/2016 | G51: M3 | H51: ='memoria de cálculo'!F56 -> 8.16 | I51: 484.98 | J51: =J4 -> 0.2097 | K51: =(J51*I51)+I51 -> 586.68031 | L51: =K51*H51 -> 4787.3113
C52: 3.4 | F52: RAMPAS | L52: =L53+L54 -> 217.60715
C53: 3.4.1 | D53: SINAPI | E53: 94991 | F53: EXECUÇÃO DE PASSEIO (CALÇADA) OU PISO DE CONCRETO COM CONCRETO MOLDADO IN LOCO, USINADO, ACABAMENTO CONVENCIONAL, NÃO ARMADO. AF_07/2016 | G53: M3 | H53: ='memoria de cálculo'!F58 -> 0.24 | I53: 484.98 | J53: =J4 -> 0.2097 | K53: =(J53*I53)+I53 -> 586.68031 | L53: =K53*H53 -> 140.80327
C54: 3.4.2 | D54: SINAPI-I | E54: 36178 | F54: PISO PODOTATIL DE CONCRETO - DIRECIONAL E ALERTA, *40 X 40 X 2,5* CM | G54: UN | H54: ='memoria de cálculo'!F59 -> 8 | I54: 8.42 | J54: =J5 -> 0.1402 | K54: =(J54*I54)+I54 -> 9.600484 | L54: =K54*H54 -> 76.803872
C55: 3.5 | F55: SINALIZAÇÃO | L55: =L56+L57+L58+L59 -> 1081.1062
C56: 3.5.1 | D56: SINAPI-I | E56: 34723 | F56: PLACA DE SINALIZACAO EM CHAPA DE ACO NUM 16 COM PINTURA REFLETIVA | G56: M2 | H56: ='memoria de cálculo'!F61 -> 0.25 | I56: 402.01 | J56: =J5 -> 0.1402 | K56: =(J56*I56)+I56 -> 458.3718 | L56: =K56*H56 -> 114.59295
C57: 3.5.2 | D57: SINAPI-I | E57: 13521 | F57: PLACA DE ACO ESMALTADA PARA IDENTIFICACAO DE RUA, *45 CM X 20* CM | G57: UN | H57: ='memoria de cálculo'!F62 -> 2 | I57: 57.39 | J57: =J5 -> 0.1402 | K57: =(J57*I57)+I57 -> 65.436078 | L57: =K57*H57 -> 130.87216
C58: 3.5.3 | D58: SINAPI-I | E58: 7696 | F58: TUBO ACO GALVANIZADO COM COSTURA, CLASSE MEDIA, DN 2", E = *3,65* MM, PESO *5,10* KG/M (NBR 5580) | G58: M | H58: ='memoria de cálculo'!F63 -> 9 | I58: 77.35 | J58: =J5 -> 0.1402 | K58: =(J58*I58)+I58 -> 88.19447 | L58: =K58*H58 -> 793.75023
C59: 3.5.4 | D59: SINAPI | E59: 94975 | F59: CONCRETO FCK = 15MPA, TRAÇO 1:3,4:3,5 (EM MASSA SECA DE CIMENTO/ AREIA MÉDIA/ BRITA 1) - PREPARO MANUAL. AF_05/2021 | G59: M3 | H59: ='memoria de cálculo'!F64 -> 0.11 | I59: 314.81 | J59: =J4 -> 0.2097 | K59: =(J59*I59)+I59 -> 380.82566 | L59: =K59*H59 -> 41.890822
C60: 4 | F60: PAVIMENTAÇÃO RUA EDUARDO PUMPMACKER - 736 M² | L60: =L61+L69+L72+L75+L78 -> 101784.28 | P60: ACUMULADO
C61: 4.1 | F61: DRENAGEM | L61: =L62+L63+L64+L65+L66+L67+L68 -> 19689.808 | M61: =SUM(N62:N82) -> 0 | P61: =SUM(Q62:Q82) -> 101784.28
C62: 4.1.1 | D62: SINAPI | E62: 90105 | F62: ESCAVAÇÃO MECANIZADA DE VALA COM PROFUNDIDADE ATÉ 1,5 M (MÉDIA ENTRE MONTANTE E JUSANTE/UMA COMPOSIÇÃO POR TRECHO) COM RETROESCAVADEIRA (CAPACIDADE DA CAÇAMBA DA RETRO: 0,26 M3 / POTÊNCIA: 88 HP), LARGURA MENOR QUE 0,8 M, EM SOLO DE 1A CATEGORIA, LOCAISCOM BAIXO NÍVEL DE INTERFERÊNCIA. AF_02/2021 | G62: M3 | H62: ='memoria de cálculo'!F67 -> 106.43 | I62: 5.87 | J62: =J13 -> 0.2097 | K62: =(J62*I62)+I62 -> 7.100939 | L62: =K62*H62 -> 755.75294 | P62: 106.43 | Q62: =P62*K62 -> 755.75294 | R62: =Q62/L62 -> 1
C63: 4.1.2 | D63: SINAPI | E63: 93378 | F63: REATERRO MECANIZADO DE VALA COM RETROESCAVADEIRA (CAPACIDADE DA CAÇAMBA DA RETRO: 0,26 M³ / POTÊNCIA: 88 HP), LARGURA ATÉ 0,8 M, PROFUNDIDADE ATÉ 1,5 M, COM SOLO DE 1ª CATEGORIA EM LOCAIS COM BAIXO NÍVEL DE INTERFERÊNCIA. AF_04/2016 | G63: M3 | H63: ='memoria de cálculo'!F68 -> 74 | I63: 17.7 | J63: =J4 -> 0.2097 | K63: =(J63*I63)+I63 -> 21.41169 | L63: =K63*H63 -> 1584.4651 | P63: 74 | Q63: =P63*K63 -> 1584.4651 | R63: =Q63/L63 -> 1
C64: 4.1.3 | D64: SINAPI-I | E64: 37450 | F64: TUBO DE CONCRETO SIMPLES PARA AGUAS PLUVIAIS, CLASSE PS1, COM ENCAIXE MACHO E FEMEA, DIAMETRO NOMINAL DE 300 MM | G64: M | H64: ='memoria de cálculo'!F69 -> 8 | I64: 38.43 | J64: =J5 -> 0.1402 | K64: =(J64*I64)+I64 -> 43.817886 | L64: =K64*H64 -> 350.54309 | P64: 8 | Q64: =P64*K64 -> 350.54309 | R64: =Q64/L64 -> 1
C65: 4.1.4 | D65: SINAPI | E65: 92808 | F65: ASSENTAMENTO DE TUBO DE CONCRETO PARA REDES COLETORAS DE ÁGUAS PLUVIAIS, DIÂMETRO DE 300 MM, JUNTA RÍGIDA, INSTALADO EM LOCAL COM BAIXO NÍVEL DE INTERFERÊNCIAS (NÃO INCLUI FORNECIMENTO). AF_12/2015 | G65: M | H65: ='memoria de cálculo'!F70 -> 8 | I65: 38.67 | J65: =J4 -> 0.2097 | K65: =(J65*I65)+I65 -> 46.779099 | L65: =K65*H65 -> 374.23279 | P65: 8 | Q65: =P65*K65 -> 374.23279 | R65: =Q65/L65 -> 1
C66: 4.1.5 | D66: SINAPI-I | E66: 37451 | F66: TUBO DE CONCRETO SIMPLES PARA AGUAS PLUVIAIS, CLASSE PS1, COM ENCAIXE MACHO E FEMEA, DIAMETRO NOMINAL DE 400 MM | G66: M | H66: ='memoria de cálculo'!F71 -> 84 | I66: 67.6 | J66: =J5 -> 0.1402 | K66: =(J66*I66)+I66 -> 77.07752 | L66: =K66*H66 -> 6474.5117 | P66: 84 | Q66: =P66*K66 -> 6474.5117 | R66: =Q66/L66 -> 1
C67: 4.1.6 | D67: SINAPI | E67: 92809 | F67: ASSENTAMENTO DE TUBO DE CONCRETO PARA REDES COLETORAS DE ÁGUAS PLUVIAIS, DIÂMETRO DE 400 MM, JUNTA RÍGIDA, INSTALADO EM LOCAL COM BAIXO NÍVEL DE INTERFERÊNCIAS (NÃO INCLUI FORNECIMENTO). AF_12/2015 | G67: M | H67: ='memoria de cálculo'!F72 -> 84 | I67: 55.69 | J67: =J62 -> 0.2097 | K67: =(J67*I67)+I67 -> 67.368193 | L67: =K67*H67 -> 5658.9282 | P67: 84 | Q67: =P67*K67 -> 5658.9282 | R67: =Q67/L67 -> 1
C68: 4.1.7 | D68: SINAPI | E68: 97949 | F68: CAIXA PARA BOCA DE LOBO SIMPLES RETANGULAR, EM ALVENARIA COM TIJOLOS CERÂMICOS MACIÇOS, DIMENSÕES INTERNAS: 0,6X1X1,2 M. AF_12/2020 | G68: UN | H68: ='memoria de cálculo'!F73 -> 3 | I68: 1237.6 | J68: =J4 -> 0.2097 | K68: =(J68*I68)+I68 -> 1497.1247 | L68: =K68*H68 -> 4491.3742 | P68: 3 | Q68: =P68*K68 -> 4491.3742 | R68: =Q68/L68 -> 1
C69: 4.2 | F69: PAVIMENTAÇÃO | L69: =L70+L71 -> 72040.829
C70: 4.2.1 | D70: SINAPI | E70: 94273 | F70: ASSENTAMENTO DE GUIA (MEIO-FIO) EM TRECHO RETO, CONFECCIONADA EM CONCRETO PRÉ-FABRICADO, DIMENSÕES 100X15X13X30 CM (COMPRIMENTO X BASE INFERIOR X BASE SUPERIOR X ALTURA), PARA VIAS URBANAS (USO VIÁRIO). AF_06/2016 | G70: M | H70: ='memoria de cálculo'!F75 -> 176 | I70: 38.74 | J70: =J4 -> 0.2097 | K70: =(J70*I70)+I70 -> 46.863778 | L70: =K70*H70 -> 8248.0249 | N70: =M70*K70 -> 0 | O70: =N70/L70 -> 0 | P70: 176 | Q70: =P70*K70 -> 8248.0249 | R70: =Q70/L70 -> 1
C71: 4.2.2 | D71: Composição | E71: 01 | F71: PAVIMENTO EM PARALELEPÍPEDO SOBRE COLCHÃO PÓ DE BRITA REJUNTADO AS VALAS COM ARGAMASSA DE CIMENTO E AREIA | G71: M2 | H71: 736 | I71: 71.65 | J71: =J4 -> 0.2097 | K71: =(J71*I71)+I71 -> 86.675005 | L71: =K71*H71 -> 63792.804 | P71: 736 | Q71: =P71*K71 -> 63792.804 | R71: =Q71/L71 -> 1
C72: 4.3 | F72: PASSEIOS | L72: =L73+L74 -> 8422.6483 | R72: =Q72/L72 -> 0
C73: 4.3.1 | D73: SINAPI | E73: 94991 | F73: EXECUÇÃO DE PASSEIO (CALÇADA) OU PISO DE CONCRETO COM CONCRETO MOLDADO IN LOCO, USINADO, ACABAMENTO CONVENCIONAL, NÃO ARMADO. AF_07/2016 | G73: M3 | H73: ='memoria de cálculo'!F81 -> 18.16 | I73: 7.65 | J73: =J4 -> 0.2097 | K73: =(J73*I73)+I73 -> 9.254205 | L73: =K73*H73 -> 168.05636 | N73: =M73*K73 -> 0 | O73: =N73/L73 -> 0 | P73: 18.16 | Q73: =P73*K73 -> 168.05636 | R73: =Q73/L73 -> 1
C74: 4.3.2 | D74: SINAPI | E74: 96385 | F74: EXECUÇÃO E COMPACTAÇÃO DE ATERRO COM SOLO PREDOMINANTEMENTE ARGILOSO - EXCLUSIVE SOLO, ESCAVAÇÃO, CARGA E TRANSPORTE. AF_11/2019 | G74: M3 | H74: ='memoria de cálculo'!F82 -> 14.07 | I74: 484.98 | J74: =J4 -> 0.2097 | K74: =(J74*I74)+I74 -> 586.68031 | L74: =K74*H74 -> 8254.5919 | N74: =M74*K74 -> 0 | O74: =N74/L74 -> 0 | P74: 14.07 | Q74: =P74*K74 -> 8254.5919 | R74: =Q74/L74 -> 1
C75: 4.4 | F75: RAMPAS | L75: =L76+L77 -> 549.88467
C76: 4.4.1 | D76: SINAPI | E76: 94991 | F76: EXECUÇÃO DE PASSEIO (CALÇADA) OU PISO DE CONCRETO COM CONCRETO MOLDADO IN LOCO, USINADO, ACABAMENTO CONVENCIONAL, NÃO ARMADO. AF_07/2016 | G76: M3 | H76: ='memoria de cálculo'!F84 -> 0.61 | I76: 484.98 | J76: =J73 -> 0.2097 | K76: =(J76*I76)+I76 -> 586.68031 | L76: =K76*H76 -> 357.87499 | N76: =M76*K76 -> 0 | O76: =N76/L76 -> 0 | P76: 0.61 | Q76: =P76*K76 -> 357.87499 | R76: =Q76/L76 -> 1
C77: 4.4.2 | D77: SINAPI-I | E77: 36178 | F77: PISO PODOTATIL DE CONCRETO - DIRECIONAL E ALERTA, *40 X 40 X 2,5* CM | G77: UN | H77: ='memoria de cálculo'!F85 -> 20 | I77: 8.42 | J77: =J5 -> 0.1402 | K77: =(J77*I77)+I77 -> 9.600484 | L77: =K77*H77 -> 192.00968 | N77: =M77*K77 -> 0 | O77: =N77/L77 -> 0 | P77: 20 | Q77: =P77*K77 -> 192.00968 | R77: =Q77/L77 -> 1
C78: 4.5 | F78: SINALIZAÇÃO | L78: =L79+L80+L81+L82 -> 1081.1062
C79: 4.5.1 | D79: SINAPI-I | E79: 34723 | F79: PLACA DE SINALIZACAO EM CHAPA DE ACO NUM 16 COM PINTURA REFLETIVA | G79: M2 | H79: ='memoria de cálculo'!F87 -> 0.25 | I79: 402.01 | J79: =J5 -> 0.1402 | K79: =(J79*I79)+I79 -> 458.3718 | L79: =K79*H79 -> 114.59295 | N79: =M79*K79 -> 0 | O79: =N79/L79 -> 0 | P79: 0.25 | Q79: =P79*K79 -> 114.59295 | R79: =Q79/L79 -> 1
C80: 4.5.2 | D80: SINAPI-I | E80: 13521 | F80: PLACA DE ACO ESMALTADA PARA IDENTIFICACAO DE RUA, *45 CM X 20* CM | G80: UN | H80: ='memoria de cálculo'!F88 -> 2 | I80: 57.39 | J80: =J5 -> 0.1402 | K80: =(J80*I80)+I80 -> 65.436078 | L80: =K80*H80 -> 130.87216 | N80: =M80*K80 -> 0 | O80: =N80/L80 -> 0 | P80: 2 | Q80: =P80*K80 -> 130.87216 | R80: =Q80/L80 -> 1
C81: 4.5.3 | D81: SINAPI-I | E81: 7696 | F81: TUBO ACO GALVANIZADO COM COSTURA, CLASSE MEDIA, DN 2", E = *3,65* MM, PESO *5,10* KG/M (NBR 5580) | G81: M | H81: ='memoria de cálculo'!F89 -> 9 | I81: 77.35 | J81: =J5 -> 0.1402 | K81: =(J81*I81)+I81 -> 88.19447 | L81: =K81*H81 -> 793.75023 | N81: =M81*K81 -> 0 | O81: =N81/L81 -> 0 | P81: 9 | Q81: =P81*K81 -> 793.75023 | R81: =Q81/L81 -> 1
C82: 4.5.4 | D82: SINAPI | E82: 94975 | F82: CONCRETO FCK = 15MPA, TRAÇO 1:3,4:3,5 (EM MASSA SECA DE CIMENTO/ AREIA MÉDIA/ BRITA 1) - PREPARO MANUAL. AF_05/2021 | G82: M3 | H82: ='memoria de cálculo'!F90 -> 0.11 | I82: 314.81 | J82: =J4 -> 0.2097 | K82: =(J82*I82)+I82 -> 380.82566 | L82: =K82*H82 -> 41.890822 | N82: =M82*K82 -> 0 | O82: =N82/L82 -> 0 | P82: 0.11 | Q82: =P82*K82 -> 41.890822 | R82: =Q82/L82 -> 1
C84: Salto do Jacuí/RS, 25 de março de 2024.
F88: ______________________________________________
F89: JOSIELI FERREIRA
F90: CAU/RS A187139-0

Sheet BOLETIM DE MEDIÇÃO 2
C2: PREFEITURA MUNICIPAL DE SALTO DO JACUÍ | M2: BM 02 | P2: ACUMULADO
C4: OBRA | D4: PAVIMENTAÇÃO TRECHO RUA GENERAL CÂMARA E RUA E. PUMPMAKER | G4: BDI | H4: NÃO DESONERADO | J4: 0.2097 | K4: SINAPI 12/2021 | M4: PERÍODO DE MEDIÇÃO: 23/08/2023 À 05/10/2023
C5: ÁREA | D5: 2.816 M² | G5: BDI | H5: MATERIAIS | J5: 0.1402
C6: CR | D6: 851027/2017
C7: PLANILHA ORÇAMENTÁRIA - NÃO DESONERADA
I8: CUSTO | J8: BDI | K8: CUSTO | L8: VALOR
C9: ITEM | D9: FONTE | E9: CÓDIGO | F9: DESCRIÇÃO | G9: UNID | H9: QUANT | I9: UNIT | J9: % | K9: UNIT+BDI | L9: TOTAL | M9: QUANTIDADE | N9: TOTAL | O9: % | P9: QUANTIDADE | Q9: TOTAL | R9: %
F10: PAVIMENTAÇÃO DE RUAS E DRENAGEM | L10: =L11+L14+L37+L60 -> 402703.7
C11: 1.0 | F11: SERVIÇOS INICIAIS | L11: =L12+L13 -> 5990.9315
C12: 1.1 | D12: SINAPI-I | E12: 4813 | F12: PLACA DE OBRA (PARA CONSTRUCAO CIVIL) EM CHAPA GALVANIZADA *N. 22*, ADESIVADA, DE *2,0 X 1,125* M | G12: M2 | H12: ='memoria de cálculo'!F11 -> 2.88 | I12: 174.03 | J12: =$J$5 -> 0.1402 | K12: =I12+ (I12*$J$12) -> 198.42901 | L12: =K12*H12 -> 571.47554
C13: 1.2 | D13: SINAPI | E13: 90777 | F13: ENGENHEIRO CIVIL DE OBRA JUNIOR COM ENCARGOS COMPLEMENTARES | G13: H | H13: ='memoria de cálculo'!F12 -> 64 | I13: 70 | J13: =$J$4 -> 0.2097 | K13: =I13+ (I13*$J$13) -> 84.679 | L13: =K13*H13 -> 5419.456
C14: 2.0 | F14: PAVIMENTAÇÃO GENERAL CÂMARA - 1.200 M² | L14: =L15+L23+L26++L29+L32 -> 167813.57
C15: 2.1 | F15: DRENAGEM | L15: =L16+L17+L18+L19+L20+L21+L22 -> 42253.177
C16: 2.1.1 | D16: SINAPI | E16: 90105 | F16: ESCAVAÇÃO MECANIZADA DE VALA COM PROFUNDIDADE ATÉ 1,5 M (MÉDIA ENTRE MONTANTE E JUSANTE/UMA COMPOSIÇÃO POR TRECHO) COM RETROESCAVADEIRA (CAPACIDADE DA CAÇAMBA DA RETRO: 0,26 M3 / POTÊNCIA: 88 HP), LARGURA MENOR QUE 0,8 M, EM SOLO DE 1A CATEGORIA, LOCAISCOM BAIXO NÍVEL DE INTERFERÊNCIA. AF_02/2021 | G16: M3 | H16: ='memoria de cálculo'!F15 -> 249.63 | I16: 5.87 | J16: =$J$4 -> 0.2097 | K16: =(J16*I16)+I16 -> 7.100939 | L16: =K16*H16 -> 1772.6074 | N16: =M16*K16 -> 0
C17: 2.1.2 | D17: SINAPI | E17: 93378 | F17: REATERRO MECANIZADO DE VALA COM RETROESCAVADEIRA (CAPACIDADE DA CAÇAMBA DA RETRO: 0,26 M³ / POTÊNCIA: 88 HP), LARGURA ATÉ 0,8 M, PROFUNDIDADE ATÉ 1,5 M, COM SOLO DE 1ª CATEGORIA EM LOCAIS COM BAIXO NÍVEL DE INTERFERÊNCIA. AF_04/2016 | G17: M3 | H17: ='memoria de cálculo'!F16 -> 149.6 | I17: 17.7 | J17: =$J$4 -> 0.2097 | K17: =(J17*I17)+I17 -> 21.41169 | L17: =K17*H17 -> 3203.1888 | N17: =M17*K17 -> 0
C18: 2.1.3 | D18: SINAPI-I | E18: 37451 | F18: TUBO DE CONCRETO SIMPLES PARA AGUAS PLUVIAIS, CLASSE PS1, COM ENCAIXE MACHO E FEMEA, DIAMETRO NOMINAL DE 400 MM | G18: M | H18: ='memoria de cálculo'!F17 -> 39.4 | I18: 38.44 | J18: =$J$5 -> 0.1402 | K18: =(J18*I18)+I18 -> 43.829288 | L18: =K18*H18 -> 1726.8739 | N18: =M18*K18 -> 0
C19: 2.1.4 | D19: SINAPI | E19: 92809 | F19: ASSENTAMENTO DE TUBO DE CONCRETO PARA REDES COLETORAS DE ÁGUAS PLUVIAIS, DIÂMETRO DE 400 MM, JUNTA RÍGIDA, INSTALADO EM LOCAL COM BAIXO NÍVEL DE INTERFERÊNCIAS (NÃO INCLUI FORNECIMENTO). AF_12/2015 | G19: M | H19: ='memoria de cálculo'!F18 -> 39.4 | I19: 38.67 | J19: =J13 -> 0.2097 | K19: =(J19*I19)+I19 -> 46.779099 | L19: =K19*H19 -> 1843.0965 | N19: =M19*K19 -> 0
C20: 2.1.5 | D20: SINAPI-I | E20: 37453 | F20: TUBO DE CONCRETO SIMPLES PARA AGUAS PLUVIAIS, CLASSE PS1, COM ENCAIXE MACHO E FEMEA, DIAMETRO NOMINAL DE 600 MM | G20: M | H20: ='memoria de cálculo'!F19 -> 150.44 | I20: 67.6 | J20: =$J$5 -> 0.1402 | K20: =(J20*I20)+I20 -> 77.07752 | L20: =K20*H20 -> 11595.542 | N20: =M20*K20 -> 0
C21: 2.1.6 | D21: SINAPI | E21: 92811 | F21: ASSENTAMENTO DE TUBO DE CONCRETO PARA REDES COLETORAS DE ÁGUAS PLUVIAIS, DIÂMETRO DE 600 MM, JUNTA RÍGIDA, INSTALADO EM LOCAL COM BAIXO NÍVEL DE INTERFERÊNCIAS (NÃO INCLUI FORNECIMENTO). AF_12/2015 | G21: M | H21: ='memoria de cálculo'!F20 -> 150.44 | I21: 55.69 | J21: =$J$13 -> 0.2097 | K21: =(J21*I21)+I21 -> 67.368193 | L21: =K21*H21 -> 10134.871 | N21: =M21*K21 -> 0
C22: 2.1.7 | D22: SINAPI | E22: 97949 | F22: CAIXA PARA BOCA DE LOBO SIMPLES RETANGULAR, EM ALVENARIA COM TIJOLOS CERÂMICOS MACIÇOS, DIMENSÕES INTERNAS: 0,6X1X1,2 M. AF_12/2020 | G22: UNID | H22: ='memoria de cálculo'!F21 -> 8 | I22: 1237.6 | J22: =$J$13 -> 0.2097 | K22: =(J22*I22)+I22 -> 1497.1247 | L22: =K22*H22 -> 11976.998 | N22: =M22*K22 -> 0
C23: 2.2 | F23: PAVIMENTAÇÃO | L23: =L24+L25 -> 114507.49
C24: 2.1 | D24: SINAPI | E24: 94273 | F24: ASSENTAMENTO DE GUIA (MEIO-FIO) EM TRECHO RETO, CONFECCIONADA EM CONCRETO PRÉ-FABRICADO, DIMENSÕES 100X15X13X30 CM (COMPRIMENTO X BASE INFERIOR X BASE SUPERIOR X ALTURA), PARA VIAS URBANAS (USO VIÁRIO). AF_06/2016 | G24: M | H24: ='memoria de cálculo'!F23 -> 224 | I24: 38.74 | J24: =$J$13 -> 0.2097 | K24: =(J24*I24)+I24 -> 46.863778 | L24: =K24*H24 -> 10497.486
C25: 2.2.2 | D25: Composição | E25: 01 | F25: PAVIMENTO EM PARALELEPÍPEDO SOBRE COLCHÃO PÓ DE BRITA REJUNTADO AS VALAS COM ARGAMASSA DE CIMENTO E AREIA | G25: M2 | H25: 1200 | I25: 71.65 | J25: =$J$13 -> 0.2097 | K25: =(J25*I25)+I25 -> 86.675005 | L25: =K25*H25 -> 104010.01
C26: 2.3 | F26: PASSEIOS | L26: =L27+L28 -> 9421.9141
C27: 2.3.1 | D27: SINAPI | E27: 96385 | F27: EXECUÇÃO E COMPACTAÇÃO DE ATERRO COM SOLO PREDOMINANTEMENTE ARGILOSO - EXCLUSIVE SOLO, ESCAVAÇÃO, CARGA E TRANSPORTE. AF_11/2019 | G27: M3 | H27: ='memoria de cálculo'!F29 -> 379.09 | I27: 7.65 | J27: =J25 -> 0.2097 | K27: =(J27*I27)+I27 -> 9.254205 | L27: =K27*H27 -> 3508.1766
C28: 2.3.2 | D28: SINAPI | E28: 94991 | F28: EXECUÇÃO DE PASSEIO (CALÇADA) OU PISO DE CONCRETO COM CONCRETO MOLDADO IN LOCO, USINADO, ACABAMENTO CONVENCIONAL, NÃO ARMADO. AF_07/2016 | G28: M3 | H28: ='memoria de cálculo'!F30 -> 10.08 | I28: 484.98 | J28: =J13 -> 0.2097 | K28: =(J28*I28)+I28 -> 586.68031 | L28: =K28*H28 -> 5913.7375
C29: 2.4 | F29: RAMPAS | L29: =L30+L31 -> 549.88467
C30: 2.4.1 | D30: SINAPI | E30: 94991 | F30: EXECUÇÃO DE PASSEIO (CALÇADA) OU PISO DE CONCRETO COM CONCRETO MOLDADO IN LOCO, USINADO, ACABAMENTO CONVENCIONAL, NÃO ARMADO. AF_07/2016 | G30: M3 | H30: ='memoria de cálculo'!F32 -> 0.61 | I30: 484.98 | J30: =J4 -> 0.2097 | K30: =(J30*I30)+I30 -> 586.68031 | L30: =K30*H30 -> 357.87499
C31: 2.4.2 | D31: SINAPI-I | E31: 36178 | F31: PISO PODOTATIL DE CONCRETO - DIRECIONAL E ALERTA, *40 X 40 X 2,5* CM | G31: UN | H31: ='memoria de cálculo'!F33 -> 20 | I31: 8.42 | J31: =J5 -> 0.1402 | K31: =(J31*I31)+I31 -> 9.600484 | L31: =K31*H31 -> 192.00968
C32: 2.5 | F32: SINALIZAÇÃO | L32: =L33+L34+L35+L36 -> 1081.1062
C33: 2.5.1 | D33: SINAPI-I | E33: 34723 | F33: PLACA DE SINALIZACAO EM CHAPA DE ACO NUM 16 COM PINTURA REFLETIVA | G33: M2 | H33: ='memoria de cálculo'!F35 -> 0.25 | I33: 402.01 | J33: =J5 -> 0.1402 | K33: =(J33*I33)+I33 -> 458.3718 | L33: =K33*H33 -> 114.59295
C34: 2.5.2 | D34: SINAPI-I | E34: 13521 | F34: PLACA DE ACO ESMALTADA PARA IDENTIFICACAO DE RUA, *45 CM X 20* CM | G34: UN | H34: ='memoria de cálculo'!F36 -> 2 | I34: 57.39 | J34: =J5 -> 0.1402 | K34: =(J34*I34)+I34 -> 65.436078 | L34: =K34*H34 -> 130.87216
C35: 2.5.3 | D35: SINAPI-I | E35: 7696 | F35: TUBO ACO GALVANIZADO COM COSTURA, CLASSE MEDIA, DN 2", E = *3,65* MM, PESO *5,10* KG/M (NBR 5580) | G35: M | H35: ='memoria de cálculo'!F37 -> 9 | I35: 77.35 | J35: =J5 -> 0.1402 | K35: =(J35*I35)+I35 -> 88.19447 | L35: =K35*H35 -> 793.75023
C36: 2.5.4 | D36: SINAPI | E36: 94975 | F36: CONCRETO FCK = 15MPA, TRAÇO 1:3,4:3,5 (EM MASSA SECA DE CIMENTO/ AREIA MÉDIA/ BRITA 1) - PREPARO MANUAL. AF_05/2021 | G36: M3 | H36: ='memoria de cálculo'!F38 -> 0.11 | I36: 314.81 | J36: =J4 -> 0.2097 | K36: =(J36*I36)+I36 -> 380.82566 | L36: =K36*H36 -> 41.890822
C37: 3.0 | F37: PAVIMENTAÇÃO GENERAL CÂMARA - 880 M² | L37: =L38+L46+L49+L52+L55 -> 127114.92
C38: 3.1 | F38: DRENAGEM | L38: =L39+L40+L41+L42+L43+L44+L45 -> 36052.844
C39: 3.1.1 | D39: SINAPI | E39: 90105 | F39: ESCAVAÇÃO MECANIZADA DE VALA COM PROFUNDIDADE ATÉ 1,5 M (MÉDIA ENTRE MONTANTE E JUSANTE/UMA COMPOSIÇÃO POR TRECHO) COM RETROESCAVADEIRA (CAPACIDADE DA CAÇAMBA DA RETRO: 0,26 M3 / POTÊNCIA: 88 HP), LARGURA MENOR QUE 0,8 M, EM SOLO DE 1A CATEGORIA, LOCAISCOM BAIXO NÍVEL DE INTERFERÊNCIA. AF_02/2021 | G39: M3 | H39: ='memoria de cálculo'!F41 -> 161.29 | I39: 5.87 | J39: =J4 -> 0.2097 | K39: =(J39*I39)+I39 -> 7.100939 | L39: =K39*H39 -> 1145.3105
C40: 3.1.2 | D40: SINAPI | E40: 93378 | F40: REATERRO MECANIZADO DE VALA COM RETROESCAVADEIRA (CAPACIDADE DA CAÇAMBA DA RETRO: 0,26 M³ / POTÊNCIA: 88 HP), LARGURA ATÉ 0,8 M, PROFUNDIDADE ATÉ 1,5 M, COM SOLO DE 1ª CATEGORIA EM LOCAIS COM BAIXO NÍVEL DE INTERFERÊNCIA. AF_04/2016 | G40: M3 | H40: ='memoria de cálculo'!F42 -> 94.4 | I40: 17.7 | J40: =J4 -> 0.2097 | K40: =(J40*I40)+I40 -> 21.41169 | L40: =K40*H40 -> 2021.2635
C41: 3.1.3 | D41: SINAPI-I | E41: 37451 | F41: TUBO DE CONCRETO SIMPLES PARA AGUAS PLUVIAIS, CLASSE PS1, COM ENCAIXE MACHO E FEMEA, DIAMETRO NOMINAL DE 400 MM | G41: M | H41: ='memoria de cálculo'!F43 -> 39.4 | I41: 38.43 | J41: =J5 -> 0.1402 | K41: =(J41*I41)+I41 -> 43.817886 | L41: =K41*H41 -> 1726.4247
C42: 3.1.4 | D42: SINAPI | E42: 92809 | F42: ASSENTAMENTO DE TUBO DE CONCRETO PARA REDES COLETORAS DE ÁGUAS PLUVIAIS, DIÂMETRO DE 400 MM, JUNTA RÍGIDA, INSTALADO EM LOCAL COM BAIXO NÍVEL DE INTERFERÊNCIAS (NÃO INCLUI FORNECIMENTO). AF_12/2015 | G42: M | H42: ='memoria de cálculo'!F44 -> 39.4 | I42: 38.67 | J42: =J4 -> 0.2097 | K42: =(J42*I42)+I42 -> 46.779099 | L42: =K42*H42 -> 1843.0965
C43: 3.1.5 | D43: SINAPI | E43: 37453 | F43: TUBO DE CONCRETO SIMPLES PARA AGUAS PLUVIAIS, CLASSE PS1, COM ENCAIXE MACHO E FEMEA, DIAMETRO NOMINAL DE 600 MM | G43: M | H43: ='memoria de cálculo'!F45 -> 102.79 | I43: 67.6 | J43: =J4 -> 0.2097 | K43: =(J43*I43)+I43 -> 81.77572 | L43: =K43*H43 -> 8405.7263
C44: 3.1.6 | D44: SINAPI | E44: 92811 | F44: ASSENTAMENTO DE TUBO DE CONCRETO PARA REDES COLETORAS DE ÁGUAS PLUVIAIS, DIÂMETRO DE 600 MM, JUNTA RÍGIDA, INSTALADO EM LOCAL COM BAIXO NÍVEL DE INTERFERÊNCIAS (NÃO INCLUI FORNECIMENTO). AF_12/2015 | G44: M | H44: ='memoria de cálculo'!F46 -> 108.79 | I44: 56.51 | J44: =J4 -> 0.2097 | K44: =(J44*I44)+I44 -> 68.360147 | L44: =K44*H44 -> 7436.9004
C45: 3.1.7 | D45: SINAPI | E45: 97949 | F45: CAIXA PARA BOCA DE LOBO SIMPLES RETANGULAR, EM ALVENARIA COM TIJOLOS CERÂMICOS MACIÇOS, DIMENSÕES INTERNAS: 0,6X1X1,2 M. AF_12/2020 | G45: UNID | H45: ='memoria de cálculo'!F47 -> 9 | I45: 1237.6 | J45: =J4 -> 0.2097 | K45: =(J45*I45)+I45 -> 1497.1247 | L45: =K45*H45 -> 13474.122
C46: 3.2 | F46: PAVIMENTAÇÃO | L46: =L47+L48 -> 83615.684
C47: 3.2.1 | D47: SINAPI | E47: 94273 | F47: ASSENTAMENTO DE GUIA (MEIO-FIO) EM TRECHO RETO, CONFECCIONADA EM CONCRETO PRÉ-FABRICADO, DIMENSÕES 100X15X13X30 CM (COMPRIMENTO X BASE INFERIOR X BASE SUPERIOR X ALTURA), PARA VIAS URBANAS (USO VIÁRIO). AF_06/2016 | G47: M | H47: ='memoria de cálculo'!F49 -> 156.66 | I47: 38.74 | J47: =J4 -> 0.2097 | K47: =(J47*I47)+I47 -> 46.863778 | L47: =K47*H47 -> 7341.6795
C48: 3.2.2 | D48: Composição | E48: 01 | F48: PAVIMENTO EM PARALELEPÍPEDO SOBRE COLCHÃO PÓ DE BRITA REJUNTADO AS VALAS COM ARGAMASSA DE CIMENTO E AREIA | G48: M2 | H48: 880 | I48: 71.65 | J48: =J47 -> 0.2097 | K48: =(J48*I48)+I48 -> 86.675005 | L48: =K48*H48 -> 76274.004
C49: 3.3 | F49: PASSEIOS | L49: =L50+L51 -> 6147.6794
C50: 3.3.1 | D50: SINAPI | E50: 96385 | F50: EXECUÇÃO E COMPACTAÇÃO DE ATERRO COM SOLO PREDOMINANTEMENTE ARGILOSO - EXCLUSIVE SOLO, ESCAVAÇÃO, CARGA E TRANSPORTE. AF_11/2019 | G50: M3 | H50: ='memoria de cálculo'!F55 -> 147 | I50: 7.65 | J50: =J48 -> 0.2097 | K50: =(J50*I50)+I50 -> 9.254205 | L50: =K50*H50 -> 1360.3681
C51: 3.3.2 | D51: SINAPI | E51: 94991 | F51: EXECUÇÃO DE PASSEIO (CALÇADA) OU PISO DE CONCRETO COM CONCRETO MOLDADO IN LOCO, USINADO, ACABAMENTO CONVENCIONAL, NÃO ARMADO. AF_07/2016 | G51: M3 | H51: ='memoria de cálculo'!F56 -> 8.16 | I51: 484.98 | J51: =J4 -> 0.2097 | K51: =(J51*I51)+I51 -> 586.68031 | L51: =K51*H51 -> 4787.3113
C52: 3.4 | F52: RAMPAS | L52: =L53+L54 -> 217.60715
C53: 3.4.1 | D53: SINAPI | E53: 94991 | F53: EXECUÇÃO DE PASSEIO (CALÇADA) OU PISO DE CONCRETO COM CONCRETO MOLDADO IN LOCO, USINADO, ACABAMENTO CONVENCIONAL, NÃO ARMADO. AF_07/2016 | G53: M3 | H53: ='memoria de cálculo'!F58 -> 0.24 | I53: 484.98 | J53: =J4 -> 0.2097 | K53: =(J53*I53)+I53 -> 586.68031 | L53: =K53*H53 -> 140.80327
C54: 3.4.2 | D54: SINAPI-I | E54: 36178 | F54: PISO PODOTATIL DE CONCRETO - DIRECIONAL E ALERTA, *40 X 40 X 2,5* CM | G54: UN | H54: ='memoria de cálculo'!F59 -> 8 | I54: 8.42 | J54: =J5 -> 0.1402 | K54: =(J54*I54)+I54 -> 9.600484 | L54: =K54*H54 -> 76.803872
C55: 3.5 | F55: SINALIZAÇÃO | L55: =L56+L57+L58+L59 -> 1081.1062
C56: 3.5.1 | D56: SINAPI-I | E56: 34723 | F56: PLACA DE SINALIZACAO EM CHAPA DE ACO NUM 16 COM PINTURA REFLETIVA | G56: M2 | H56: ='memoria de cálculo'!F61 -> 0.25 | I56: 402.01 | J56: =J5 -> 0.1402 | K56: =(J56*I56)+I56 -> 458.3718 | L56: =K56*H56 -> 114.59295
C57: 3.5.2 | D57: SINAPI-I | E57: 13521 | F57: PLACA DE ACO ESMALTADA PARA IDENTIFICACAO DE RUA, *45 CM X 20* CM | G57: UN | H57: ='memoria de cálculo'!F62 -> 2 | I57: 57.39 | J57: =J5 -> 0.1402 | K57: =(J57*I57)+I57 -> 65.436078 | L57: =K57*H57 -> 130.87216
C58: 3.5.3 | D58: SINAPI-I | E58: 7696 | F58: TUBO ACO GALVANIZADO COM COSTURA, CLASSE MEDIA, DN 2", E = *3,65* MM, PESO *5,10* KG/M (NBR 5580) | G58: M | H58: ='memoria de cálculo'!F63 -> 9 | I58: 77.35 | J58: =J5 -> 0.1402 | K58: =(J58*I58)+I58 -> 88.19447 | L58: =K58*H58 -> 793.75023
C59: 3.5.4 | D59: SINAPI | E59: 94975 | F59: CONCRETO FCK = 15MPA, TRAÇO 1:3,4:3,5 (EM MASSA SECA DE CIMENTO/ AREIA MÉDIA/ BRITA 1) - PREPARO MANUAL. AF_05/2021 | G59: M3 | H59: ='memoria de cálculo'!F64 -> 0.11 | I59: 314.81 | J59: =J4 -> 0.2097 | K59: =(J59*I59)+I59 -> 380.82566 | L59: =K59*H59 -> 41.890822
C60: 4 | F60: PAVIMENTAÇÃO RUA EDUARDO PUMPMACKER - 736 M² | L60: =L61+L69+L72+L75+L78 -> 101784.28 | M60: BM 02 | P60: ACUMULADO
C61: 4.1 | F61: DRENAGEM | L61: =L62+L63+L64+L65+L66+L67+L68 -> 19689.808 | M61: =SUM(N62:N82) -> 18301.664 | P61: =SUM(Q62:Q82) -> 101784.28
C62: 4.1.1 | D62: SINAPI | E62: 90105 | F62: ESCAVAÇÃO MECANIZADA DE VALA COM PROFUNDIDADE ATÉ 1,5 M (MÉDIA ENTRE MONTANTE E JUSANTE/UMA COMPOSIÇÃO POR TRECHO) COM RETROESCAVADEIRA (CAPACIDADE DA CAÇAMBA DA RETRO: 0,26 M3 / POTÊNCIA: 88 HP), LARGURA MENOR QUE 0,8 M, EM SOLO DE 1A CATEGORIA, LOCAISCOM BAIXO NÍVEL DE INTERFERÊNCIA. AF_02/2021 | G62: M3 | H62: ='memoria de cálculo'!F67 -> 106.43 | I62: 5.87 | J62: =J13 -> 0.2097 | K62: =(J62*I62)+I62 -> 7.100939 | L62: =K62*H62 -> 755.75294 | P62: 106.43 | Q62: =P62*K62 -> 755.75294 | R62: =Q62/L62 -> 1
C63: 4.1.2 | D63: SINAPI | E63: 93378 | F63: REATERRO MECANIZADO DE VALA COM RETROESCAVADEIRA (CAPACIDADE DA CAÇAMBA DA RETRO: 0,26 M³ / POTÊNCIA: 88 HP), LARGURA ATÉ 0,8 M, PROFUNDIDADE ATÉ 1,5 M, COM SOLO DE 1ª CATEGORIA EM LOCAIS COM BAIXO NÍVEL DE INTERFERÊNCIA. AF_04/2016 | G63: M3 | H63: ='memoria de cálculo'!F68 -> 74 | I63: 17.7 | J63: =J4 -> 0.2097 | K63: =(J63*I63)+I63 -> 21.41169 | L63: =K63*H63 -> 1584.4651 | P63: 74 | Q63: =P63*K63 -> 1584.4651 | R63: =Q63/L63 -> 1
C64: 4.1.3 | D64: SINAPI-I | E64: 37450 | F64: TUBO DE CONCRETO SIMPLES PARA AGUAS PLUVIAIS, CLASSE PS1, COM ENCAIXE MACHO E FEMEA, DIAMETRO NOMINAL DE 300 MM | G64: M | H64: ='memoria de cálculo'!F69 -> 8 | I64: 38.43 | J64: =J5 -> 0.1402 | K64: =(J64*I64)+I64 -> 43.817886 | L64: =K64*H64 -> 350.54309 | P64: 8 | Q64: =P64*K64 -> 350.54309 | R64: =Q64/L64 -> 1
C65: 4.1.4 | D65: SINAPI | E65: 92808 | F65: ASSENTAMENTO DE TUBO DE CONCRETO PARA REDES COLETORAS DE ÁGUAS PLUVIAIS, DIÂMETRO DE 300 MM, JUNTA RÍGIDA, INSTALADO EM LOCAL COM BAIXO NÍVEL DE INTERFERÊNCIAS (NÃO INCLUI FORNECIMENTO). AF_12/2015 | G65: M | H65: ='memoria de cálculo'!F70 -> 8 | I65: 38.67 | J65: =J4 -> 0.2097 | K65: =(J65*I65)+I65 -> 46.779099 | L65: =K65*H65 -> 374.23279 | P65: 8 | Q65: =P65*K65 -> 374.23279 | R65: =Q65/L65 -> 1
C66: 4.1.5 | D66: SINAPI-I | E66: 37451 | F66: TUBO DE CONCRETO SIMPLES PARA AGUAS PLUVIAIS, CLASSE PS1, COM ENCAIXE MACHO E FEMEA, DIAMETRO NOMINAL DE 400 MM | G66: M | H66: ='memoria de cálculo'!F71 -> 84 | I66: 67.6 | J66: =J5 -> 0.1402 | K66: =(J66*I66)+I66 -> 77.07752 | L66: =K66*H66 -> 6474.5117 | P66: 84 | Q66: =P66*K66 -> 6474.5117 | R66: =Q66/L66 -> 1
C67: 4.1.6 | D67: SINAPI | E67: 92809 | F67: ASSENTAMENTO DE TUBO DE CONCRETO PARA REDES COLETORAS DE ÁGUAS PLUVIAIS, DIÂMETRO DE 400 MM, JUNTA RÍGIDA, INSTALADO EM LOCAL COM BAIXO NÍVEL DE INTERFERÊNCIAS (NÃO INCLUI FORNECIMENTO). AF_12/2015 | G67: M | H67: ='memoria de cálculo'!F72 -> 84 | I67: 55.69 | J67: =J62 -> 0.2097 | K67: =(J67*I67)+I67 -> 67.368193 | L67: =K67*H67 -> 5658.9282 | P67: 84 | Q67: =P67*K67 -> 5658.9282 | R67: =Q67/L67 -> 1
C68: 4.1.7 | D68: SINAPI | E68: 97949 | F68: CAIXA PARA BOCA DE LOBO SIMPLES RETANGULAR, EM ALVENARIA COM TIJOLOS CERÂMICOS MACIÇOS, DIMENSÕES INTERNAS: 0,6X1X1,2 M. AF_12/2020 | G68: UN | H68: ='memoria de cálculo'!F73 -> 3 | I68: 1237.6 | J68: =J4 -> 0.2097 | K68: =(J68*I68)+I68 -> 1497.1247 | L68: =K68*H68 -> 4491.3742 | P68: 3 | Q68: =P68*K68 -> 4491.3742 | R68: =Q68/L68 -> 1
C69: 4.2 | F69: PAVIMENTAÇÃO | L69: =L70+L71 -> 72040.829
C70: 4.2.1 | D70: SINAPI | E70: 94273 | F70: ASSENTAMENTO DE GUIA (MEIO-FIO) EM TRECHO RETO, CONFECCIONADA EM CONCRETO PRÉ-FABRICADO, DIMENSÕES 100X15X13X30 CM (COMPRIMENTO X BASE INFERIOR X BASE SUPERIOR X ALTURA), PARA VIAS URBANAS (USO VIÁRIO). AF_06/2016 | G70: M | H70: ='memoria de cálculo'!F75 -> 176 | I70: 38.74 | J70: =J4 -> 0.2097 | K70: =(J70*I70)+I70 -> 46.863778 | L70: =K70*H70 -> 8248.0249 | M70: 176 | N70: =M70*K70 -> 8248.0249 | O70: =N70/L70 -> 1 | P70: =M70 -> 176 | Q70: =M70*K70 -> 8248.0249 | R70: =Q70/L70 -> 1
C71: 4.2.2 | D71: Composição | E71: 01 | F71: PAVIMENTO EM PARALELEPÍPEDO SOBRE COLCHÃO PÓ DE BRITA REJUNTADO AS VALAS COM ARGAMASSA DE CIMENTO E AREIA | G71: M2 | H71: 736 | I71: 71.65 | J71: =J4 -> 0.2097 | K71: =(J71*I71)+I71 -> 86.675005 | L71: =K71*H71 -> 63792.804 | P71: 736 | Q71: =P71*K71 -> 63792.804 | R71: =Q71/L71 -> 1
C72: 4.3 | F72: PASSEIOS | L72: =L73+L74 -> 8422.6483 | R72: =Q72/L72 -> 0
C73: 4.3.1 | D73: SINAPI | E73: 94991 | F73: EXECUÇÃO DE PASSEIO (CALÇADA) OU PISO DE CONCRETO COM CONCRETO MOLDADO IN LOCO, USINADO, ACABAMENTO CONVENCIONAL, NÃO ARMADO. AF_07/2016 | G73: M3 | H73: ='memoria de cálculo'!F81 -> 18.16 | I73: 7.65 | J73: =J4 -> 0.2097 | K73: =(J73*I73)+I73 -> 9.254205 | L73: =K73*H73 -> 168.05636 | M73: 18.16 | N73: =M73*K73 -> 168.05636 | O73: =N73/L73 -> 1 | P73: 18.16 | Q73: =M73*K73 -> 168.05636 | R73: =Q73/L73 -> 1
C74: 4.3.2 | D74: SINAPI | E74: 96385 | F74: EXECUÇÃO E COMPACTAÇÃO DE ATERRO COM SOLO PREDOMINANTEMENTE ARGILOSO - EXCLUSIVE SOLO, ESCAVAÇÃO, CARGA E TRANSPORTE. AF_11/2019 | G74: M3 | H74: ='memoria de cálculo'!F82 -> 14.07 | I74: 484.98 | J74: =J4 -> 0.2097 | K74: =(J74*I74)+I74 -> 586.68031 | L74: =K74*H74 -> 8254.5919 | M74: 14.07 | N74: =M74*K74 -> 8254.5919 | O74: =N74/L74 -> 1 | P74: 14.07 | Q74: =P74*K74 -> 8254.5919 | R74: =Q74/L74 -> 1
C75: 4.4 | F75: RAMPAS | L75: =L76+L77 -> 549.88467
C76: 4.4.1 | D76: SINAPI | E76: 94991 | F76: EXECUÇÃO DE PASSEIO (CALÇADA) OU PISO DE CONCRETO COM CONCRETO MOLDADO IN LOCO, USINADO, ACABAMENTO CONVENCIONAL, NÃO ARMADO. AF_07/2016 | G76: M3 | H76: ='memoria de cálculo'!F84 -> 0.61 | I76: 484.98 | J76: =J73 -> 0.2097 | K76: =(J76*I76)+I76 -> 586.68031 | L76: =K76*H76 -> 357.87499 | M76: 0.61 | N76: =M76*K76 -> 357.87499 | O76: =N76/L76 -> 1 | P76: 0.61 | Q76: =P76*K76 -> 357.87499 | R76: =Q76/L76 -> 1
C77: 4.4.2 | D77: SINAPI-I | E77: 36178 | F77: PISO PODOTATIL DE CONCRETO - DIRECIONAL E ALERTA, *40 X 40 X 2,5* CM | G77: UN | H77: ='memoria de cálculo'!F85 -> 20 | I77: 8.42 | J77: =J5 -> 0.1402 | K77: =(J77*I77)+I77 -> 9.600484 | L77: =K77*H77 -> 192.00968 | M77: 20 | N77: =M77*K77 -> 192.00968 | O77: =N77/L77 -> 1 | P77: 20 | Q77: =P77*K77 -> 192.00968 | R77: =Q77/L77 -> 1
C78: 4.5 | F78: SINALIZAÇÃO | L78: =L79+L80+L81+L82 -> 1081.1062
C79: 4.5.1 | D79: SINAPI-I | E79: 34723 | F79: PLACA DE SINALIZACAO EM CHAPA DE ACO NUM 16 COM PINTURA REFLETIVA | G79: M2 | H79: ='memoria de cálculo'!F87 -> 0.25 | I79: 402.01 | J79: =J5 -> 0.1402 | K79: =(J79*I79)+I79 -> 458.3718 | L79: =K79*H79 -> 114.59295 | M79: 0.25 | N79: =M79*K79 -> 114.59295 | O79: =N79/L79 -> 1 | P79: 0.25 | Q79: =P79*K79 -> 114.59295 | R79: =Q79/L79 -> 1
C80: 4.5.2 | D80: SINAPI-I | E80: 13521 | F80: PLACA DE ACO ESMALTADA PARA IDENTIFICACAO DE RUA, *45 CM X 20* CM | G80: UN | H80: ='memoria de cálculo'!F88 -> 2 | I80: 57.39 | J80: =J5 -> 0.1402 | K80: =(J80*I80)+I80 -> 65.436078 | L80: =K80*H80 -> 130.87216 | M80: 2 | N80: =M80*K80 -> 130.87216 | O80: =N80/L80 -> 1 | P80: 2 | Q80: =P80*K80 -> 130.87216 | R80: =Q80/L80 -> 1
C81: 4.5.3 | D81: SINAPI-I | E81: 7696 | F81: TUBO ACO GALVANIZADO COM COSTURA, CLASSE MEDIA, DN 2", E = *3,65* MM, PESO *5,10* KG/M (NBR 5580) | G81: M | H81: ='memoria de cálculo'!F89 -> 9 | I81: 77.35 | J81: =J5 -> 0.1402 | K81: =(J81*I81)+I81 -> 88.19447 | L81: =K81*H81 -> 793.75023 | M81: 9 | N81: =M81*K81 -> 793.75023 | O81: =N81/L81 -> 1 | P81: 9 | Q81: =P81*K81 -> 793.75023 | R81: =Q81/L81 -> 1
C82: 4.5.4 | D82: SINAPI | E82: 94975 | F82: CONCRETO FCK = 15MPA, TRAÇO 1:3,4:3,5 (EM MASSA SECA DE CIMENTO/ AREIA MÉDIA/ BRITA 1) - PREPARO MANUAL. AF_05/2021 | G82: M3 | H82: ='memoria de cálculo'!F90 -> 0.11 | I82: 314.81 | J82: =J4 -> 0.2097 | K82: =(J82*I82)+I82 -> 380.82566 | L82: =K82*H82 -> 41.890822 | M82: 0.11 | N82: =M82*K82 -> 41.890822 | O82: =N82/L82 -> 1 | P82: 0.11 | Q82: =P82*K82 -> 41.890822 | R82: =Q82/L82 -> 1
C84: Salto do Jacuí/RS, 09 de outubro de 2023.
F88: ______________________________________________
F89: JOSIELI FERREIRA
F90: CAU/RS A187139-0

Sheet BOLETIM DE MEDIÇÃO 1
C2: PREFEITURA MUNICIPAL DE SALTO DO JACUÍ | M2: BM 01
C4: OBRA | D4: PAVIMENTAÇÃO TRECHO RUA GENERAL CÂMARA E RUA E. PUMPMAKER | G4: BDI | H4: NÃO DESONERADO | J4: 0.2097 | K4: SINAPI 12/2021 | M4: PERÍODO DE MEDIÇÃO: 05/06/2023 À 23/08/2023
C5: ÁREA | D5: 2.816 M² | G5: BDI | H5: MATERIAIS | J5: 0.1402
C6: CR | D6: 851027/2017
C7: PLANILHA ORÇAMENTÁRIA - NÃO DESONERADA
I8: CUSTO | J8: BDI | K8: CUSTO | L8: VALOR
C9: ITEM | D9: FONTE | E9: CÓDIGO | F9: DESCRIÇÃO | G9: UNID | H9: QUANT | I9: UNIT | J9: % | K9: UNIT+BDI | L9: TOTAL | M9: QUANTIDADE | N9: TOTAL | O9: %
F10: PAVIMENTAÇÃO DE RUAS E DRENAGEM | L10: =L11+L14+L37+L60 -> 402703.7
C11: 1.0 | F11: SERVIÇOS INICIAIS | L11: =L12+L13 -> 5990.9315
C12: 1.1 | D12: SINAPI-I | E12: 4813 | F12: PLACA DE OBRA (PARA CONSTRUCAO CIVIL) EM CHAPA GALVANIZADA *N. 22*, ADESIVADA, DE *2,0 X 1,125* M | G12: M2 | H12: ='memoria de cálculo'!F11 -> 2.88 | I12: 174.03 | J12: =$J$5 -> 0.1402 | K12: =I12+ (I12*$J$12) -> 198.42901 | L12: =K12*H12 -> 571.47554
C13: 1.2 | D13: SINAPI | E13: 90777 | F13: ENGENHEIRO CIVIL DE OBRA JUNIOR COM ENCARGOS COMPLEMENTARES | G13: H | H13: ='memoria de cálculo'!F12 -> 64 | I13: 70 | J13: =$J$4 -> 0.2097 | K13: =I13+ (I13*$J$13) -> 84.679 | L13: =K13*H13 -> 5419.456
C14: 2.0 | F14: PAVIMENTAÇÃO GENERAL CÂMARA - 1.200 M² | L14: =L15+L23+L26++L29+L32 -> 167813.57
C15: 2.1 | F15: DRENAGEM | L15: =L16+L17+L18+L19+L20+L21+L22 -> 42253.177
C16: 2.1.1 | D16: SINAPI | E16: 90105 | F16: ESCAVAÇÃO MECANIZADA DE VALA COM PROFUNDIDADE ATÉ 1,5 M (MÉDIA ENTRE MONTANTE E JUSANTE/UMA COMPOSIÇÃO POR TRECHO) COM RETROESCAVADEIRA (CAPACIDADE DA CAÇAMBA DA RETRO: 0,26 M3 / POTÊNCIA: 88 HP), LARGURA MENOR QUE 0,8 M, EM SOLO DE 1A CATEGORIA, LOCAISCOM BAIXO NÍVEL DE INTERFERÊNCIA. AF_02/2021 | G16: M3 | H16: ='memoria de cálculo'!F15 -> 249.63 | I16: 5.87 | J16: =$J$4 -> 0.2097 | K16: =(J16*I16)+I16 -> 7.100939 | L16: =K16*H16 -> 1772.6074 | N16: =M16*K16 -> 0
C17: 2.1.2 | D17: SINAPI | E17: 93378 | F17: REATERRO MECANIZADO DE VALA COM RETROESCAVADEIRA (CAPACIDADE DA CAÇAMBA DA RETRO: 0,26 M³ / POTÊNCIA: 88 HP), LARGURA ATÉ 0,8 M, PROFUNDIDADE ATÉ 1,5 M, COM SOLO DE 1ª CATEGORIA EM LOCAIS COM BAIXO NÍVEL DE INTERFERÊNCIA. AF_04/2016 | G17: M3 | H17: ='memoria de cálculo'!F16 -> 149.6 | I17: 17.7 | J17: =$J$4 -> 0.2097 | K17: =(J17*I17)+I17 -> 21.41169 | L17: =K17*H17 -> 3203.1888 | N17: =M17*K17 -> 0
C18: 2.1.3 | D18: SINAPI-I | E18: 37451 | F18: TUBO DE CONCRETO SIMPLES PARA AGUAS PLUVIAIS, CLASSE PS1, COM ENCAIXE MACHO E FEMEA, DIAMETRO NOMINAL DE 400 MM | G18: M | H18: ='memoria de cálculo'!F17 -> 39.4 | I18: 38.44 | J18: =$J$5 -> 0.1402 | K18: =(J18*I18)+I18 -> 43.829288 | L18: =K18*H18 -> 1726.8739 | N18: =M18*K18 -> 0
C19: 2.1.4 | D19: SINAPI | E19: 92809 | F19: ASSENTAMENTO DE TUBO DE CONCRETO PARA REDES COLETORAS DE ÁGUAS PLUVIAIS, DIÂMETRO DE 400 MM, JUNTA RÍGIDA, INSTALADO EM LOCAL COM BAIXO NÍVEL DE INTERFERÊNCIAS (NÃO INCLUI FORNECIMENTO). AF_12/2015 | G19: M | H19: ='memoria de cálculo'!F18 -> 39.4 | I19: 38.67 | J19: =J13 -> 0.2097 | K19: =(J19*I19)+I19 -> 46.779099 | L19: =K19*H19 -> 1843.0965 | N19: =M19*K19 -> 0
C20: 2.1.5 | D20: SINAPI-I | E20: 37453 | F20: TUBO DE CONCRETO SIMPLES PARA AGUAS PLUVIAIS, CLASSE PS1, COM ENCAIXE MACHO E FEMEA, DIAMETRO NOMINAL DE 600 MM | G20: M | H20: ='memoria de cálculo'!F19 -> 150.44 | I20: 67.6 | J20: =$J$5 -> 0.1402 | K20: =(J20*I20)+I20 -> 77.07752 | L20: =K20*H20 -> 11595.542 | N20: =M20*K20 -> 0
C21: 2.1.6 | D21: SINAPI | E21: 92811 | F21: ASSENTAMENTO DE TUBO DE CONCRETO PARA REDES COLETORAS DE ÁGUAS PLUVIAIS, DIÂMETRO DE 600 MM, JUNTA RÍGIDA, INSTALADO EM LOCAL COM BAIXO NÍVEL DE INTERFERÊNCIAS (NÃO INCLUI FORNECIMENTO). AF_12/2015 | G21: M | H21: ='memoria de cálculo'!F20 -> 150.44 | I21: 55.69 | J21: =$J$13 -> 0.2097 | K21: =(J21*I21)+I21 -> 67.368193 | L21: =K21*H21 -> 10134.871 | N21: =M21*K21 -> 0
C22: 2.1.7 | D22: SINAPI | E22: 97949 | F22: CAIXA PARA BOCA DE LOBO SIMPLES RETANGULAR, EM ALVENARIA COM TIJOLOS CERÂMICOS MACIÇOS, DIMENSÕES INTERNAS: 0,6X1X1,2 M. AF_12/2020 | G22: UNID | H22: ='memoria de cálculo'!F21 -> 8 | I22: 1237.6 | J22: =$J$13 -> 0.2097 | K22: =(J22*I22)+I22 -> 1497.1247 | L22: =K22*H22 -> 11976.998 | N22: =M22*K22 -> 0
C23: 2.2 | F23: PAVIMENTAÇÃO | L23: =L24+L25 -> 114507.49
C24: 2.1 | D24: SINAPI | E24: 94273 | F24: ASSENTAMENTO DE GUIA (MEIO-FIO) EM TRECHO RETO, CONFECCIONADA EM CONCRETO PRÉ-FABRICADO, DIMENSÕES 100X15X13X30 CM (COMPRIMENTO X BASE INFERIOR X BASE SUPERIOR X ALTURA), PARA VIAS URBANAS (USO VIÁRIO). AF_06/2016 | G24: M | H24: ='memoria de cálculo'!F23 -> 224 | I24: 38.74 | J24: =$J$13 -> 0.2097 | K24: =(J24*I24)+I24 -> 46.863778 | L24: =K24*H24 -> 10497.486
C25: 2.2.2 | D25: Composição | E25: 01 | F25: PAVIMENTO EM PARALELEPÍPEDO SOBRE COLCHÃO PÓ DE BRITA REJUNTADO AS VALAS COM ARGAMASSA DE CIMENTO E AREIA | G25: M2 | H25: 1200 | I25: 71.65 | J25: =$J$13 -> 0.2097 | K25: =(J25*I25)+I25 -> 86.675005 | L25: =K25*H25 -> 104010.01
C26: 2.3 | F26: PASSEIOS | L26: =L27+L28 -> 9421.9141
C27: 2.3.1 | D27: SINAPI | E27: 96385 | F27: EXECUÇÃO E COMPACTAÇÃO DE ATERRO COM SOLO PREDOMINANTEMENTE ARGILOSO - EXCLUSIVE SOLO, ESCAVAÇÃO, CARGA E TRANSPORTE. AF_11/2019 | G27: M3 | H27: ='memoria de cálculo'!F29 -> 379.09 | I27: 7.65 | J27: =J25 -> 0.2097 | K27: =(J27*I27)+I27 -> 9.254205 | L27: =K27*H27 -> 3508.1766
C28: 2.3.2 | D28: SINAPI | E28: 94991 | F28: EXECUÇÃO DE PASSEIO (CALÇADA) OU PISO DE CONCRETO COM CONCRETO MOLDADO IN LOCO, USINADO, ACABAMENTO CONVENCIONAL, NÃO ARMADO. AF_07/2016 | G28: M3 | H28: ='memoria de cálculo'!F30 -> 10.08 | I28: 484.98 | J28: =J13 -> 0.2097 | K28: =(J28*I28)+I28 -> 586.68031 | L28: =K28*H28 -> 5913.7375
C29: 2.4 | F29: RAMPAS | L29: =L30+L31 -> 549.88467
C30: 2.4.1 | D30: SINAPI | E30: 94991 | F30: EXECUÇÃO DE PASSEIO (CALÇADA) OU PISO DE CONCRETO COM CONCRETO MOLDADO IN LOCO, USINADO, ACABAMENTO CONVENCIONAL, NÃO ARMADO. AF_07/2016 | G30: M3 | H30: ='memoria de cálculo'!F32 -> 0.61 | I30: 484.98 | J30: =J4 -> 0.2097 | K30: =(J30*I30)+I30 -> 586.68031 | L30: =K30*H30 -> 357.87499
C31: 2.4.2 | D31: SINAPI-I | E31: 36178 | F31: PISO PODOTATIL DE CONCRETO - DIRECIONAL E ALERTA, *40 X 40 X 2,5* CM | G31: UN | H31: ='memoria de cálculo'!F33 -> 20 | I31: 8.42 | J31: =J5 -> 0.1402 | K31: =(J31*I31)+I31 -> 9.600484 | L31: =K31*H31 -> 192.00968
C32: 2.5 | F32: SINALIZAÇÃO | L32: =L33+L34+L35+L36 -> 1081.1062
C33: 2.5.1 | D33: SINAPI-I | E33: 34723 | F33: PLACA DE SINALIZACAO EM CHAPA DE ACO NUM 16 COM PINTURA REFLETIVA | G33: M2 | H33: ='memoria de cálculo'!F35 -> 0.25 | I33: 402.01 | J33: =J5 -> 0.1402 | K33: =(J33*I33)+I33 -> 458.3718 | L33: =K33*H33 -> 114.59295
C34: 2.5.2 | D34: SINAPI-I | E34: 13521 | F34: PLACA DE ACO ESMALTADA PARA IDENTIFICACAO DE RUA, *45 CM X 20* CM | G34: UN | H34: ='memoria de cálculo'!F36 -> 2 | I34: 57.39 | J34: =J5 -> 0.1402 | K34: =(J34*I34)+I34 -> 65.436078 | L34: =K34*H34 -> 130.87216
C35: 2.5.3 | D35: SINAPI-I | E35: 7696 | F35: TUBO ACO GALVANIZADO COM COSTURA, CLASSE MEDIA, DN 2", E = *3,65* MM, PESO *5,10* KG/M (NBR 5580) | G35: M | H35: ='memoria de cálculo'!F37 -> 9 | I35: 77.35 | J35: =J5 -> 0.1402 | K35: =(J35*I35)+I35 -> 88.19447 | L35: =K35*H35 -> 793.75023
C36: 2.5.4 | D36: SINAPI | E36: 94975 | F36: CONCRETO FCK = 15MPA, TRAÇO 1:3,4:3,5 (EM MASSA SECA DE CIMENTO/ AREIA MÉDIA/ BRITA 1) - PREPARO MANUAL. AF_05/2021 | G36: M3 | H36: ='memoria de cálculo'!F38 -> 0.11 | I36: 314.81 | J36: =J4 -> 0.2097 | K36: =(J36*I36)+I36 -> 380.82566 | L36: =K36*H36 -> 41.890822
C37: 3.0 | F37: PAVIMENTAÇÃO GENERAL CÂMARA - 880 M² | L37: =L38+L46+L49+L52+L55 -> 127114.92
C38: 3.1 | F38: DRENAGEM | L38: =L39+L40+L41+L42+L43+L44+L45 -> 36052.844
C39: 3.1.1 | D39: SINAPI | E39: 90105 | F39: ESCAVAÇÃO MECANIZADA DE VALA COM PROFUNDIDADE ATÉ 1,5 M (MÉDIA ENTRE MONTANTE E JUSANTE/UMA COMPOSIÇÃO POR TRECHO) COM RETROESCAVADEIRA (CAPACIDADE DA CAÇAMBA DA RETRO: 0,26 M3 / POTÊNCIA: 88 HP), LARGURA MENOR QUE 0,8 M, EM SOLO DE 1A CATEGORIA, LOCAISCOM BAIXO NÍVEL DE INTERFERÊNCIA. AF_02/2021 | G39: M3 | H39: ='memoria de cálculo'!F41 -> 161.29 | I39: 5.87 | J39: =J4 -> 0.2097 | K39: =(J39*I39)+I39 -> 7.100939 | L39: =K39*H39 -> 1145.3105
C40: 3.1.2 | D40: SINAPI | E40: 93378 | F40: REATERRO MECANIZADO DE VALA COM RETROESCAVADEIRA (CAPACIDADE DA CAÇAMBA DA RETRO: 0,26 M³ / POTÊNCIA: 88 HP), LARGURA ATÉ 0,8 M, PROFUNDIDADE ATÉ 1,5 M, COM SOLO DE 1ª CATEGORIA EM LOCAIS COM BAIXO NÍVEL DE INTERFERÊNCIA. AF_04/2016 | G40: M3 | H40: ='memoria de cálculo'!F42 -> 94.4 | I40: 17.7 | J40: =J4 -> 0.2097 | K40: =(J40*I40)+I40 -> 21.41169 | L40: =K40*H40 -> 2021.2635
C41: 3.1.3 | D41: SINAPI-I | E41: 37451 | F41: TUBO DE CONCRETO SIMPLES PARA AGUAS PLUVIAIS, CLASSE PS1, COM ENCAIXE MACHO E FEMEA, DIAMETRO NOMINAL DE 400 MM | G41: M | H41: ='memoria de cálculo'!F43 -> 39.4 | I41: 38.43 | J41: =J5 -> 0.1402 | K41: =(J41*I41)+I41 -> 43.817886 | L41: =K41*H41 -> 1726.4247
C42: 3.1.4 | D42: SINAPI | E42: 92809 | F42: ASSENTAMENTO DE TUBO DE CONCRETO PARA REDES COLETORAS DE ÁGUAS PLUVIAIS, DIÂMETRO DE 400 MM, JUNTA RÍGIDA, INSTALADO EM LOCAL COM BAIXO NÍVEL DE INTERFERÊNCIAS (NÃO INCLUI FORNECIMENTO). AF_12/2015 | G42: M | H42: ='memoria de cálculo'!F44 -> 39.4 | I42: 38.67 | J42: =J4 -> 0.2097 | K42: =(J42*I42)+I42 -> 46.779099 | L42: =K42*H42 -> 1843.0965
C43: 3.1.5 | D43: SINAPI | E43: 37453 | F43: TUBO DE CONCRETO SIMPLES PARA AGUAS PLUVIAIS, CLASSE PS1, COM ENCAIXE MACHO E FEMEA, DIAMETRO NOMINAL DE 600 MM | G43: M | H43: ='memoria de cálculo'!F45 -> 102.79 | I43: 67.6 | J43: =J4 -> 0.2097 | K43: =(J43*I43)+I43 -> 81.77572 | L43: =K43*H43 -> 8405.7263
C44: 3.1.6 | D44: SINAPI | E44: 92811 | F44: ASSENTAMENTO DE TUBO DE CONCRETO PARA REDES COLETORAS DE ÁGUAS PLUVIAIS, DIÂMETRO DE 600 MM, JUNTA RÍGIDA, INSTALADO EM LOCAL COM BAIXO NÍVEL DE INTERFERÊNCIAS (NÃO INCLUI FORNECIMENTO). AF_12/2015 | G44: M | H44: ='memoria de cálculo'!F46 -> 108.79 | I44: 56.51 | J44: =J4 -> 0.2097 | K44: =(J44*I44)+I44 -> 68.360147 | L44: =K44*H44 -> 7436.9004
C45: 3.1.7 | D45: SINAPI | E45: 97949 | F45: CAIXA PARA BOCA DE LOBO SIMPLES RETANGULAR, EM ALVENARIA COM TIJOLOS CERÂMICOS MACIÇOS, DIMENSÕES INTERNAS: 0,6X1X1,2 M. AF_12/2020 | G45: UNID | H45: ='memoria de cálculo'!F47 -> 9 | I45: 1237.6 | J45: =J4 -> 0.2097 | K45: =(J45*I45)+I45 -> 1497.1247 | L45: =K45*H45 -> 13474.122
C46: 3.2 | F46: PAVIMENTAÇÃO | L46: =L47+L48 -> 83615.684
C47: 3.2.1 | D47: SINAPI | E47: 94273 | F47: ASSENTAMENTO DE GUIA (MEIO-FIO) EM TRECHO RETO, CONFECCIONADA EM CONCRETO PRÉ-FABRICADO, DIMENSÕES 100X15X13X30 CM (COMPRIMENTO X BASE INFERIOR X BASE SUPERIOR X ALTURA), PARA VIAS URBANAS (USO VIÁRIO). AF_06/2016 | G47: M | H47: ='memoria de cálculo'!F49 -> 156.66 | I47: 38.74 | J47: =J4 -> 0.2097 | K47: =(J47*I47)+I47 -> 46.863778 | L47: =K47*H47 -> 7341.6795
C48: 3.2.2 | D48: Composição | E48: 01 | F48: PAVIMENTO EM PARALELEPÍPEDO SOBRE COLCHÃO PÓ DE BRITA REJUNTADO AS VALAS COM ARGAMASSA DE CIMENTO E AREIA | G48: M2 | H48: 880 | I48: 71.65 | J48: =J47 -> 0.2097 | K48: =(J48*I48)+I48 -> 86.675005 | L48: =K48*H48 -> 76274.004
C49: 3.3 | F49: PASSEIOS | L49: =L50+L51 -> 6147.6794
C50: 3.3.1 | D50: SINAPI | E50: 96385 | F50: EXECUÇÃO E COMPACTAÇÃO DE ATERRO COM SOLO PREDOMINANTEMENTE ARGILOSO - EXCLUSIVE SOLO, ESCAVAÇÃO, CARGA E TRANSPORTE. AF_11/2019 | G50: M3 | H50: ='memoria de cálculo'!F55 -> 147 | I50: 7.65 | J50: =J48 -> 0.2097 | K50: =(J50*I50)+I50 -> 9.254205 | L50: =K50*H50 -> 1360.3681
C51: 3.3.2 | D51: SINAPI | E51: 94991 | F51: EXECUÇÃO DE PASSEIO (CALÇADA) OU PISO DE CONCRETO COM CONCRETO MOLDADO IN LOCO, USINADO, ACABAMENTO CONVENCIONAL, NÃO ARMADO. AF_07/2016 | G51: M3 | H51: ='memoria de cálculo'!F56 -> 8.16 | I51: 484.98 | J51: =J4 -> 0.2097 | K51: =(J51*I51)+I51 -> 586.68031 | L51: =K51*H51 -> 4787.3113
C52: 3.4 | F52: RAMPAS | L52: =L53+L54 -> 217.60715
C53: 3.4.1 | D53: SINAPI | E53: 94991 | F53: EXECUÇÃO DE PASSEIO (CALÇADA) OU PISO DE CONCRETO COM CONCRETO MOLDADO IN LOCO, USINADO, ACABAMENTO CONVENCIONAL, NÃO ARMADO. AF_07/2016 | G53: M3 | H53: ='memoria de cálculo'!F58 -> 0.24 | I53: 484.98 | J53: =J4 -> 0.2097 | K53: =(J53*I53)+I53 -> 586.68031 | L53: =K53*H53 -> 140.80327
C54: 3.4.2 | D54: SINAPI-I | E54: 36178 | F54: PISO PODOTATIL DE CONCRETO - DIRECIONAL E ALERTA, *40 X 40 X 2,5* CM | G54: UN | H54: ='memoria de cálculo'!F59 -> 8 | I54: 8.42 | J54: =J5 -> 0.1402 | K54: =(J54*I54)+I54 -> 9.600484 | L54: =K54*H54 -> 76.803872
