Workbook
Name arredquant: IF(CRONOGRAMA!$H$5=TRUE,2,15)
Name arredquant: IF(PRAÇA!$M$3=TRUE,2,15)
Name arredquant: IF(#REF!=TRUE,2,15)
Name arredtot: IF(CRONOGRAMA!$P$5=TRUE,2,15)
Name arredtot: IF(PRAÇA!$O$3=TRUE,2,15)
Name arredtot: IF(#REF!=TRUE,2,15)
Name arredunit: IF(CRONOGRAMA!$O$5=TRUE,2,15)
Name arredunit: IF(PRAÇA!$N$3=TRUE,2,15)
Name arredunit: IF(#REF!=TRUE,2,15)
Name B: IF(#REF!=TRUE,2,15)
Name ç: ROUND(ROUND(#REF!,p)*ROUND(#REF!,arredunit),arredtot)
Name D: ROUND(ROUND(#REF!,B)*ROUND(#REF!,arredunit),arredtot)
Name O: ROUND(ROUND(#REF!,arredquant)*ROUND(#REF!,arredunit),arredtot)
Name O: ROUND(ROUND(#REF!,arredquant)*ROUND(#REF!,arredunit),arredtot)
Name p: IF(#REF!=TRUE,2,15)
Name RegimeExecucao: IF(OR([1]DADOS!$A$36="Empreitada Preço Global",[1]DADOS!$A$36="Empreitada Integral"),"Global","Unitário")
Name SomaAgrup: SUMIF(OFFSET(CRONOGRAMA!#REF!,1,0,CRONOGRAMA!$A1),"S",OFFSET(CRONOGRAMA!A1,1,0,CRONOGRAMA!$A1))
Name SomaAgrup: SUMIF(OFFSET(PRAÇA!$A1,1,0,PRAÇA!$B1),"S",OFFSET(PRAÇA!A1,1,0,PRAÇA!$B1))
Name SomaAgrup: SUMIF(OFFSET(#REF!,1,0,#REF!),"S",OFFSET(#REF!,1,0,#REF!))
Name total: ROUND(ROUND(CRONOGRAMA!XFC1,CRONOGRAMA!arredquant)*ROUND(CRONOGRAMA!XFD1,CRONOGRAMA!arredunit),CRONOGRAMA!arredtot)
Name total: ROUND(ROUND(PRAÇA!XFC1,PRAÇA!arredquant)*ROUND(PRAÇA!XFD1,PRAÇA!arredunit),PRAÇA!arredtot)
Name total: ROUND(ROUND(#REF!,arredquant)*ROUND(#REF!,arredunit),arredtot)
Name varanda: ROUND(ROUND(#REF!,arredquant)*ROUND(#REF!,arredunit),arredtot)

Sheet PRAÇA
A1: PREFEITURA MUNICIPAL DE SALTO DO JACUÍ
A2: OBRA | B2: PRAÇA AUGUSTO TRAMONTINI - SALTO DO JACUÍ/RS | D2: ÁREA | G2: Ref. Sinapi: | H2: 45627
A3: LOCAL | B3: Salto do Jacuí/RS | D3: BDI | E3: 27.6 | F3: % | G3: DESONERADO
A4: PLANILHA DE ORÇAMENTOS
E5: QUANTIDADES LICITADAS
A7: Código SINAPI | B7: Item | C7: Discriminação | D7: Unid. | E7: Qtde. | F7: Preço Unitário (R$) | G7: Preço Unit+BDI (R$) | H7: Preço Total (R$)
B9: 1 | C9: SERVIÇOS PRELIMINARES E GERAIS | H9: =SUM(H10:H16) -> 39403.106
A10: 4813 | B10: 1.1 | C10: PLACA DE OBRA EM CHAPA AÇO GALVANIZADO 2,50 x 1,50 M | D10: M² | E10: 3.75 | F10: 400 | G10: =(F10*E3/100)+F10 -> 510.4 | H10: =E10*G10 -> 1914
A11: 98459 | B11: 1.2 | C11: TAPUME DE OBRA | D11: M | E11: 195 | F11: 76,85 | G11: =(F11*E3/100)+F11 -> 98.0606 | H11: =E11*G11 -> 19121.817
A12: COMP | B12: 1.3 | C12: ADMINISTRAÇÃO LOCAL | D12: mês | E12: 6 | F12: 930 | G12: =(F12*E3/100)+F12 -> 1186.68 | H12: =E12*G12 -> 7120.08
A13: COMP | B13: 1.4 | C13: MOBILIZAÇÃO E DESMOBILIZAÇÃO DE EQUIPAMENTOS E OUTROS | D13: UNID | E13: 1 | F13: 615 | G13: =(F13*E3/100)+F13 -> 784.74 | H13: =E13*G13 -> 784.74
A14: 100289 | B14: 1.5 | C14: VIGIA COM ENGARGOS | D14: H | E14: 300 | F14: 22,12 | G14: =(F14*E4/100)+F14 -> 22.12 | H14: =E14*G14 -> 6636
A15: 2706 | B15: 1.6 | C15: ENGENHEIRO CIVIL DE OBRA JUNIOR | D15: H | E15: 30 | F15: 99,96 | G15: =(F15*E3/100)+F15 -> 127.54896 | H15: =E15*G15 -> 3826.4688
B17: 2 | C17: DEMOLIÇÕES/RETIRADAS | H17: =SUM(H18:H31) -> 20030.268
A18: 97622 | B18: 2.1 | C18: DEMOLIÇÃO DE ALVENARIA DE BLOCO FURADO, DE FORMA MANUAL, SEM REAPROVEITAMENTO. AF_12/2017 | D18: M³ | E18: 4.55 | F18: 54,16 | G18: =(F18*E3/100)+F18 -> 69.10816 | H18: =E18*G18 -> 314.44213
A19: 97633 | B19: 2.2 | C19: DEMOLIÇÃO DE REVESTIMENTO CERÂMICO, DE FORMA MANUAL, SEM REAPROVEITAMENTO. AF_12/2017 | D19: M² | E19: 21,67 | F19: 19,57 | G19: =(F19*E3/100)+F19 -> 24.97132 | H19: =E19*G19 -> 541.1285
A20: 97628 | B20: 2.3 | C20: DEMOLIÇÃO DE LAJES, DE FORMA MANUAL, SEM REAPROVEITAMENTO. AF_12/2017 | D20: M³ | E20: 2.94 | F20: 253,50 | G20: =(F20*E3/100)+F20 -> 323.466 | H20: =E20*G20 -> 950.99004
A21: 97626 | B21: 2.4 | C21: DEMOLIÇÃO DOS MOBILIÁRIOS, ENTRE OUTROS ELEMENTOS DE FORMA MANUAL, SEM REAPROVEITAMENTO. (OBS.: 3 ESCULTURAS - COM REAPROVEITAMENTO) | D21: M³ | E21: 5 | F21: 544,29 | G21: =(F21*E3/100)+F21 -> 694.51404 | H21: =E21*G21 -> 3472.5702
A22: 97635 | B22: 2.5 | C22: DEMOLIÇÕES EM GERAL + ARCO NO PAVIMENTO SUPERIOR | D22: M² | E22: 300 | F22: 14,90 | G22: =(F22*E3/100)+F22 -> 19.0124 | H22: =E22*G22 -> 5703.72
A23: 97644 | B23: 2.6 | C23: REMOÇÃO DE PORTAS, DE FORMA MANUAL COM REAPROVEITAMENTO | D23: M² | E23: 7.56 | F23: 9,05 | G23: =(F23*E3/100)+F23 -> 11.5478 | H23: =E23*G23 -> 87.301368
A24: 97645 | B24: 2.7 | C24: REMOÇÃO DE JANELAS, DE FORMA MANUAL, COM REAPROVEITAMENTO. | D24: M² | E24: 6.4 | F24: 23,36 | G24: =(F24*E3/100)+F24 -> 29.80736 | H24: =E24*G24 -> 190.7671
A25: 97663 | B25: 2.8 | C25: REMOÇÃO DE LOUÇAS, DE FORMA MANUAL, COM REAPROVEITAMENTO. | D25: UNID | E25: 6 | F25: 12,19 | G25: =(F25*$E$3/100)+F25 -> 15.55444 | H25: =E25*G25 -> 93.32664
A26: 97665 | B26: 2.9 | C26: REMOÇÃO DE LUMINÁRIAS, DE FORMA MANUAL,COM REAPROVEITAMENTO. | D26: UNID | E26: 7 | F26: 1,73 | G26: =(F26*$E$3/100)+F26 -> 2.20748 | H26: =E26*G26 -> 15.45236
A27: 97664 | B27: 3.0 | C27: REMOÇÃO DE ACESSÓRIOS, DE FORMA MANUAL, SEM REAPROVEITAMENTO. AF_12/2017 | D27: UNID | E27: 10 | F27: 1,51 | G27: =(F27*$E$3/100)+F27 -> 1.92676 | H27: =E27*G27 -> 19.2676
A28: 97661 | B28: 3.1 | C28: REMOÇÃO DE CABOS ELÉTRICOS, DE FORMA MANUAL, SEM REAPROVEITAMENTO. AF_12/2017 | D28: M | E28: 360 | F28: 0,68 | G28: =(F28*$E$3/100)+F28 -> 0.86768 | H28: =E28*G28 -> 312.3648
A29: 98531 | B29: 3.2 | C29: CORTE DE ÁRVORE COM DIÂMETRO DE TRONCO MAIOR OU IGUAL A 0,60 M.AF_05/2018 | D29: UNID | E29: 12 | F29: 394,62 | G29: =(F29*$E$3/100)+F29 -> 503.53512 | H29: =E29*G29 -> 6042.4214
A30: 99814 | B30: 3.4 | C30: LIMPEZA PARA INICIAR A REVITALIZAÇÃO | D30: M² | E30: 600 | F30: 1,89 | G30: =(F30*$E$3/100)+F30 -> 2.41164 | H30: =E30*G30 -> 1446.984
A31: 100981 | B31: 3.5 | C31: CARGA, MANOBRA E DESCARGA DE ENTULHO EM CAMINHÃO BASCULANTE 6 M³ - CARGA COM ESCAVADEIRA HIDRÁULICA (CAÇAMBA DE 0,80 M³ / 111 HP) E DESCARGA LIVRE (UNIDADE: M3). AF_07/2020 | D31: M³ | E31: 67 | F31: 9,82 | G31: =(F31*$E$3/100)+F31 -> 12.53032 | H31: =E31*G31 -> 839.53144
B33: 3 | C33: INSTALAÇÕES ELÉTRICAS | H33: =SUM(H34:H55) -> 30541.507
A34: 101530 | B34: 3.1 | C34: ENTRADA DE ENERGIA ELÉTRICA, SUBTERRÂNEA, TRIFÁSICA, COM CAIXA DE SOBREPOR, CABO DE 16 MM2 E DISJUNTOR DIN 50A. AF_07/2020_P | D34: UNID | E34: 1 | F34: 1.421,87 | G34: =(F34*$E$3/100)+F34 -> 1814.3061 | H34: =E34*G34 -> 1814.3061
A35: 101883 | B35: 3.2 | C35: QUADRO DE DISTRIBUIÇÃO DE ENERGIA EM CHAPA DE AÇO GALVANIZADO, DE EMBUTIR, COM BARRAMENTO TRIFÁSICO, PARA 18 DISJUNTORES DIN 100A - FORNECIMENTO E INSTALAÇÃO. AF_10/2020 | D35: UNID | E35: 1 | F35: 569,38 | G35: =(F35*$E$3/100)+F35 -> 726.52888 | H35: =E35*G35 -> 726.52888
A36: 101876 | B36: 3.3 | C36: QUADRO DE DISTRIBUIÇÃO DE ENERGIA EM PVC, DE EMBUTIR, SEM BARRAMENTO, PARA 6 DISJUNTORES - FORNECIMENTO E INSTALAÇÃO. AF_10/2020 | D36: UNID | E36: 1 | F36: 75,80 | G36: =(F36*$E$3/100)+F36 -> 96.7208 | H36: =E36*G36 -> 96.7208
A37: COMP | B37: 3.4 | C37: CABO PP 4X4,0 MM² - FORNECIMENTO E INSTALAÇÃO. AF_12/2015 | D37: M | E37: 384.08 | F37: 19 | G37: =(F37*$E$3/100)+F37 -> 24.244 | H37: =E37*G37 -> 9311.6355
A38: 91935 | B38: 3.5 | C38: CABO DE COBRE FLEXÍVEL ISOLADO, 16 MM², ANTI-CHAMA 0,6/1,0 KV, PARA CIRCUITOS TERMINAIS - FORNECIMENTO E INSTALAÇÃO. AF_03/2023 | D38: M | E38: 74.44 | F38: 24,18 | G38: =(F38*$E$3/100)+F38 -> 30.85368 | H38: =E38*G38 -> 2296.7479
A39: 91927 | B39: 3.6 | C39: CABO DE COBRE FLEXÍVEL ISOLADO, 2,5 MM², ANTI-CHAMA 0,6/1,0 KV, PARA CIRCUITOS TERMINAIS - FORNECIMENTO E INSTALAÇÃO. AF_12/2015 - FASE, NEUTRO E TERRA | D39: M | E39: 110.5 | F39: 4,62 | G39: =(F39*$E$3/100)+F39 -> 5.89512 | H39: =E39*G39 -> 651.41076
A40: 91931 | B40: 3.7 | C40: CABO DE COBRE FLEXÍVEL ISOLADO, 6 MM², ANTI-CHAMA 0,6/1,0 KV, PARA CIRCUITOS TERMINAIS - FORNECIMENTO E INSTALAÇÃO. AF_12/2015 - FASE, NEUTRO E TERRA | D40: M | E40: 52.5 | F40: 9,64 | G40: =(F40*$E$3/100)+F40 -> 12.30064 | H40: =E40*G40 -> 645.7836
A41: 97882 | B41: 3.8 | C41: CAIXA ENTERRADA ELÉTRICA RETANGULAR, EM CONCRETO PRÉ-MOLDADO, FUNDO COM BRITA, DIMENSÕES INTERNAS: 0,4X0,4X0,4 M. AF_12/2020 | D41: UNID | E41: 29 | F41: 210,99 | G41: =(F41*$E$3/100)+F41 -> 269.22324 | H41: =E41*G41 -> 7807.474
A42: 92023 | B42: 3.9 | C42: INTERRUPTOR SIMPLES | D42: UNID | E42: 1 | F42: 53,20 | G42: =(F42*$E$3/100)+F42 -> 67.8832 | H42: =E42*G42 -> 67.8832
A43: 92023 | B43: 4.0 | C43: INTERRUPTOR DUPLO | D43: UNID | E43: 1 | F43: 35,59 | G43: =(F43*$E$3/100)+F43 -> 45.41284 | H43: =E43*G43 -> 45.41284
A44: 97597 | B44: 4.1 | C44: SENSOR DE PRESENÇA COM FOTOCÉLULA, FIXAÇÃO EM TETO - FORNECIMENTO E INSTALAÇÃO. AF_09/2024 | D44: UNID | E44: 2 | F44: 69,94 | G44: =(F44*$E$3/100)+F44 -> 89.24344 | H44: =E44*G44 -> 178.48688
...

Sheet CRONOGRAMA
A4: PREFEITURA MUNICIPAL DE SALTO DO JACUÍ
A6: OBRA: PRAÇA AUGUSTO TRAMONTINI FILHO | E6: ÁREA: 1385,80 M²
A7: LOCAL: Av. Pio XII - Salto do Jacuí/RS | E7: PRAZO: 6 Meses
A9: CRONOGRAMA FÍSICO FINANCEIRO ATUALIZADO
A11: Item | B11: Discriminação | C11: R$ | D11: % | E11: Mês 1 | G11: Mês 2 | I11: Mês 3 | K11: Mês 4 | M11: Mês 5 | O11: Mês 6
E12: R$ | F12: % | G12: R$ | H12: % | I12: R$ | J12: % | K12: R$ | L12: % | M12: R$ | N12: % | O12: R$ | P12: %
A13: 1 | B13: SERVIÇOS PRELIMINARES E GERAIS | C13: =PRAÇA!H9 -> 39403.106 | D13: =C13/C39*100 -> 6.595273 | E13: =C13 -> 39403.106 | F13: =E13/C13*100 -> 100 | H13: =G13/C13*100 -> 0 | J13: =I13/(C13)*100 -> 0 | P13: =O13/C13*100 -> 0 | R13: =O13+K13+I13+G13+E13 -> 39403.106 | S13: =C13-R13 -> 0
S14: =C14-R14 -> 0
A15: 2 | B15: DEMOLIÇÕES E RETIRADAS | C15: =PRAÇA!H17 -> 20030.268 | D15: =C15/C39*100 -> 3.3526566 | E15: 20030.27 | F15: =E15/C15*100 -> 100.00001 | L15: =K15/A15*100 -> 0 | P15: =O15/C15*100 -> 0 | R15: =O15+K15+I15+G15+E15 -> 20030.27 | S15: =C15-R15 -> -0.0023756
C16: =[2]PRAÇA!H6 -> 0 | S16: =C16-R16 -> 0
A17: 3 | B17: INSTALAÇÕES ELÉTRICAS | C17: =PRAÇA!H33 -> 30541.507 | D17: =C17/C39*100 -> 5.1120228 | E17: 0 | F17: =E17/C17*100 -> 0 | G17: 30541.51 | H17: =G17/C17*100 -> 100.00001 | J17: =I17/(C17)*100 -> 0 | L17: =K17/A17*100 -> 0 | P17: =O17/C17*100 -> 0 | R17: =O17+K17+I17+G17+E17 -> 30541.51 | S17: =C17-R17 -> -0.0032724
S18: =C18-R18 -> 0
A19: 4 | B19: ILUMINAÇÃO | C19: =PRAÇA!H57 -> 46804.241 | D19: =C19/C39*100 -> 7.8340716 | I19: 29703.7 | J19: =I19/(C19)*100 -> 63.463693 | K19: 17100.54 | L19: =K19/C19*100 -> 36.536304 | P19: =O19/C19*100 -> 0 | R19: =O19+K19+I19+G19+E19 -> 46804.24 | S19: =C19-R19 -> 0.00144
S20: =C20-R20 -> 0
A21: 5 | B21: INSTALAÇÕES HIDROSSANITÁRIAS | C21: =PRAÇA!H69 -> 18340.96 | D21: =C21/C39*100 -> 3.0699011 | E21: 0 | F21: =E21/C21*100 -> 0 | G21: 0 | H21: =G21/C21*100 -> 0 | I21: 9170.48 | J21: =I21/(C21)*100 -> 50 | K21: 9170.48 | L21: =K21/C21*100 -> 50 | P21: =O21/C21*100 -> 0 | R21: =O21+K21+I21+G21+E21 -> 18340.96 | S21: =C21-R21 -> -0.000132
S22: =C22-R22 -> 0
A23: 6 | B23: PAVIMENTAÇÃO | C23: =PRAÇA!D85 -> 116057 | D23: =C23/C39*100 -> 19.425565 | E23: 0 | F23: =E23/C23*100 -> 0 | G23: 0 | H23: =G23/C23*100 -> 0 | I23: 116057 | J23: =I23/(C23)*100 -> 100 | L23: =K23/C23*100 -> 0 | P23: =O23/C23*100 -> 0 | R23: =O23+K23+I23+G23+E23 -> 116057 | S23: =C23-R23 -> 0.000312
S24: =C24-R24 -> 0
A25: 7 | B25: ESPELHO D'ÁGUA/FONTE INTERATIVA | C25: =PRAÇA!H91 -> 38374.027 | D25: =C25/C39*100 -> 6.4230262 | E25: 0 | F25: =E25/C25*100 -> 0 | G25: 0 | H25: =G25/C25*100 -> 0 | I25: 25000 | J25: =I25/(C25)*100 -> 65.148232 | K25: 13374.03 | L25: =K25/C25*100 -> 34.851777 | N25: =O25/C25*100 -> 0 | P25: =O25/C25*100 -> 0 | R25: =O25+K25+I25+G25+E25 -> 38374.03 | S25: =C25-R25 -> -0.003474
S26: =C26-R26 -> 0
A27: 8 | B27: DECK DE MADEIRA/PERGOLADO | C27: =PRAÇA!H105 -> 68075.11 | D27: =C27/C39*100 -> 11.394379 | E27: 0 | F27: =E27/C27*100 -> 0 | G27: 0 | H27: =G27/C27*100 -> 0 | J27: =I27/(C27)*100 -> 0 | L27: =K27/C27*100 -> 0 | M27: 36804.64 | N27: =M27/C27*100 -> 54.064753 | O27: 31270.47 | P27: =O27/C27*100 -> 45.935247 | R27: =O27+K27+I27+G27+E27+M27 -> 68075.11 | S27: =C27-R27 -> 0.00039999999
S28: =C28-R28 -> 0
A29: 9 | B29: BANCOS, MURETAS, FLOREIRAS E + | C29: =PRAÇA!H109 -> 46484.337 | D29: =C29/C39*100 -> 7.7805261 | F29: =E29/C29*100 -> 0 | H29: =G29/C29*100 -> 0 | I29: 30000 | J29: =I29/(C29)*100 -> 64.537868 | K29: 16484.34 | L29: =K29/C29*100 -> 35.462139 | N29: =M29/C29*100 -> 0 | P29: =O29/C29*100 -> 0 | R29: =O29+K29+I29+G29+E29 -> 46484.34 | S29: =C29-R29 -> -0.0029888
S30: =C30-R30 -> 0
A31: 10 | B31: EQUIPAMENTOS/MOBILIÁRIOS | C31: =PRAÇA!H118 -> 18407.576 | D31: =C31/C39*100 -> 3.0810513 | F31: =E31/C31*100 -> 0 | H31: =G31/C31*100 -> 0 | J31: =I31/(C31)*100 -> 0 | M31: 10000 | N31: =M31/C31*100 -> 54.325458 | O31: 8407.58 | P31: =O31/C31*100 -> 45.674564 | R31: =O31+K31+I31+G31+E31+M31 -> 18407.58 | S31: =C31-R31 -> -0.004
S32: =C32-R32 -> 0
A33: 11 | B33: QUIOSQUE CENTRAL | C33: =PRAÇA!H128 -> 55720.909 | D33: =C33/C39*100 -> 9.3265392 | E33: 0 | F33: =E33/C33*100 -> 0 | H33: =G33/C33*100 -> 0 | I33: 30000 | J33: =I33/(C33)*100 -> 53.839753 | K33: 15000 | L33: =K33/C33*100 -> 26.919877 | M33: 10720.91 | N33: =M33/C33*100 -> 19.240372 | P33: =O33/C33*100 -> 0 | R33: =I33+K33+M33 -> 55720.91 | S33: =C33-R33 -> -0.0007208
A35: 12 | B35: SERVIÇOS DE ACABAMENTO | C35: =PRAÇA!H152 -> 95863.558 | D35: =C35/C39*100 -> 16.045596 | M35: 50000 | N35: =M35/C35*100 -> 52.157463 | O35: 45863.56 | P35: =O35/C35*100 -> 47.842539 | R35: =M35-O35 -> 4136.44
S36: =C36-R36 -> 0
A37: 13 | B37: LIMPEZA FINAL | C37: =PRAÇA!H161 -> 3342.0507 | D37: =C37/C39*100 -> 0.55939085 | O37: 3342.05 | P37: =O37/C37*100 -> 99.999979 | R37: =O37 -> 3342.05 | S37: =C37-R37 -> 0.000712
B39: TOTAL | C39: =SUM(C13:C37) -> 597444.65 | D39: =SUM(D13:D38) -> 100 | E39: =SUM(E13:E38) -> 59433.376 | F39: =E39/C39*100 -> 9.94793 | G39: =SUM(G13:G38) -> 30541.51 | H39: =G39/C39*100 -> 5.1120234 | I39: =SUM(I13:I38) -> 239931.18 | J39: =I39/C$39*100 -> 40.159566 | K39: =SUM(K13:K38) -> 71129.39 | L39: =K39/C$39*100 -> 11.905603 | M39: =SUM(M13:M35) -> 107525.55 | N39: =M39/C$39*100 -> 17.997575 | O39: =O27+O31+O35+O37 -> 88883.66 | P39: =O39/C$39*100 -> 14.877305
B40: TOTAL ACUMULADO | E40: =E39 -> 59433.376 | F40: =F39 -> 9.94793 | G40: =G39+E40 -> 89974.886 | H40: =H39+F40 -> 15.059953 | I40: =I39+G40 -> 329906.07 | J40: =J39+D40 -> 40.159566 | K40: =K39+I40 -> 401035.46 | L40: =L39+F40 -> 21.853533 | M40: =M39+K40 -> 508561.01 | N40: =N39+F40 -> 27.945505 | O40: 597444.65 | P40: =O40/C39*100 -> 100
A41: Salto do Jacuí/RS, 04 de fevereiro de 2025.
B44: ARQ. E URB. JOSIELI FERREIRA | C44: ARQ. E URB. FABRÍCIO N. LORENZI
B45: CAU/RS A187139-0 | C45: CAU A46694-8
