Workbook
Name arredquant: IF(#REF!=TRUE,2,15)
Name arredquant: IF(#REF!=TRUE,2,15)
Name arredquant: IF('cronograma lateral'!$N$3=TRUE,2,15)
Name arredquant: IF(#REF!=TRUE,2,15)
Name arredquant: IF(#REF!=TRUE,2,15)
Name arredtot: IF(#REF!=TRUE,2,15)
Name arredtot: IF(#REF!=TRUE,2,15)
Name arredtot: IF('cronograma lateral'!$P$3=TRUE,2,15)
Name arredtot: IF(#REF!=TRUE,2,15)
Name arredtot: IF(#REF!=TRUE,2,15)
Name arredunit: IF(#REF!=TRUE,2,15)
Name arredunit: IF(#REF!=TRUE,2,15)
Name arredunit: IF('cronograma lateral'!$O$3=TRUE,2,15)
Name arredunit: IF(#REF!=TRUE,2,15)
Name arredunit: IF(#REF!=TRUE,2,15)
Name O: ROUND(ROUND(#REF!,'BM-02 25'!arredquant)*ROUND(#REF!,'BM-02 25'!arredunit),'BM-02 25'!arredtot)
Name O: ROUND(ROUND(#REF!,'BM-03 25'!arredquant)*ROUND(#REF!,'BM-03 25'!arredunit),'BM-03 25'!arredtot)
Name O: ROUND(ROUND(#REF!,[0]!arredquant)*ROUND(#REF!,[0]!arredunit),[0]!arredtot)
Name O: ROUND(ROUND(#REF!,'orçamento lateral'!arredquant)*ROUND(#REF!,'orçamento lateral'!arredunit),'orçamento lateral'!arredtot)
Name O: ROUND(ROUND(#REF!,arredquant)*ROUND(#REF!,arredunit),arredtot)
Name RegimeExecucao: IF(OR([1]DADOS!$A$36="Empreitada Preço Global",[1]DADOS!$A$36="Empreitada Integral"),"Global","Unitário")
Name SomaAgrup: SUMIF(OFFSET(#REF!,1,0,#REF!),"S",OFFSET(#REF!,1,0,#REF!))
Name SomaAgrup: SUMIF(OFFSET(#REF!,1,0,#REF!),"S",OFFSET(#REF!,1,0,#REF!))
Name SomaAgrup: SUMIF(OFFSET('cronograma lateral'!$A1,1,0,'cronograma lateral'!$B1),"S",OFFSET('cronograma lateral'!A1,1,0,'cronograma lateral'!$B1))
Name SomaAgrup: SUMIF(OFFSET(#REF!,1,0,#REF!),"S",OFFSET(#REF!,1,0,#REF!))
Name SomaAgrup: SUMIF(OFFSET(#REF!,1,0,#REF!),"S",OFFSET(#REF!,1,0,#REF!))
Name total: ROUND(ROUND(#REF!,'BM-02 25'!arredquant)*ROUND(#REF!,'BM-02 25'!arredunit),'BM-02 25'!arredtot)
Name total: ROUND(ROUND(#REF!,'BM-03 25'!arredquant)*ROUND(#REF!,'BM-03 25'!arredunit),'BM-03 25'!arredtot)
Name total: ROUND(ROUND('cronograma lateral'!XFC1,'cronograma lateral'!arredquant)*ROUND('cronograma lateral'!XFD1,'cronograma lateral'!arredunit),'cronograma lateral'!arredtot)
Name total: ROUND(ROUND(#REF!,'orçamento lateral'!arredquant)*ROUND(#REF!,'orçamento lateral'!arredunit),'orçamento lateral'!arredtot)
Name total: ROUND(ROUND(#REF!,arredquant)*ROUND(#REF!,arredunit),arredtot)
Name varanda: ROUND(ROUND(#REF!,'BM-02 25'!arredquant)*ROUND(#REF!,'BM-02 25'!arredunit),'BM-02 25'!arredtot)
Name varanda: ROUND(ROUND(#REF!,'BM-03 25'!arredquant)*ROUND(#REF!,'BM-03 25'!arredunit),'BM-03 25'!arredtot)
Name varanda: ROUND(ROUND(#REF!,arredquant)*ROUND(#REF!,arredunit),arredtot)
Name varanda: ROUND(ROUND(#REF!,'orçamento lateral'!arredquant)*ROUND(#REF!,'orçamento lateral'!arredunit),'orçamento lateral'!arredtot)
Name varanda: ROUND(ROUND(#REF!,arredquant)*ROUND(#REF!,arredunit),arredtot)

Sheet BM-03 25
A1: PREFEITURA MUNICIPAL DE SALTO DO JACUÍ
A2: OBRA | B2: REVITALIZAÇÃO DA CAPELA BOM JESUS | D2: ÁREA | E2: 215.48 | F2: m² | G2: Ref. Sinapi: | H2: 45394
A3: LOCAL | B3: AV. CENTRAL JACUI | D3: BDI | E3: =BDI!E12 -> 0.24828924
A4: BOLETIM DE MEDIÇÃO - 01
E5: QUANTIDADES LICITADAS
A6: Código Sinapi | B6: Item | C6: Discriminação | D6: Unid. | E6: Qtde. | F6: Preço Unitário (R$) | G6: Preço Unit+BDI (R$) | H6: Preço Total (R$) | I6: % periodo | J6: % acumulada | K6: valor do BM | L6: acumulado
B8: 1 | C8: SERVIÇOES PRELIMINARES E GERAIS | H8: =SUM(H9:H12) -> 3324.9495 | K8: =SUM(K9:K12) -> 131.59465 | L8: =SUM(L9:L12) -> #REF!
A9: 97640 | B9: 1.1 | C9: REMOÇÃO DE PILAR DE MADEIRA - 0,20 X 0,15 m | D9: m | E9: 10.5 | F9: 2.22 | G9: =(F9*$E$3)+F9 -> 2.7712021 | H9: =E9*G9 -> 29.097622 | I9: 1 | J9: =I9+'BM-02 25'!J9 -> #REF! | K9: =I9*H9 -> 29.097622 | L9: =J9*H9 -> #REF!
A10: 97643 | B10: 1.2 | C10: REMOÇÃO DE PAREDE DE MADEIRA - (macho e femea) | D10: m² | E10: 66.3 | F10: 21.15 | G10: =(F10*$E$3)+F10 -> 26.401317 | H10: =E10*G10 -> 1750.4073 | I10: 0 | J10: =I10+'BM-02 25'!J10 -> #REF! | K10: =I10*H10 -> 0 | L10: =J10*H10 -> #REF!
A11: 104803 | B11: 1.3 | C11: RETIRADA DE ALGEROZ METALICA - 0,23 X 0,17 (armazenar p/ recolocar) | D11: m | E11: 21 | F11: 3.91 | G11: =(F11*$E$3)+F11 -> 4.8808109 | H11: =E11*G11 -> 102.49703 | I11: 1 | J11: =I11+'BM-02 25'!J11 -> #REF! | K11: =I11*H11 -> 102.49703 | L11: =J11*H11 -> #REF!
A12: 102234 | B12: 1.4 | C12: APLICAÇÃO DE TRATAMENTO ANTI-CUPIM E ANTIFUNGICO | D12: m² | E12: 58 | F12: 19.93 | G12: =(F12*$E$3)+F12 -> 24.878405 | H12: =E12*G12 -> 1442.9475 | I12: 0 | J12: =I12+'BM-02 25'!J12 -> #REF! | K12: =I12*H12 -> 0 | L12: =J12*H12 -> #REF!
B14: 2 | C14: FECHAMENTO E ESTRUTURA | H14: =SUM(H15:H20) -> 37824.339 | K14: =SUM(K15:K20) -> 1673.5093 | L14: =SUM(L15:L20) -> #REF!
A15: 96369 | B15: 2.1 | C15: EXECUÇÃO DE PARADE DE MADEIRA C/ ACABAMENTOS | D15: m² | E15: 66.3 | F15: 24.23 | G15: =(F15*$E$3)+F15 -> 30.246048 | H15: =E15*G15 -> 2005.313 | I15: 0 | J15: =I15+'BM-02 25'!J15 -> #REF! | K15: =I15*H15 -> 0 | L15: =J15*H15 -> #REF!
A16: mercado local | B16: 2.2 | C16: MADEIRA MACHO/FEMEA - TIPO GRAPIA (nas dimensões existentes) | D16: m² | E16: 66.3 | F16: 390 | G16: =(F16*$E$3)+F16 -> 486.8328 | H16: =E16*G16 -> 32277.015 | I16: 0 | J16: =I16+'BM-02 25'!J16 -> #REF! | K16: =I16*H16 -> 0 | L16: =J16*H16 -> #REF!
A17: 96374 | B17: 2.3 | C17: EXECUÇÃO DE PILAR MADEIRA - 0,20 X 0,15 m (material e mão de obra) | D17: m | E17: 10.5 | F17: 29.35 | G17: =(F17*$E$3)+F17 -> 36.637289 | H17: =E17*G17 -> 384.69154 | I17: 1 | J17: =I17+'BM-02 25'!J17 -> #REF! | K17: =I17*H17 -> 384.69154 | L17: =J17*H17 -> #REF!
A18: 100327 | B18: 2.4 | C18: RECOLOCAÇÃO DE ALGEROZ METALICA - 0,23 X 0,17 m (existente) | D18: m² | E18: 7.56 | F18: 6.364 | G18: =(F18*$E$3)+F18 -> 7.9441127 | H18: =E18*G18 -> 60.057492 | I18: 1 | J18: =I18+'BM-02 25'!J18 -> #REF! | K18: =I18*H18 -> 60.057492 | L18: =J18*H18 -> #REF!
A19: 96365 | B19: 2.5 | C19: SUBSTITUIÇÃO DOS ESPELHOS DA COBERTURA | D19: m² | E19: 6.13 | F19: 160.58 | G19: =(F19*$E$3)+F19 -> 200.45029 | H19: =E19*G19 -> 1228.7603 | I19: 1 | J19: =I19+'BM-02 25'!J19 -> #REF! | K19: =I19*H19 -> 1228.7603 | L19: =J19*H19 -> #REF!
A20: 96374 | B20: 2.6 | C20: SUBSTITUIÇÃO DE CAIBRO DE MADEIRA - 0,10 X 0,06 m | D20: m | E20: 51 | F20: 29.35 | G20: =(F20*$E$3)+F20 -> 36.637289 | H20: =E20*G20 -> 1868.5017 | I20: 0 | J20: =I20+'BM-02 25'!J20 -> #REF! | K20: =I20*H20 -> 0 | L20: =J20*H20 -> #REF!
B22: 3 | C22: PINTURA e PREPARAÇÃO | H22: =SUM(H24:H48) -> 14708.798 | K22: =SUM(K23:K48) -> 14708.798 | L22: =SUM(L23:L48) -> #REF!
C23: PORTAS
A24: 102193 | B24: 3.1 | C24: LIXAMENTOS E PREPARAÇÃO DO FUNDO NIVELADOR | D24: m² | E24: 1.86 | F24: 12.83 | G24: =(F24*$E$3)+F24 -> 16.015551 | H24: =E24*G24 -> 29.788925 | I24: 1 | J24: =I24+'BM-02 25'!J24 -> #REF! | K24: =I24*H24 -> 29.788925 | L24: =J24*H24 -> #REF!
A25: 102197 | B25: 3.2 | C25: PINTURA FUNDO NIVELADORPARA MADEIRA, NA PORTA (int. e ext.) | D25: m² | E25: 1.86 | F25: 31.1 | G25: =(F25*$E$3)+F25 -> 38.821795 | H25: =E25*G25 -> 72.208539 | I25: 1 | J25: =I25+'BM-02 25'!J25 -> #REF! | K25: =I25*H25 -> 72.208539 | L25: =J25*H25 -> #REF!
A26: 102193 | B26: 3.3 | C26: LIXAMENTOS E PREPARAÇÃO DO FUNDO NIVELADOR | D26: m² | E26: 1.86 | F26: 12.83 | G26: =(F26*$E$3)+F26 -> 16.015551 | H26: =E26*G26 -> 29.788925 | I26: 1 | J26: =I26+'BM-02 25'!J26 -> #REF! | K26: =I26*H26 -> 29.788925 | L26: =J26*H26 -> #REF!
A27: 102227 | B27: 3.4 | C27: PINTURA TINTA ESMALTE SINTÉTICO PIGMENTADA 2 DEMÃOS | D27: m² | E27: =E26 -> 1.86 | F27: 24.3 | G27: =(F27*$E$3)+F27 -> 30.333428 | H27: =E27*G27 -> 56.420177 | I27: 1 | J27: =I27+'BM-02 25'!J27 -> #REF! | K27: =I27*H27 -> 56.420177 | L27: =J27*H27 -> #REF!
C28: PAREDE, FORRO e ESPELHO
A29: 102193 | B29: 3.5 | C29: LIXAMENTO DE PAREDE PARA APLICAÇÃODE FUNDO PARA MADEIRA | D29: m² | E29: 76.3 | F29: 12.83 | G29: =(F29*$E$3)+F29 -> 16.015551 | H29: =E29*G29 -> 1221.9865 | I29: 1 | J29: =I29+'BM-02 25'!J29 -> #REF! | K29: =I29*H29 -> 1221.9865 | L29: =J29*H29 -> #REF!
A30: 102197 | B30: 3.6 | C30: PINTURA FUNDO NIVELADOR PARA MADEIRA | D30: m² | E30: =E29 -> 76.3 | F30: 31.1 | G30: =(F30*$E$3)+F30 -> 38.821795 | H30: =E30*G30 -> 2962.103 | I30: 1 | J30: =I30+'BM-02 25'!J30 -> #REF! | K30: =I30*H30 -> 2962.103 | L30: =J30*H30 -> #REF!
A31: 102193 | B31: 3.7 | C31: LIXAMENTOS E PREPARAÇÃO DO FUNDO NIVELADOR | D31: m² | E31: =E30 -> 76.3 | F31: 12.83 | G31: =(F31*$E$3)+F31 -> 16.015551 | H31: =E31*G31 -> 1221.9865 | I31: 1 | J31: =I31+'BM-02 25'!J31 -> #REF! | K31: =I31*H31 -> 1221.9865 | L31: =J31*H31 -> #REF!
A32: 102227 | B32: 3.8 | C32: PINTURA TINTA ESMALTE SINTÉTICO PIGMENTADA 2 DEMÃOS | D32: m² | E32: =E31 -> 76.3 | F32: 24.3 | G32: =(F32*$E$3)+F32 -> 30.333428 | H32: =E32*G32 -> 2314.4406 | I32: 1 | J32: =I32+'BM-02 25'!J32 -> #REF! | K32: =I32*H32 -> 2314.4406 | L32: =J32*H32 -> #REF!
C33: ELEMENTOS DE CONCRETO
A34: 102488 | B34: 3.9 | C34: LIXAMENTO E LIMPEZA DE CONCRETO | D34: m² | E34: 73.24 | F34: 2.93 | G34: =(F34*$E$3)+F34 -> 3.6574875 | H34: =E34*G34 -> 267.87438 | I34: 1 | J34: =I34+'BM-02 25'!J34 -> #REF! | K34: =I34*H34 -> 267.87438 | L34: =J34*H34 -> #REF!
A35: 88485 | B35: 3.10 | C35: PINTURA DE FUNDO SELADOR ACRILICO | D35: m² | E35: =E34 -> 73.24 | F35: 4.17 | G35: =(F35*$E$3)+F35 -> 5.2053661 | H35: =E35*G35 -> 381.24101 | I35: 1 | J35: =I35+'BM-02 25'!J35 -> #REF! | K35: =I35*H35 -> 381.24101 | L35: =J35*H35 -> #REF!
A36: 88489 | B36: 3.11 | C36: PINTURA EM TINTA PREMIUM | D36: m² | E36: =E34 -> 73.24 | F36: 11.57 | G36: =(F36*$E$3)+F36 -> 14.442706 | H36: =E36*G36 -> 1057.7838 | I36: 1 | J36: =I36+'BM-02 25'!J36 -> #REF! | K36: =I36*H36 -> 1057.7838 | L36: =J36*H36 -> #REF!
C37: JANELAS
A38: 102193 | B38: 3.12 | C38: LIXAMENTOS E PREPARAÇÃO DO FUNDO NIVELADOR | D38: m² | E38: 13 | F38: 12.83 | G38: =(F38*$E$3)+F38 -> 16.015551 | H38: =E38*G38 -> 208.20216 | I38: 1 | J38: =I38+'BM-02 25'!J38 -> #REF! | K38: =I38*H38 -> 208.20216 | L38: =J38*H38 -> #REF!
A39: 102197 | B39: 3.13 | C39: PINTURA FUNDO NIVELADORPARA MADEIRA (int. e ext.) | D39: m² | E39: 13 | F39: 31.1 | G39: =(F39*$E$3)+F39 -> 38.821795 | H39: =E39*G39 -> 504.68334 | I39: 1 | J39: =I39+'BM-02 25'!J39 -> #REF! | K39: =I39*H39 -> 504.68334 | L39: =J39*H39 -> #REF!
A40: 102193 | B40: 3.14 | C40: LIXAMENTOS E PREPARAÇÃO DO FUNDO NIVELADOR | D40: m² | E40: =E39 -> 13 | F40: 12.83 | G40: =(F40*$E$3)+F40 -> 16.015551 | H40: =E40*G40 -> 208.20216 | I40: 1 | J40: =I40+'BM-02 25'!J40 -> #REF! | K40: =I40*H40 -> 208.20216 | L40: =J40*H40 -> #REF!
A41: 102227 | B41: 3.15 | C41: PINTURA TINTA ESMALTE SINTÉTICO PIGMENTADA 2 DEMÃOS | D41: m² | E41: =E40 -> 13 | F41: 24.3 | G41: =(F41*$E$3)+F41 -> 30.333428 | H41: =E41*G41 -> 394.33457 | I41: 1 | J41: =I41+'BM-02 25'!J41 -> #REF! | K41: =I41*H41 -> 394.33457 | L41: =J41*H41 -> #REF!
C42: ELEMENTOS METÁLICOS
A43: 100717 | B43: 3.16 | C43: LIXAMENTOS DA TORRE METALICA | D43: m² | E43: 23.21 | F43: 9.18 | G43: =(F43*$E$3)+F43 -> 11.459295 | H43: =E43*G43 -> 265.97024 | I43: 1 | J43: =I43+'BM-02 25'!J43 -> #REF! | K43: =I43*H43 -> 265.97024 | L43: =J43*H43 -> #REF!
...

Sheet BM-02 25
A1: PREFEITURA MUNICIPAL DE SALTO DO JACUÍ
A2: OBRA | B2: REVITALIZAÇÃO DA CAPELA BOM JESUS | D2: ÁREA | E2: 215.48 | F2: m² | G2: Ref. Sinapi: | H2: 45394
A3: LOCAL | B3: AV. CENTRAL JACUI | D3: BDI | E3: =BDI!E12 -> 0.24828924
A4: BOLETIM DE MEDIÇÃO - 01
E5: QUANTIDADES LICITADAS
A6: Código Sinapi | B6: Item | C6: Discriminação | D6: Unid. | E6: Qtde. | F6: Preço Unitário (R$) | G6: Preço Unit+BDI (R$) | H6: Preço Total (R$) | I6: % periodo | J6: % acumulada | K6: valor do BM | L6: acumulado
B8: 1 | C8: SERVIÇOES PRELIMINARES E GERAIS | H8: =SUM(H9:H12) -> 3324.9495 | K8: =SUM(K9:K12) -> 1277.3419 | L8: =SUM(L9:L12) -> #REF!
A9: 97640 | B9: 1.1 | C9: REMOÇÃO DE PILAR DE MADEIRA - 0,20 X 0,15 m | D9: m | E9: 10.5 | F9: 2.22 | G9: =(F9*$E$3)+F9 -> 2.7712021 | H9: =E9*G9 -> 29.097622 | I9: 0 | J9: =I9+'orçamento lateral'!#REF! -> #REF! | K9: =I9*H9 -> 0 | L9: =J9*H9 -> #REF!
A10: 97643 | B10: 1.2 | C10: REMOÇÃO DE PAREDE DE MADEIRA - (macho e femea) | D10: m² | E10: 66.3 | F10: 21.15 | G10: =(F10*$E$3)+F10 -> 26.401317 | H10: =E10*G10 -> 1750.4073 | I10: 0.4 | J10: =I10+'orçamento lateral'!#REF! -> #REF! | K10: =I10*H10 -> 700.16294 | L10: =J10*H10 -> #REF!
A11: 104803 | B11: 1.3 | C11: RETIRADA DE ALGEROZ METALICA - 0,23 X 0,17 (armazenar p/ recolocar) | D11: m | E11: 21 | F11: 3.91 | G11: =(F11*$E$3)+F11 -> 4.8808109 | H11: =E11*G11 -> 102.49703 | I11: 0 | J11: =I11+'orçamento lateral'!#REF! -> #REF! | K11: =I11*H11 -> 0 | L11: =J11*H11 -> #REF!
A12: 102234 | B12: 1.4 | C12: APLICAÇÃO DE TRATAMENTO ANTI-CUPIM E ANTIFUNGICO | D12: m² | E12: 58 | F12: 19.93 | G12: =(F12*$E$3)+F12 -> 24.878405 | H12: =E12*G12 -> 1442.9475 | I12: 0.4 | J12: =I12+'orçamento lateral'!#REF! -> #REF! | K12: =I12*H12 -> 577.17898 | L12: =J12*H12 -> #REF!
B14: 2 | C14: FECHAMENTO E ESTRUTURA | H14: =SUM(H15:H20) -> 37824.339 | K14: =SUM(K15:K20) -> 14460.332 | L14: =SUM(L15:L20) -> #REF!
A15: 96369 | B15: 2.1 | C15: EXECUÇÃO DE PARADE DE MADEIRA C/ ACABAMENTOS | D15: m² | E15: 66.3 | F15: 24.23 | G15: =(F15*$E$3)+F15 -> 30.246048 | H15: =E15*G15 -> 2005.313 | I15: 0.4 | J15: =I15+'orçamento lateral'!#REF! -> #REF! | K15: =I15*H15 -> 802.1252 | L15: =J15*H15 -> #REF!
A16: mercado local | B16: 2.2 | C16: MADEIRA MACHO/FEMEA - TIPO GRAPIA (nas dimensões existentes) | D16: m² | E16: 66.3 | F16: 390 | G16: =(F16*$E$3)+F16 -> 486.8328 | H16: =E16*G16 -> 32277.015 | I16: 0.4 | J16: =I16+'orçamento lateral'!#REF! -> #REF! | K16: =I16*H16 -> 12910.806 | L16: =J16*H16 -> #REF!
A17: 96374 | B17: 2.3 | C17: EXECUÇÃO DE PILAR MADEIRA - 0,20 X 0,15 m (material e mão de obra) | D17: m | E17: 10.5 | F17: 29.35 | G17: =(F17*$E$3)+F17 -> 36.637289 | H17: =E17*G17 -> 384.69154 | I17: 0 | J17: =I17+'orçamento lateral'!#REF! -> #REF! | K17: =I17*H17 -> 0 | L17: =J17*H17 -> #REF!
A18: 100327 | B18: 2.4 | C18: RECOLOCAÇÃO DE ALGEROZ METALICA - 0,23 X 0,17 m (existente) | D18: m² | E18: 7.56 | F18: 6.364 | G18: =(F18*$E$3)+F18 -> 7.9441127 | H18: =E18*G18 -> 60.057492 | I18: 0 | J18: =I18+'orçamento lateral'!#REF! -> #REF! | K18: =I18*H18 -> 0 | L18: =J18*H18 -> #REF!
A19: 96365 | B19: 2.5 | C19: SUBSTITUIÇÃO DOS ESPELHOS DA COBERTURA | D19: m² | E19: 6.13 | F19: 160.58 | G19: =(F19*$E$3)+F19 -> 200.45029 | H19: =E19*G19 -> 1228.7603 | I19: 0 | J19: =I19+'orçamento lateral'!#REF! -> #REF! | K19: =I19*H19 -> 0 | L19: =J19*H19 -> #REF!
A20: 96374 | B20: 2.6 | C20: SUBSTITUIÇÃO DE CAIBRO DE MADEIRA - 0,10 X 0,06 m | D20: m | E20: 51 | F20: 29.35 | G20: =(F20*$E$3)+F20 -> 36.637289 | H20: =E20*G20 -> 1868.5017 | I20: 0.4 | J20: =I20+'orçamento lateral'!#REF! -> #REF! | K20: =I20*H20 -> 747.4007 | L20: =J20*H20 -> #REF!
B22: 3 | C22: PINTURA e PREPARAÇÃO | H22: =SUM(H24:H48) -> 14708.798 | K22: =SUM(K23:K48) -> 0 | L22: =SUM(L23:L48) -> #REF!
C23: PORTAS
A24: 102193 | B24: 3.1 | C24: LIXAMENTOS E PREPARAÇÃO DO FUNDO NIVELADOR | D24: m² | E24: 1.86 | F24: 12.83 | G24: =(F24*$E$3)+F24 -> 16.015551 | H24: =E24*G24 -> 29.788925 | I24: 0 | J24: =I24+'orçamento lateral'!#REF! -> #REF! | K24: =I24*H24 -> 0 | L24: =J24*H24 -> #REF!
A25: 102197 | B25: 3.2 | C25: PINTURA FUNDO NIVELADORPARA MADEIRA, NA PORTA (int. e ext.) | D25: m² | E25: 1.86 | F25: 31.1 | G25: =(F25*$E$3)+F25 -> 38.821795 | H25: =E25*G25 -> 72.208539 | I25: 0 | J25: =I25+'orçamento lateral'!#REF! -> #REF! | K25: =I25*H25 -> 0 | L25: =J25*H25 -> #REF!
A26: 102193 | B26: 3.3 | C26: LIXAMENTOS E PREPARAÇÃO DO FUNDO NIVELADOR | D26: m² | E26: 1.86 | F26: 12.83 | G26: =(F26*$E$3)+F26 -> 16.015551 | H26: =E26*G26 -> 29.788925 | I26: 0 | J26: =I26+'orçamento lateral'!#REF! -> #REF! | K26: =I26*H26 -> 0 | L26: =J26*H26 -> #REF!
A27: 102227 | B27: 3.4 | C27: PINTURA TINTA ESMALTE SINTÉTICO PIGMENTADA 2 DEMÃOS | D27: m² | E27: =E26 -> 1.86 | F27: 24.3 | G27: =(F27*$E$3)+F27 -> 30.333428 | H27: =E27*G27 -> 56.420177 | I27: 0 | J27: =I27+'orçamento lateral'!#REF! -> #REF! | K27: =I27*H27 -> 0 | L27: =J27*H27 -> #REF!
C28: PAREDE, FORRO e ESPELHO
A29: 102193 | B29: 3.5 | C29: LIXAMENTO DE PAREDE PARA APLICAÇÃODE FUNDO PARA MADEIRA | D29: m² | E29: 76.3 | F29: 12.83 | G29: =(F29*$E$3)+F29 -> 16.015551 | H29: =E29*G29 -> 1221.9865 | I29: 0 | J29: =I29+'orçamento lateral'!#REF! -> #REF! | K29: =I29*H29 -> 0 | L29: =J29*H29 -> #REF!
A30: 102197 | B30: 3.6 | C30: PINTURA FUNDO NIVELADOR PARA MADEIRA | D30: m² | E30: =E29 -> 76.3 | F30: 31.1 | G30: =(F30*$E$3)+F30 -> 38.821795 | H30: =E30*G30 -> 2962.103 | I30: 0 | J30: =I30+'orçamento lateral'!#REF! -> #REF! | K30: =I30*H30 -> 0 | L30: =J30*H30 -> #REF!
A31: 102193 | B31: 3.7 | C31: LIXAMENTOS E PREPARAÇÃO DO FUNDO NIVELADOR | D31: m² | E31: =E30 -> 76.3 | F31: 12.83 | G31: =(F31*$E$3)+F31 -> 16.015551 | H31: =E31*G31 -> 1221.9865 | I31: 0 | J31: =I31+'orçamento lateral'!#REF! -> #REF! | K31: =I31*H31 -> 0 | L31: =J31*H31 -> #REF!
A32: 102227 | B32: 3.8 | C32: PINTURA TINTA ESMALTE SINTÉTICO PIGMENTADA 2 DEMÃOS | D32: m² | E32: =E31 -> 76.3 | F32: 24.3 | G32: =(F32*$E$3)+F32 -> 30.333428 | H32: =E32*G32 -> 2314.4406 | I32: 0 | J32: =I32+'orçamento lateral'!#REF! -> #REF! | K32: =I32*H32 -> 0 | L32: =J32*H32 -> #REF!
C33: ELEMENTOS DE CONCRETO
A34: 102488 | B34: 3.9 | C34: LIXAMENTO E LIMPEZA DE CONCRETO | D34: m² | E34: 73.24 | F34: 2.93 | G34: =(F34*$E$3)+F34 -> 3.6574875 | H34: =E34*G34 -> 267.87438 | I34: 0 | J34: =I34+'orçamento lateral'!#REF! -> #REF! | K34: =I34*H34 -> 0 | L34: =J34*H34 -> #REF!
A35: 88485 | B35: 3.10 | C35: PINTURA DE FUNDO SELADOR ACRILICO | D35: m² | E35: =E34 -> 73.24 | F35: 4.17 | G35: =(F35*$E$3)+F35 -> 5.2053661 | H35: =E35*G35 -> 381.24101 | I35: 0 | J35: =I35+'orçamento lateral'!#REF! -> #REF! | K35: =I35*H35 -> 0 | L35: =J35*H35 -> #REF!
A36: 88489 | B36: 3.11 | C36: PINTURA EM TINTA PREMIUM | D36: m² | E36: =E34 -> 73.24 | F36: 11.57 | G36: =(F36*$E$3)+F36 -> 14.442706 | H36: =E36*G36 -> 1057.7838 | I36: 0 | J36: =I36+'orçamento lateral'!#REF! -> #REF! | K36: =I36*H36 -> 0 | L36: =J36*H36 -> #REF!
C37: JANELAS
A38: 102193 | B38: 3.12 | C38: LIXAMENTOS E PREPARAÇÃO DO FUNDO NIVELADOR | D38: m² | E38: 13 | F38: 12.83 | G38: =(F38*$E$3)+F38 -> 16.015551 | H38: =E38*G38 -> 208.20216 | I38: 0 | J38: =I38+'orçamento lateral'!#REF! -> #REF! | K38: =I38*H38 -> 0 | L38: =J38*H38 -> #REF!
A39: 102197 | B39: 3.13 | C39: PINTURA FUNDO NIVELADORPARA MADEIRA (int. e ext.) | D39: m² | E39: 13 | F39: 31.1 | G39: =(F39*$E$3)+F39 -> 38.821795 | H39: =E39*G39 -> 504.68334 | I39: 0 | J39: =I39+'orçamento lateral'!#REF! -> #REF! | K39: =I39*H39 -> 0 | L39: =J39*H39 -> #REF!
A40: 102193 | B40: 3.14 | C40: LIXAMENTOS E PREPARAÇÃO DO FUNDO NIVELADOR | D40: m² | E40: =E39 -> 13 | F40: 12.83 | G40: =(F40*$E$3)+F40 -> 16.015551 | H40: =E40*G40 -> 208.20216 | I40: 0 | J40: =I40+'orçamento lateral'!#REF! -> #REF! | K40: =I40*H40 -> 0 | L40: =J40*H40 -> #REF!
A41: 102227 | B41: 3.15 | C41: PINTURA TINTA ESMALTE SINTÉTICO PIGMENTADA 2 DEMÃOS | D41: m² | E41: =E40 -> 13 | F41: 24.3 | G41: =(F41*$E$3)+F41 -> 30.333428 | H41: =E41*G41 -> 394.33457 | I41: 0 | J41: =I41+'orçamento lateral'!#REF! -> #REF! | K41: =I41*H41 -> 0 | L41: =J41*H41 -> #REF!
C42: ELEMENTOS METÁLICOS
A43: 100717 | B43: 3.16 | C43: LIXAMENTOS DA TORRE METALICA | D43: m² | E43: 23.21 | F43: 9.18 | G43: =(F43*$E$3)+F43 -> 11.459295 | H43: =E43*G43 -> 265.97024 | I43: 0 | J43: =I43+'orçamento lateral'!#REF! -> #REF! | K43: =I43*H43 -> 0 | L43: =J43*H43 -> #REF!
...

Sheet orçamento lateral
A1: PREFEITURA MUNICIPAL DE SALTO DO JACUÍ
A2: OBRA | B2: REVITALIZAÇÃO LATERAL OESTE DA CAPELA BOM JESUS | D2: ÁREA | E2: 215.48 | F2: m² | G2: Ref. Sinapi: | H2: 46003
A3: LOCAL | B3: AV. CENTRAL JACUI | D3: BDI | E3: =BDI!E12 -> 0.24828924
A4: ORÇAMENTO
E5: QUANTIDADES LICITADAS
A6: Código Sinapi | B6: Item | C6: Discriminação | D6: Unid. | E6: Qtde. | F6: Preço Unitário (R$) | G6: Preço Unit+BDI (R$) | H6: Preço Total (R$)
B8: 1 | C8: SERVIÇOES PRELIMINARES E GERAIS | H8: =SUM(H9:H12) -> 3438.11
A9: 97640 | B9: 1.1 | C9: REMOÇÃO DE PILAR DE MADEIRA - 0,20 X 0,15 X 1,50 m | D9: m | E9: 12 | F9: 2.27 | G9: =ROUND((F9*$E$3)+F9,2) -> 2.83 | H9: =ROUND(E9*G9,2) -> 33.96
A10: 97643 | B10: 1.2 | C10: REMOÇÃO DE PAREDE DE MADEIRA - (macho e femea) | D10: m² | E10: 49.47 | F10: 28.22 | G10: =ROUND((F10*$E$3)+F10,2) -> 35.23 | H10: =ROUND(E10*G10,2) -> 1742.83
A11: 104803 | B11: 1.3 | C11: RETIRADA DE ALGEROZ METALICA - 0,23 X 0,17 X 1,5 (armazenar p/ recol.) | D11: m | E11: 18.57 | F11: 5.06 | G11: =ROUND((F11*$E$3)+F11,2) -> 6.32 | H11: =ROUND(E11*G11,2) -> 117.36
A12: 102234 | B12: 1.4 | C12: APLICAÇÃO DE TRATAMENTO ANTI-CUPIM E ANTIFUNGICO | D12: m² | E12: 49.47 | F12: 25 | G12: =ROUND((F12*$E$3)+F12,2) -> 31.21 | H12: =ROUND(E12*G12,2) -> 1543.96
B14: 2 | C14: FECHAMENTO E ESTRUTURA | H14: =SUM(H15:H20) -> 25963.5
A15: 96369 | B15: 2.1 | C15: EXECUÇÃO DE PARADE DE MADEIRA C/ ACABAMENTOS | D15: m² | E15: 49.47 | F15: 36.7 | G15: =ROUND((F15*$E$3)+F15,2) -> 45.81 | H15: =ROUND(E15*G15,2) -> 2266.22
A16: mercado local | B16: 2.2 | C16: MADEIRA MACHO/FEMEA - TIPO GRAPIA (nas dimensões existentes) | D16: m² | E16: 49.47 | F16: 320.5 | G16: =ROUND((F16*$E$3)+F16,2) -> 400.08 | H16: =ROUND(E16*G16,2) -> 19791.96
A17: 96374 | B17: 2.3 | C17: EXECUÇÃO DE PILAR MADEIRA - 0,20X0,15x1,5m (material e mão de obra) | D17: m | E17: 10.6 | F17: 28.6 | G17: =ROUND((F17*$E$3)+F17,2) -> 35.7 | H17: =ROUND(E17*G17,2) -> 378.42
A18: 100327 | B18: 2.4 | C18: RECOLOCAÇÃO DE ALGEROZ METALICA - 0,23 X 0,17 X 1,50 m (existente) | D18: m² | E18: 18.58 | F18: 9.97 | G18: =ROUND((F18*$E$3)+F18,2) -> 12.45 | H18: =ROUND(E18*G18,2) -> 231.32
A19: 96365 | B19: 2.5 | C19: SUBSTITUIÇÃO DOS ESPELHOS DA COBERTURA | D19: m² | E19: 6.5 | F19: 190.13 | G19: =ROUND((F19*$E$3)+F19,2) -> 237.34 | H19: =ROUND(E19*G19,2) -> 1542.71
A20: 96374 | B20: 2.6 | C20: SUBSTITUIÇÃO DE CAIBRO DE MADEIRA - 0,10 X 0,06 x 1,50 m | D20: m | E20: 49.1 | F20: 28.6 | G20: =ROUND((F20*$E$3)+F20,2) -> 35.7 | H20: =ROUND(E20*G20,2) -> 1752.87
B22: 3 | C22: PINTURA e PREPARAÇÃO | H22: =SUM(H24:H45) -> 9766.25
C23: PORTAS
A24: 102193 | B24: 3.1 | C24: LIXAMENTOS E PREPARAÇÃO DO FUNDO NIVELADOR | D24: m² | E24: 10 | F24: 2.22 | G24: =ROUND((F24*$E$3)+F24,2) -> 2.77 | H24: =ROUND(E24*G24,2) -> 27.7
A25: 102197 | B25: 3.2 | C25: PINTURA FUNDO NIVELADORPARA MADEIRA, NA PORTA (int. e ext.) | D25: m² | E25: 10 | F25: 30.13 | G25: =ROUND((F25*$E$3)+F25,2) -> 37.61 | H25: =ROUND(E25*G25,2) -> 376.1
A26: 102193 | B26: 3.3 | C26: LIXAMENTOS E PREPARAÇÃO DO FUNDO NIVELADOR | D26: m² | E26: 10 | F26: =F24 -> 2.22 | G26: =ROUND((F26*$E$3)+F26,2) -> 2.77 | H26: =ROUND(E26*G26,2) -> 27.7
A27: 102227 | B27: 3.4 | C27: PINTURA TINTA ESMALTE SINTÉTICO PIGMENTADA 2 DEMÃOS | D27: m² | E27: 10 | F27: 27.25 | G27: =ROUND((F27*$E$3)+F27,2) -> 34.02 | H27: =ROUND(E27*G27,2) -> 340.2
C28: PAREDE, PILAR e ESPELHO
A29: 102193 | B29: 3.5 | C29: LIXAMENTO DE PAREDE PARA APLICAÇÃODE FUNDO PARA MADEIRA | D29: m² | E29: 63.34 | F29: =F24 -> 2.22 | G29: =ROUND((F29*$E$3)+F29,2) -> 2.77 | H29: =ROUND(E29*G29,2) -> 175.45
A30: 102197 | B30: 3.6 | C30: PINTURA FUNDO NIVELADOR PARA MADEIRA | D30: m² | E30: =E29 -> 63.34 | F30: =F25 -> 30.13 | G30: =ROUND((F30*$E$3)+F30,2) -> 37.61 | H30: =ROUND(E30*G30,2) -> 2382.22
A31: 102193 | B31: 3.7 | C31: LIXAMENTOS E PREPARAÇÃO DO FUNDO NIVELADOR | D31: m² | E31: =E30 -> 63.34 | F31: =F29 -> 2.22 | G31: =ROUND((F31*$E$3)+F31,2) -> 2.77 | H31: =ROUND(E31*G31,2) -> 175.45
A32: 102227 | B32: 3.8 | C32: PINTURA TINTA ESMALTE SINTÉTICO PIGMENTADA 2 DEMÃOS | D32: m² | E32: =E31 -> 63.34 | F32: =F27 -> 27.25 | G32: =ROUND((F32*$E$3)+F32,2) -> 34.02 | H32: =ROUND(E32*G32,2) -> 2154.83
C33: ELEMENTOS DE CONCRETO
A34: 102488 | B34: 3.9 | C34: LIXAMENTO E LIMPEZA DE CONCRETO | D34: m² | E34: 73.24 | F34: 2.93 | G34: =ROUND((F34*$E$3)+F34,2) -> 3.66 | H34: =ROUND(E34*G34,2) -> 268.06
A35: 88485 | B35: 3.10 | C35: PINTURA DE FUNDO SELADOR ACRILICO | D35: m² | E35: =E34 -> 73.24 | F35: 3.97 | G35: =ROUND((F35*$E$3)+F35,2) -> 4.96 | H35: =ROUND(E35*G35,2) -> 363.27
A36: 88489 | B36: 3.11 | C36: PINTURA EM TINTA PREMIUM | D36: m² | E36: =E34 -> 73.24 | F36: 14.3 | G36: =ROUND((F36*$E$3)+F36,2) -> 17.85 | H36: =ROUND(E36*G36,2) -> 1307.33
C37: JANELAS
A38: 102193 | B38: 3.12 | C38: LIXAMENTOS E PREPARAÇÃO DO FUNDO NIVELADOR | D38: m² | E38: 11.4 | F38: =F24 -> 2.22 | G38: =ROUND((F38*$E$3)+F38,2) -> 2.77 | H38: =ROUND(E38*G38,2) -> 31.58
A39: 102197 | B39: 3.13 | C39: PINTURA FUNDO NIVELADORPARA MADEIRA (int. e ext.) | D39: m² | E39: 11.4 | F39: =F25 -> 30.13 | G39: =ROUND((F39*$E$3)+F39,2) -> 37.61 | H39: =ROUND(E39*G39,2) -> 428.75
A40: 102193 | B40: 3.14 | C40: LIXAMENTOS E PREPARAÇÃO DO FUNDO NIVELADOR | D40: m² | E40: =E39 -> 11.4 | F40: =F38 -> 2.22 | G40: =ROUND((F40*$E$3)+F40,2) -> 2.77 | H40: =ROUND(E40*G40,2) -> 31.58
A41: 102227 | B41: 3.15 | C41: PINTURA TINTA ESMALTE SINTÉTICO PIGMENTADA 2 DEMÃOS | D41: m² | E41: =E40 -> 11.4 | F41: =F27 -> 27.25 | G41: =ROUND((F41*$E$3)+F41,2) -> 34.02 | H41: =ROUND(E41*G41,2) -> 387.83
C42: ELEMENTOS METÁLICOS
A43: 100717 | B43: 3.16 | C43: LIXAMENTOS DE ALGEROZ METALICOS | D43: m² | E43: 21.42 | F43: 10.51 | G43: =ROUND((F43*$E$3)+F43,2) -> 13.12 | H43: =ROUND(E43*G43,2) -> 281.03
...

Sheet cronograma lateral
A1: PREFEITURA MUNICIPAL DE SALTO DO JACUÍ
A2: OBRA | B2: ='orçamento lateral'!B2 -> REVITALIZAÇÃO LATERAL OESTE DA CAPELA BOM JESUS | J2: ÁREA | K2: ='orçamento lateral'!E2 -> 215.48
A3: LOCAL | B3: ='orçamento lateral'!B3:C3 -> AV. CENTRAL JACUI
A4: CRONOGRAMA
A6: item | C6: valor | D6: 1º Mês | F6: 2º Mês | H6: 3º Mês | J6: 4º Mês | L6: 5º Mês | N6: 6º Mês | P6: 7º Mês
D7: no mês | E7: acum. | F7: no mês | G7: acum. | H7: no mês | I7: acum. | J7: no mês | K7: acum. | L7: no mês | M7: acum. | N7: no mês | O7: acum. | P7: no mês | Q7: acum.
A8: 1 | B8: ='orçamento lateral'!C8 -> SERVIÇOES PRELIMINARES E GERAIS | C8: ='orçamento lateral'!H8 -> 3438.11 | D8: 0.5 | E8: =D8 -> 0.5 | F8: 0.5 | G8: =E8+F8 -> 1 | I8: =G8+H8 -> 1 | K8: =I8+J8 -> 1 | M8: =K8+L8 -> 1 | O8: =M8+N8 -> 1 | Q8: =O8+P8 -> 1
A9: =A8+1 -> 2 | B9: ='orçamento lateral'!C14 -> FECHAMENTO E ESTRUTURA | C9: ='orçamento lateral'!H14 -> 25963.5 | D9: 0.4 | E9: =D9 -> 0.4 | F9: 0.6 | G9: =E9+F9 -> 1 | I9: =G9+H9 -> 1 | K9: =I9+J9 -> 1 | M9: =K9+L9 -> 1 | O9: =M9+N9 -> 1 | Q9: =O9+P9 -> 1
A10: 3 | B10: ='orçamento lateral'!C22 -> PINTURA e PREPARAÇÃO | C10: ='orçamento lateral'!H22 -> 9766.25 | D10: 0 | E10: =D10 -> 0 | F10: 0.5 | G10: =E10+F10 -> 0.5 | H10: 0.5 | I10: =G10+H10 -> 1 | K10: =I10+J10 -> 1 | M10: =K10+L10 -> 1 | O10: =M10+N10 -> 1 | Q10: =O10+P10 -> 1
A11: 4 | B11: ='orçamento lateral'!C47 -> ESQUADRIAS | C11: ='orçamento lateral'!H47 -> 15951.63 | D11: 0 | E11: =D11 -> 0 | F11: 0.3 | G11: =E11+F11 -> 0.3 | H11: 0.5 | I11: =G11+H11 -> 0.8 | J11: 0.2 | K11: =I11+J11 -> 1 | M11: =K11+L11 -> 1 | O11: =M11+N11 -> 1 | Q11: =O11+P11 -> 1
A12: 5 | B12: ='orçamento lateral'!C54 -> SERVIÇOS COMPLEMENTARES | C12: ='orçamento lateral'!H54 -> 227.78 | D12: 0 | E12: =D12 -> 0 | G12: =E12+F12 -> 0 | I12: =G12+H12 -> 0 | J12: 1 | K12: =I12+J12 -> 1 | M12: =K12+L12 -> 1 | O12: =M12+N12 -> 1 | Q12: =O12+P12 -> 1
A17: TOTAL (%) | D17: =D18/P19 -> 0.21870013 | E17: =D17 -> 0.21870013 | F17: =F18/P19 -> 0.48721046 | G17: =E17+F17 -> 0.70591059 | H17: =H18/P19 -> 0.23233197 | I17: =G17+H17 -> 0.93824255 | J17: =J18/P19 -> 0.061757445 | K17: =I17+J17 -> 1 | L17: =L18/P19 -> 0 | M17: =K17+L17 -> 1 | N17: =N18/P19 -> 0 | O17: =M17+N17 -> 1 | P17: =P18/P19 -> 0 | Q17: =O17+P17 -> 1
B18: Período | D18: =(C8*D8)+(C9*D9)+(C10*D10)+(C11*D11)+(C12*D12)+(C13*D13)+C14*D14 -> 12104.455 | F18: =(C8*F8)+(C9*F9)+(C10*F10)+(C11*F11)+(C12*F12)+(C13*F13)+C14*F14 -> 26965.769 | H18: =(C8*H8)+(C9*H9)+(C10*H10)+(C11*H11)+(C12*H12)+(C13*H13)+C14*H14 -> 12858.94 | J18: =(C8*J8)+(C9*J9)+(C10*J10)+(C11*J11)+(C12*J12)+(C13*J13)+(C14*J14) -> 3418.106 | L18: =(C8*L8)+(C9*L9)+(C10*L10)+(C11*L11)+(C12*L12)+(C13*L13)+(C14*L14) -> 0 | N18: =(C8*N8)+(C9*N9)+(C10*N10)+(C11*N11)+(C12*N12)+(C13*N13)+(C14*N14) -> 0 | P18: =(C8*P8)+(C9*P9)+(C10*P10)+(C11*P11)+(C12*P12)+(C13*P13)+(C14*P14) -> 0
B19: Acumulado | C19: ='orçamento lateral'!H57 -> 55347.27 | D19: =D18 -> 12104.455 | F19: =F18+D19 -> 39070.224 | H19: =H18+F19 -> 51929.164 | J19: =J18+H19 -> 55347.27 | L19: =L18+J19 -> 55347.27 | N19: =N18+L19 -> 55347.27 | P19: =P18+N19 -> 55347.27

Sheet BDI
B2: ITENS | D2: SIGLA | E2: VALORES
B3: TAXA DE RATEIO DA ADMINISTRAÇÃO CENTRAL | D3: AC | E3: 0.038
B4: TAXA DE SEGURO E GARANTIADO EMPREENDIMENTO | D4: S+G | E4: 0.008
B5: TAXA DE RISCO | D5: R | E5: 0.0127
B6: TAXA DE DESPESAS FINANCEIRAS | D6: DF | E6: 0.0123
B7: TAXA DE LUCRO | D7: L | E7: 0.064
B8: TAXAS E TRIBUTOS | C8: PIS (geralmente 0,65%) | D8: I | E8: 0.0065
C9: COFINS (geralmente 3,00%) | E9: 0.03
C10: ISS (legislação municipal) | E10: 0.05
C11: CPRB (INSS) | E11: 0
B12: BDI RESULTANTE | E12: =(((1+(E3+E5+E4))*(1+E6)*(1+E7)/(1-(E8+E9+E10+E11))-1)) -> 0.24828924
