Workbook
Name _______________Ext2: #REF!
Name _______________Ext2: #REF!
Name ______________Ext2: #REF!
Name ______________Ext2: #REF!
Name _____________Ext2: #REF!
Name _____________Ext2: #REF!
Name _____________PL1: #REF!
Name _____________PL1: #REF!
Name ____________Ext2: #REF!
Name ____________Ext2: #REF!
Name ____________ki5: #REF!
Name ____________ki5: #REF!
Name ____________PL1: #REF!
Name ____________PL1: #REF!
Name ___________Ext2: #REF!
Name ___________Ext2: #REF!
Name ___________ki5: #REF!
Name ___________ki5: #REF!
Name ___________PL1: #REF!
Name ___________PL1: #REF!
Name ___________r: #REF!
Name ___________r: #REF!
Name __________Ext2: #REF!
Name __________Ext2: #REF!
Name __________Fev1: #REF!
Name __________Fev1: #REF!
Name __________Jan1: #REF!
Name __________Jan1: #REF!
Name __________ki5: #REF!
Name __________ki5: #REF!
Name __________Mar1: #REF!
Name __________Mar1: #REF!
Name __________PL1: #REF!
Name __________PL1: #REF!
Name __________r: #REF!
Name __________r: #REF!
Name __________Rbv1: #REF!
Name __________Rbv1: #REF!
Name _________A1: #REF!
Name _________A1: #REF!
Name _________A10: #REF!
Name _________A10: #REF!
Name _________A11: #REF!
Name _________A11: #REF!
Name _________A12: #REF!
Name _________A12: #REF!
Name _________A13: #REF!
Name _________A13: #REF!
Name _________A14: #REF!
Name _________A14: #REF!
Name _________A15: #REF!
Name _________A15: #REF!
Name _________A16: #REF!
Name _________A16: #REF!
Name _________A17: #REF!
Name _________A17: #REF!
Name _________A19: #REF!
Name _________A19: #REF!
Name _________A2: #REF!
Name _________A2: #REF!

Sheet Resumo Ruas
A1: Obra | C1: Bancos | D1: Encargos Sociais
A2: Diversas Ruas na Cidade de Salto do Jacuí - RS | C2: SINAPI - 03/2026 - Rio Grande do Sul SICRO3 - 01/2026 - Rio Grande do Sul | D2: Não Desonerado: embutido nos preços unitário dos insumos de mão de obra, de acordo com as bases.
A3: Pavimentação Asfáltica na cidade de Salto do Jacuí | D3: B.D.I.: 23,38%
A4: Planilha Orçamentária Resumida
A5: ITEM | B5: DESCRIÇÃO | C5: RESUMO SOLUÇÃO | D5: TOTAL | E5: PESO (%)
A6: 1 | B6: AVENIDA PIO XII - ACESSO ERS/481 | C6: ALARGAMENTO DE PISTA + REP CBUQ CONVENCIONAL 3,0 cm 100% + Capa CBUQ CONVENCIONAL 3,0 cm 100% + MELHORIAS NO PAISAGISMO E ILUMINAÇÃO | D6: ='Av. Pio XII'!M115 -> 3862969.1 | E6: =D6/$D$14 -> 0.51546751
A7: 2 | B7: AVENIDA CENTRAL DO JACUÍ | C7: DRENAGEM PLUVIAL + REPAROS PROFUNDOS LOCALIZADOS + REP CBUQ CONVENCIONAL 2,5 cm 100% + Capa CBUQ CONVENCIONAL 3,0 cm 60% | D7: ='Av. Central do Jacuí'!M115 -> 1171651.2 | E7: =D7/$D$14 -> 0.15634299
A8: 3 | B8: AVENIDA CENTRAL PRESIDENTE MÉDICE "HOSPITAL" | C8: DRENAGEM PLUVIAL + REPAROS PROFUNDOS LOCALIZADOS + REP CBUQ CONVENCIONAL 2,5 cm 100% + Capa CBUQ CONVENCIONAL 2,5 cm 100% | D8: ='Central Pres. Médice'!M115 -> 250846.1 | E8: =D8/$D$14 -> 0.033472443
A9: 4 | B9: RUA ANDRADE NEVES | C9: DRENAGEM PLUVIAL + REPAROS PROFUNDOS LOCALIZADOS + REP CBUQ CONVENCIONAL 2,5 cm 100% + Capa CBUQ CONVENCIONAL 3,0 cm 100% | D9: ='Andrade Neves'!M115 -> 1076818.4 | E9: =D9/$D$14 -> 0.14368868
A10: 5 | B10: RUA CENÊNCIO FERREIRA | C10: REP CBUQ CONVENCIONAL 2,5 cm 100% + Capa CBUQ CONVENCIONAL 3,0 cm 100% | D10: ='Cenêncio Ferreira'!M115 -> 124780.92 | E10: =D10/$D$14 -> 0.016650537
A11: 6 | B11: RUA SIMIÃO GUERREIRO | C11: REP CBUQ CONVENCIONAL 2,5 cm 100% + Capa CBUQ CONVENCIONAL 3,0 cm 100% | D11: ='Simião Guerreiro'!M115 -> 321085.8 | E11: =D11/$D$14 -> 0.0428451
A12: 7 | B12: RUA ANTÔNIO DE OLIVEIRA | C12: REP CBUQ CONVENCIONAL 2,5 cm 100% + Capa CBUQ CONVENCIONAL 3,0 cm 100% | D12: ='Antônio de Oliveira'!M115 -> 48155.02 | E12: =D12/$D$14 -> 0.0064257175
A13: 8 | B13: AVENIDA MAIA FILHO | C13: MELHORIAS NO PAISAGISMO E ILUMINAÇÃO + CICLOFAIXA | D13: ='Av. Maia Filho'!M115 -> 637801.27 | E13: =D13/$D$14 -> 0.085107031
A14: TOTAL GERAL | D14: =SUM(D6:D13) -> 7494107.9 | E14: =SUM(E6:E13) -> 1
D17: ='Todas as Ruas'!M115 -> 7494107.9

Sheet Resumo Geral
B1: Obra | C1: Bancos | D1: B.D.I. | F1: Encargos Sociais
B2: Pavimentação Asfáltica de Diversas Ruas - Salto do Jacuí - RS | C2: SINAPI - 03/2026 - Rio Grande do Sul SICRO3 - 01/2026 - Rio Grande do Sul | D2: 0.2338 | F2: Não Desonerado: embutido nos preços unitário dos insumos de mão de obra, de acordo com as bases.
A3: Planilha Orçamentária Resumida
A4: Item | B4: Descrição | E4: Quant. | F4: Total | G4: Peso (%)
A5: 1 | B5: AVENIDA PIO XII - SALTO DO JACUÍ | E5: 1 | F5: =SUM(F6:F14) -> 3862969.1 | G5: =F5/$E$88 -> 0.51546751 | H5: ='Av. Pio XII'!M115 -> 3862969.1
A6: 1.1 | B6: SERVIÇOS INICIAIS | E6: 1 | F6: ='Av. Pio XII'!M6 -> 41569.22 | G6: =F6/$E$88 -> 0.0055469204
A7: 1.2 | B7: ADMINISTRAÇÃO LOCAL | E7: 1 | F7: ='Av. Pio XII'!M12 -> 239864.8 | G7: =F7/$E$88 -> 0.032007119
A8: 1.3 | B8: DRENAGEM PLUVIAL | E8: 1 | F8: ='Av. Pio XII'!M24 -> 44546.64 | G8: =F8/$E$88 -> 0.0059442219
A9: 1.4 | B9: PAVIMENTAÇÃO ASFÁLTICA | E9: 1 | F9: ='Av. Pio XII'!M39 -> 2578695.3 | G9: =F9/$E$88 -> 0.34409637
A10: 1.5 | B10: OBRAS COMPLEMENTARES | E10: 1 | F10: ='Av. Pio XII'!M72 -> 224563.19 | G10: =F10/$E$88 -> 0.0299653
A11: 1.6 | B11: SINALIZAÇÃO VIÁRIA | E11: 1 | F11: ='Av. Pio XII'!M74 -> 129031.28 | G11: =F11/$E$88 -> 0.017217697
A12: 1.7 | B12: CONTROLE TECNOLÓGICO | E12: 1 | F12: ='Av. Pio XII'!M86 -> 20329.14 | G12: =F12/$E$88 -> 0.0027126831
A13: 1.8 | B13: SINALIZAÇÃO DE OBRA | E13: 1 | F13: ='Av. Pio XII'!M94 -> 4658.04 | G13: =F13/$E$88 -> 0.00062156031
A14: 1.9 | B14: MELHORIAS NO PAISAGISMO E ILUMINAÇÃO | E14: 1 | F14: ='Av. Pio XII'!M99 -> 579711.48 | G14: =F14/$E$88 -> 0.077355636
A15: 2 | B15: AVENIDA CENTRAL DO JACUÍ - SALTO DO JACUÍ | E15: 1 | F15: =SUM(F16:F24) -> 1171651.2 | G15: =F15/$E$88 -> 0.15634299 | H15: ='Av. Central do Jacuí'!M115 -> 1171651.2
A16: 2.1 | B16: SERVIÇOS INICIAIS | E16: 1 | F16: ='Av. Central do Jacuí'!M6 -> 10253.7 | G16: =F16/$E$88 -> 0.0013682349
A17: 2.2 | B17: ADMINISTRAÇÃO LOCAL | E17: 1 | F17: ='Av. Central do Jacuí'!M12 -> 169653.73 | G17: =F17/$E$88 -> 0.022638282
A18: 2.3 | B18: DRENAGEM PLUVIAL | E18: 1 | F18: ='Av. Central do Jacuí'!M24 -> 183592.45 | G18: =F18/$E$88 -> 0.024498239
A19: 2.4 | B19: PAVIMENTAÇÃO ASFÁLTICA | E19: 1 | F19: ='Av. Central do Jacuí'!M39 -> 759626.41 | G19: =F19/$E$88 -> 0.10136315
A20: 2.5 | B20: OBRAS COMPLEMENTARES | E20: 1 | F20: ='Av. Central do Jacuí'!M72 -> 2918.58 | G20: =F20/$E$88 -> 0.00038944996
A21: 2.6 | B21: SINALIZAÇÃO VIÁRIA | E21: 1 | F21: ='Av. Central do Jacuí'!M74 -> 33075.25 | G21: =F21/$E$88 -> 0.0044135006
A22: 2.7 | B22: CONTROLE TECNOLÓGICO | E22: 1 | F22: ='Av. Central do Jacuí'!M86 -> 10039.97 | G22: =F22/$E$88 -> 0.0013397152
A23: 2.8 | B23: SINALIZAÇÃO DE OBRA | E23: 1 | F23: ='Av. Central do Jacuí'!M94 -> 2491.12 | G23: =F23/$E$88 -> 0.00033241048
A24: 2.9 | B24: MELHORIAS NO PAISAGISMO E ILUMINAÇÃO | E24: 1 | F24: ='Av. Central do Jacuí'!M99 -> 0 | G24: =F24/$E$88 -> 0
A25: 3 | B25: RUA CENTRAL PRESIDENTE MÉDICE - SALTO DO JACUÍ | E25: 1 | F25: =SUM(F26:F34) -> 250846.1 | G25: =F25/$E$88 -> 0.033472443 | H25: ='Central Pres. Médice'!M115 -> 250846.1
A26: 3.1 | B26: SERVIÇOS INICIAIS | E26: 1 | F26: ='Central Pres. Médice'!M6 -> 1336.99 | G26: =F26/$E$88 -> 0.00017840549
A27: 3.2 | B27: ADMINISTRAÇÃO LOCAL | E27: 1 | F27: ='Central Pres. Médice'!M12 -> 30884.44 | G27: =F27/$E$88 -> 0.004121163
A28: 3.3 | B28: DRENAGEM PLUVIAL | E28: 1 | F28: ='Central Pres. Médice'!M24 -> 34658.45 | G28: =F28/$E$88 -> 0.0046247599
A29: 3.4 | B29: PAVIMENTAÇÃO ASFÁLTICA | E29: 1 | F29: ='Central Pres. Médice'!M39 -> 171516.34 | G29: =F29/$E$88 -> 0.022886826
A30: 3.5 | B30: OBRAS COMPLEMENTARES | E30: 1 | F30: ='Central Pres. Médice'!M72 -> 0 | G30: =F30/$E$88 -> 0
A31: 3.6 | B31: SINALIZAÇÃO VIÁRIA | E31: 1 | F31: ='Central Pres. Médice'!M74 -> 9472.33 | G31: =F31/$E$88 -> 0.0012639703
A32: 3.7 | B32: CONTROLE TECNOLÓGICO | E32: 1 | F32: ='Central Pres. Médice'!M86 -> 2977.55 | G32: =F32/$E$88 -> 0.00039731881
A33: 3.8 | B33: SINALIZAÇÃO DE OBRA | E33: 1 | F33: ='Central Pres. Médice'!M94 -> 0 | G33: =F33/$E$88 -> 0
A34: 3.9 | B34: MELHORIAS NO PAISAGISMO E ILUMINAÇÃO | E34: 1 | F34: ='Central Pres. Médice'!M99 -> 0 | G34: =F34/$E$88 -> 0
A35: 4 | B35: RUA ANDRADE NEVES - SALTO DO JACUÍ | E35: 1 | F35: =SUM(F36:F44) -> 1076818.4 | G35: =F35/$E$88 -> 0.14368868 | H35: ='Andrade Neves'!M115 -> 1076818.4
A36: 4.1 | B36: SERVIÇOS INICIAIS | E36: 1 | F36: ='Andrade Neves'!M6 -> 11518.44 | G36: =F36/$E$88 -> 0.0015369995
A37: 4.2 | B37: ADMINISTRAÇÃO LOCAL | E37: 1 | F37: ='Andrade Neves'!M12 -> 113035.15 | G37: =F37/$E$88 -> 0.015083203
A38: 4.3 | B38: DRENAGEM PLUVIAL | E38: 1 | F38: ='Andrade Neves'!M24 -> 226499.74 | G38: =F38/$E$88 -> 0.030223709
A39: 4.4 | B39: PAVIMENTAÇÃO ASFÁLTICA | E39: 1 | F39: ='Andrade Neves'!M39 -> 684921.24 | G39: =F39/$E$88 -> 0.091394633
A40: 4.5 | B40: OBRAS COMPLEMENTARES | E40: 1 | F40: ='Andrade Neves'!M72 -> 8130.33 | G40: =F40/$E$88 -> 0.0010848963
...

Sheet Todas as Ruas
D1: Obra | E1: Bancos | H1: B.D.I. | K1: Encargos Sociais
D2: Todas as Ruas | E2: SINAPI - 03/2026 - RS SICRO3 - 01/2026 - RS | H2: 23,38% | K2: Não Desonerado: embutido nos preços unitário dos insumos de mão de obra, de acordo com as bases.
A3: Planilha Orçamentária Sintética Com Valor do Material e da Mão de Obra
A4: Item | B4: Código | C4: Banco | D4: Descrição | E4: Und | F4: Quant. | G4: Valor Unit | H4: Valor Unit com BDI | K4: Total | N4: Peso (%)
H5: M. O. | I5: MAT. | J5: Total | K5: M. O. | L5: MAT. | M5: Total
A6: 1 | D6: SERVIÇOS INICIAIS | M6: =SUM(M7:M11) -> 72053.05 | N6: =M6 / $M$115 -> 0.0096146267 | O6: ='Simião Guerreiro'!M6+'Antônio de Oliveira'!M6+'Cenêncio Ferreira'!M6+'Central Pres. Médice'!M6+'Av. Central do Jacuí'!M6+'Andrade Neves'!M6+'Av. Pio XII'!M6+'Av. Maia Filho'!M6 -> 72053.04 | P6: =M6-O6 -> 0.01
A7: 1.1 | B7: 106168 | C7: SINAPI | D7: LIMPEZA DE RUA COM JATO DE ALTA PRESSÃO. AF_10/2025 | E7: m² | F7: ='Simião Guerreiro'!F7+'Antônio de Oliveira'!F7+'Cenêncio Ferreira'!F7+'Central Pres. Médice'!F7+'Av. Central do Jacuí'!F7+'Andrade Neves'!F7+'Av. Pio XII'!F7+'Av. Maia Filho'!F7 -> 35458.77 | G7: 0.67 | H7: =ROUND(J7*0.3,2) -> 0.25 | I7: =J7-H7 -> 0.57 | J7: =TRUNC(G7 * (1 + 23.38 / 100), 2) -> 0.82 | K7: =TRUNC(F7 * H7, 2) -> 8864.69 | L7: =M7 - K7 -> 20211.5 | M7: =TRUNC(F7 * J7, 2) -> 29076.19 | N7: =M7 / $M$115 -> 0.0038798734 | S7: =TRUNC(F7*G7,2) -> 23757.37
A8: 01.2 | B8: 4800412 | C8: SICRO3 | D8: Raspagem e limpeza de terreno plano | E8: m² | F8: ='Simião Guerreiro'!F8+'Antônio de Oliveira'!F8+'Cenêncio Ferreira'!F8+'Central Pres. Médice'!F8+'Av. Central do Jacuí'!F8+'Andrade Neves'!F8+'Av. Pio XII'!F8+'Av. Maia Filho'!F8 -> 1037.48 | G8: 5 | H8: 5.86 | I8: 0.3 | J8: =TRUNC(G8 * (1 + 23.38 / 100), 2) -> 6.16 | K8: =TRUNC(F8 * H8, 2) -> 6079.63 | L8: =M8 - K8 -> 311.24 | M8: =TRUNC(F8 * J8, 2) -> 6390.87 | N8: =M8 / $M$115 -> 0.00085278596 | S8: =TRUNC(F8*G8,2) -> 5187.4
A9: 1.3 | B9: MOB01 | C9: Próprio | D9: MOBILIZAÇÃO E DESMOBILIZAÇÃO DE EQUIPAMENTOS | E9: UND | F9: ='Simião Guerreiro'!F9+'Antônio de Oliveira'!F9+'Cenêncio Ferreira'!F9+'Central Pres. Médice'!F9+'Av. Central do Jacuí'!F9+'Andrade Neves'!F9+'Av. Pio XII'!F9+'Av. Maia Filho'!F9 -> 2 | G9: =Mobilização!H17 -> 11428.163 | H9: 461.45 | I9: 10403.4 | J9: =TRUNC(G9 * (1 + 23.38 / 100), 2) -> 14100.06 | K9: =TRUNC(F9 * H9, 2) -> 922.9 | L9: =M9 - K9 -> 27277.22 | M9: =TRUNC(F9 * J9, 2) -> 28200.12 | N9: =M9 / $M$115 -> 0.0037629722 | S9: =TRUNC(F9*G9,2) -> 22856.32
A10: 1.4 | B10: 5213499 | C10: SICRO3 | D10: Placa em aço - 3,00 x 1,50 m - película retrorrefletiva tipo I + III - fornecimento e implantação | E10: un | F10: ='Simião Guerreiro'!F10+'Antônio de Oliveira'!F10+'Cenêncio Ferreira'!F10+'Central Pres. Médice'!F10+'Av. Central do Jacuí'!F10+'Andrade Neves'!F10+'Av. Pio XII'!F10+'Av. Maia Filho'!F10 -> 3 | G10: 1992.46 | H10: 303.82 | I10: 2154.47 | J10: =TRUNC(G10 * (1 + 23.38 / 100), 2) -> 2458.29 | K10: =TRUNC(F10 * H10, 2) -> 911.46 | L10: =M10 - K10 -> 6463.41 | M10: =TRUNC(F10 * J10, 2) -> 7374.87 | N10: =M10 / $M$115 -> 0.00098408911 | S10: =TRUNC(F10*G10,2) -> 5977.38
A11: 1.5 | B11: 5216111 | C11: SICRO3 | D11: Suporte para placa de sinalização em madeira de lei tratada 8 x 8 cm - fornecimento e implantação | E11: un | F11: ='Simião Guerreiro'!F11+'Antônio de Oliveira'!F11+'Cenêncio Ferreira'!F11+'Central Pres. Médice'!F11+'Av. Central do Jacuí'!F11+'Andrade Neves'!F11+'Av. Pio XII'!F11+'Av. Maia Filho'!F11 -> 6 | G11: 136.57 | H11: 25.87 | I11: 142.63 | J11: =TRUNC(G11 * (1 + 23.38 / 100), 2) -> 168.5 | K11: =TRUNC(F11 * H11, 2) -> 155.22 | L11: =M11 - K11 -> 855.78 | M11: =TRUNC(F11 * J11, 2) -> 1011 | N11: =M11 / $M$115 -> 0.00013490598 | S11: =TRUNC(F11*G11,2) -> 819.42
A12: 2 | D12: ADMINISTRAÇÃO LOCAL | M12: =SUM(M13:M23) -> 660474.75 | N12: =M12 / $M$115 -> 0.088132538 | O12: ='Simião Guerreiro'!M12+'Antônio de Oliveira'!M12+'Cenêncio Ferreira'!M12+'Central Pres. Médice'!M12+'Av. Central do Jacuí'!M12+'Andrade Neves'!M12+'Av. Pio XII'!M12+'Av. Maia Filho'!M12 -> 660474.73 | P12: =M12-O12 -> 0.02 | S12: =TRUNC(F12*G12,2) -> 0
A13: 2.1 | B13: P9819 | C13: SICRO3 | D13: Engenheiro supervisor - mensalista | E13: MÊS | F13: ='Simião Guerreiro'!F13+'Antônio de Oliveira'!F13+'Cenêncio Ferreira'!F13+'Central Pres. Médice'!F13+'Av. Central do Jacuí'!F13+'Andrade Neves'!F13+'Av. Pio XII'!F13+'Av. Maia Filho'!F13 -> 2 | G13: 30360.664 | H13: 37458.98 | I13: 0 | J13: =TRUNC(G13 * (1 + 23.38 / 100), 2) -> 37458.98 | K13: =TRUNC(F13 * H13, 2) -> 74917.96 | L13: =M13 - K13 -> 0 | M13: =TRUNC(F13 * J13, 2) -> 74917.96 | N13: =M13 / $M$115 -> 0.009996915 | S13: =TRUNC(F13*G13,2) -> 60721.32
A14: 2.2 | B14: P9840 | C14: SICRO3 | D14: Encarregado geral - mensalista | E14: MÊS | F14: ='Simião Guerreiro'!F14+'Antônio de Oliveira'!F14+'Cenêncio Ferreira'!F14+'Central Pres. Médice'!F14+'Av. Central do Jacuí'!F14+'Andrade Neves'!F14+'Av. Pio XII'!F14+'Av. Maia Filho'!F14 -> 6 | G14: 13144.488 | H14: 16217.66 | I14: 0 | J14: =TRUNC(G14 * (1 + 23.38 / 100), 2) -> 16217.66 | K14: =TRUNC(F14 * H14, 2) -> 97305.96 | L14: =M14 - K14 -> 0 | M14: =TRUNC(F14 * J14, 2) -> 97305.96 | N14: =M14 / $M$115 -> 0.012984329 | S14: =TRUNC(F14*G14,2) -> 78866.92
A15: 2.3 | B15: P9949 | C15: SICRO3 | D15: Topógrafo - mensalista | E15: MÊS | F15: ='Simião Guerreiro'!F15+'Antônio de Oliveira'!F15+'Cenêncio Ferreira'!F15+'Central Pres. Médice'!F15+'Av. Central do Jacuí'!F15+'Andrade Neves'!F15+'Av. Pio XII'!F15+'Av. Maia Filho'!F15 -> 6 | G15: 7296.3649 | H15: 9002.25 | I15: 0 | J15: =TRUNC(G15 * (1 + 23.38 / 100), 2) -> 9002.25 | K15: =TRUNC(F15 * H15, 2) -> 54013.5 | L15: =M15 - K15 -> 0 | M15: =TRUNC(F15 * J15, 2) -> 54013.5 | N15: =M15 / $M$115 -> 0.0072074623 | S15: =TRUNC(F15*G15,2) -> 43778.18
A16: 2.4 | B16: P9950 | C16: SICRO3 | D16: Auxiliar de topografia - mensalista | E16: MÊS | F16: ='Simião Guerreiro'!F16+'Antônio de Oliveira'!F16+'Cenêncio Ferreira'!F16+'Central Pres. Médice'!F16+'Av. Central do Jacuí'!F16+'Andrade Neves'!F16+'Av. Pio XII'!F16+'Av. Maia Filho'!F16 -> 6 | G16: 5189.7538 | H16: 6403.11 | I16: 0 | J16: =TRUNC(G16 * (1 + 23.38 / 100), 2) -> 6403.11 | K16: =TRUNC(F16 * H16, 2) -> 38418.66 | L16: =M16 - K16 -> 0 | M16: =TRUNC(F16 * J16, 2) -> 38418.66 | N16: =M16 / $M$115 -> 0.0051265155 | S16: =TRUNC(F16*G16,2) -> 31138.52
A17: 2.5 | B17: P9893 | C17: SICRO3 | D17: Encarregado de pavimentação - mensalista | E17: MÊS | F17: ='Simião Guerreiro'!F17+'Antônio de Oliveira'!F17+'Cenêncio Ferreira'!F17+'Central Pres. Médice'!F17+'Av. Central do Jacuí'!F17+'Andrade Neves'!F17+'Av. Pio XII'!F17+'Av. Maia Filho'!F17 -> 6 | G17: 8605.0395 | H17: 10616.88 | I17: 0 | J17: =TRUNC(G17 * (1 + 23.38 / 100), 2) -> 10616.89 | K17: =M17 -> 63701.34 | L17: =M17 - K17 -> 0 | M17: =TRUNC(F17 * J17, 2) -> 63701.34 | N17: =M17 / $M$115 -> 0.0085001899 | S17: =TRUNC(F17*G17,2) -> 51630.23
A18: 2.6 | B18: P9875 | C18: SICRO3 | D18: Encarregado de turma - mensalista | E18: MÊS | F18: ='Simião Guerreiro'!F18+'Antônio de Oliveira'!F18+'Cenêncio Ferreira'!F18+'Central Pres. Médice'!F18+'Av. Central do Jacuí'!F18+'Andrade Neves'!F18+'Av. Pio XII'!F18+'Av. Maia Filho'!F18 -> 2 | G18: 5778.4355 | H18: 7129.42 | I18: 0 | J18: =TRUNC(G18 * (1 + 23.38 / 100), 2) -> 7129.43 | K18: =M18 -> 14258.86 | L18: =M18 - K18 -> 0 | M18: =TRUNC(F18 * J18, 2) -> 14258.86 | N18: =M18 / $M$115 -> 0.0019026761 | S18: =TRUNC(F18*G18,2) -> 11556.87
A19: 2.7 | B19: P9804 | C19: SICRO3 | D19: Apontador - mensalista | E19: MÊS | F19: ='Simião Guerreiro'!F19+'Antônio de Oliveira'!F19+'Cenêncio Ferreira'!F19+'Central Pres. Médice'!F19+'Av. Central do Jacuí'!F19+'Andrade Neves'!F19+'Av. Pio XII'!F19+'Av. Maia Filho'!F19 -> 6 | G19: 4987.0395 | H19: 6152.99 | I19: 0 | J19: =TRUNC(G19 * (1 + 23.38 / 100), 2) -> 6153 | K19: =M19 -> 36918 | L19: =M19 - K19 -> 0 | M19: =TRUNC(F19 * J19, 2) -> 36918 | N19: =M19 / $M$115 -> 0.0049262701 | S19: =TRUNC(F19*G19,2) -> 29922.23
A20: 2.8 | B20: P9876 | C20: SICRO3 | D20: Técnico de segurança do trabalho - mensalista | E20: MÊS | F20: ='Simião Guerreiro'!F20+'Antônio de Oliveira'!F20+'Cenêncio Ferreira'!F20+'Central Pres. Médice'!F20+'Av. Central do Jacuí'!F20+'Andrade Neves'!F20+'Av. Pio XII'!F20+'Av. Maia Filho'!F20 -> 6 | G20: 7704.921 | H20: 9506.33 | I20: 0 | J20: =TRUNC(G20 * (1 + 23.38 / 100), 2) -> 9506.33 | K20: =TRUNC(F20 * H20, 2) -> 57037.98 | L20: =M20 - K20 -> 0 | M20: =TRUNC(F20 * J20, 2) -> 57037.98 | N20: =M20 / $M$115 -> 0.0076110433 | S20: =TRUNC(F20*G20,2) -> 46229.52
A21: 2.9 | B21: E9134 | C21: SICRO3 | D21: Miniônibus com capacidade para 30 passageiros - 120 kW | E21: CHP | F21: ='Simião Guerreiro'!F21+'Antônio de Oliveira'!F21+'Cenêncio Ferreira'!F21+'Central Pres. Médice'!F21+'Av. Central do Jacuí'!F21+'Andrade Neves'!F21+'Av. Pio XII'!F21+'Av. Maia Filho'!F21 -> 320 | G21: 245.1778 | H21: 0 | I21: 302.49 | J21: =TRUNC(G21 * (1 + 23.38 / 100), 2) -> 302.5 | K21: =TRUNC(F21 * H21, 2) -> 0 | L21: =M21 - K21 -> 96800 | M21: =TRUNC(F21 * J21, 2) -> 96800 | N21: =M21 / $M$115 -> 0.012916814 | S21: =TRUNC(F21*G21,2) -> 78456.89
A22: 2.10 | B22: E9134 | C22: SICRO3 | D22: Miniônibus com capacidade para 30 passageiros - 120 kW | E22: CHI | F22: ='Simião Guerreiro'!F22+'Antônio de Oliveira'!F22+'Cenêncio Ferreira'!F22+'Central Pres. Médice'!F22+'Av. Central do Jacuí'!F22+'Andrade Neves'!F22+'Av. Pio XII'!F22+'Av. Maia Filho'!F22 -> 120 | G22: 245.1778 | H22: 0 | I22: 302.49 | J22: =TRUNC(G22 * (1 + 23.38 / 100), 2) -> 302.5 | K22: =TRUNC(F22 * H22, 2) -> 0 | L22: =M22 - K22 -> 36300 | M22: =TRUNC(F22 * J22, 2) -> 36300 | N22: =M22 / $M$115 -> 0.0048438054 | S22: =TRUNC(F22*G22,2) -> 29421.33
A23: 2.11 | B23: M0295 | C23: SICRO3 | D23: Estrutura modular com revestimento térmico, janela e banheiro - L = 2,44 m e C = 6,06 m (1 TEU) | E23: UND | F23: ='Simião Guerreiro'!F23+'Antônio de Oliveira'!F23+'Cenêncio Ferreira'!F23+'Central Pres. Médice'!F23+'Av. Central do Jacuí'!F23+'Andrade Neves'!F23+'Av. Pio XII'!F23+'Av. Maia Filho'!F23 -> 1 | G23: 73595.798 | H23: 0 | I23: 90802.48 | J23: =TRUNC(G23 * (1 + 23.38 / 100), 2) -> 90802.49 | K23: =TRUNC(F23 * H23, 2) -> 0 | L23: =M23 - K23 -> 90802.49 | M23: =TRUNC(F23 * J23, 2) -> 90802.49 | N23: =M23 / $M$115 -> 0.012116518 | S23: =TRUNC(F23*G23,2) -> 73595.79
A24: 3 | D24: DRENAGEM PLUVIAL | M24: =SUM(M25:M38) -> 489297.28 | N24: =M24 / $M$115 -> 0.065290931 | O24: ='Simião Guerreiro'!M24+'Antônio de Oliveira'!M24+'Cenêncio Ferreira'!M24+'Central Pres. Médice'!M24+'Av. Central do Jacuí'!M24+'Andrade Neves'!M24+'Av. Pio XII'!M24+'Av. Maia Filho'!M24 -> 489297.28 | P24: =M24-O24 -> 0 | S24: =TRUNC(F24*G24,2) -> 0
A25: 3.1 | B25: 4805757 | C25: SICRO3 | D25: Escavação mecânica de vala em material de 1ª categoria | E25: m³ | F25: ='Simião Guerreiro'!F25+'Antônio de Oliveira'!F25+'Cenêncio Ferreira'!F25+'Central Pres. Médice'!F25+'Av. Central do Jacuí'!F25+'Andrade Neves'!F25+'Av. Pio XII'!F25+'Av. Maia Filho'!F25 -> 1283.75 | G25: 7.03 | H25: 1.12 | I25: 7.55 | J25: =TRUNC(G25 * (1 + 23.38 / 100), 2) -> 8.67 | K25: =TRUNC(F25 * H25, 2) -> 1437.8 | L25: =M25 - K25 -> 9692.31 | M25: =TRUNC(F25 * J25, 2) -> 11130.11 | N25: =M25 / $M$115 -> 0.0014851814 | S25: =TRUNC(F25*G25,2) -> 9024.76
A26: 3.2 | B26: 2003850 | C26: SICRO3 | D26: Lastro de brita comercial compactado com soquete vibratório - espalhamento manual | E26: m³ | F26: ='Simião Guerreiro'!F26+'Antônio de Oliveira'!F26+'Cenêncio Ferreira'!F26+'Central Pres. Médice'!F26+'Av. Central do Jacuí'!F26+'Andrade Neves'!F26+'Av. Pio XII'!F26+'Av. Maia Filho'!F26 -> 42.2 | G26: 163.35 | H26: 12.29 | I26: 189.25 | J26: =TRUNC(G26 * (1 + 23.38 / 100), 2) -> 201.54 | K26: =TRUNC(F26 * H26, 2) -> 518.63 | L26: =M26 - K26 -> 7986.35 | M26: =TRUNC(F26 * J26, 2) -> 8504.98 | N26: =M26 / $M$115 -> 0.0011348889 | S26: =TRUNC(F26*G26,2) -> 6893.37
A27: 3.3 | B27: 0804021 | C27: SICRO3 | D27: Corpo de BSTC D = 0,60 m PA1 - areia, brita e pedra de mão comerciais | E27: m | F27: ='Simião Guerreiro'!F27+'Antônio de Oliveira'!F27+'Cenêncio Ferreira'!F27+'Central Pres. Médice'!F27+'Av. Central do Jacuí'!F27+'Andrade Neves'!F27+'Av. Pio XII'!F27+'Av. Maia Filho'!F27 -> 196 | G27: 470.66 | H27: 66.45 | I27: 514.25 | J27: =TRUNC(G27 * (1 + 23.38 / 100), 2) -> 580.7 | K27: =TRUNC(F27 * H27, 2) -> 13024.2 | L27: =M27 - K27 -> 100793 | M27: =TRUNC(F27 * J27, 2) -> 113817.2 | N27: =M27 / $M$115 -> 0.015187558 | S27: =TRUNC(F27*G27,2) -> 92249.36
A28: 3.4 | B28: 4815671 | C28: SICRO3 | D28: Reaterro e compactação com soquete vibratório | E28: m³ | F28: ='Simião Guerreiro'!F28+'Antônio de Oliveira'!F28+'Cenêncio Ferreira'!F28+'Central Pres. Médice'!F28+'Av. Central do Jacuí'!F28+'Andrade Neves'!F28+'Av. Pio XII'!F28+'Av. Maia Filho'!F28 -> 284.92 | G28: 20.21 | H28: 18.85 | I28: 6.08 | J28: =TRUNC(G28 * (1 + 23.38 / 100), 2) -> 24.93 | K28: =TRUNC(F28 * H28, 2) -> 5370.74 | L28: =M28 - K28 -> 1732.31 | M28: =TRUNC(F28 * J28, 2) -> 7103.05 | N28: =M28 / $M$115 -> 0.00094781795 | S28: =TRUNC(F28*G28,2) -> 5758.23
A29: 3.5 | B29: 4011276 | C29: SICRO3 | D29: Base ou sub-base de brita graduada com brita comercial - 100% Proctor modificado | E29: m³ | F29: ='Simião Guerreiro'!F29+'Antônio de Oliveira'!F29+'Cenêncio Ferreira'!F29+'Central Pres. Médice'!F29+'Av. Central do Jacuí'!F29+'Andrade Neves'!F29+'Av. Pio XII'!F29+'Av. Maia Filho'!F29 -> 29.4 | G29: 240.05 | H29: 1.03 | I29: 295.14 | J29: =TRUNC(G29 * (1 + 23.38 / 100), 2) -> 296.17 | K29: =TRUNC(F29 * H29, 2) -> 30.28 | L29: =M29 - K29 -> 8677.11 | M29: =TRUNC(F29 * J29, 2) -> 8707.39 | N29: =M29 / $M$115 -> 0.0011618981 | S29: =TRUNC(F29*G29,2) -> 7057.47
A30: 3.6 | B30: 5914389 | C30: SICRO3 | D30: Transporte com caminhão basculante de 10 m³ - rodovia pavimentada | E30: tkm | F30: ='Simião Guerreiro'!F30+'Antônio de Oliveira'!F30+'Cenêncio Ferreira'!F30+'Central Pres. Médice'!F30+'Av. Central do Jacuí'!F30+'Andrade Neves'!F30+'Av. Pio XII'!F30+'Av. Maia Filho'!F30 -> 9054.31 | G30: 0.82 | H30: 0 | I30: 1.01 | J30: =TRUNC(G30 * (1 + 23.38 / 100), 2) -> 1.01 | K30: =TRUNC(F30 * H30, 2) -> 0 | L30: =M30 - K30 -> 9144.85 | M30: =TRUNC(F30 * J30, 2) -> 9144.85 | N30: =M30 / $M$115 -> 0.001220272 | S30: =TRUNC(F30*G30,2) -> 7424.53
A31: 3.7 | B31: 4011351 | C31: SICRO3 | D31: Imprimação com asfalto diluído | E31: m² | F31: ='Simião Guerreiro'!F31+'Antônio de Oliveira'!F31+'Cenêncio Ferreira'!F31+'Central Pres. Médice'!F31+'Av. Central do Jacuí'!F31+'Andrade Neves'!F31+'Av. Pio XII'!F31+'Av. Maia Filho'!F31 -> 196 | G31: 0.56 | H31: 0.05 | I31: 0.64 | J31: =TRUNC(G31 * (1 + 23.38 / 100), 2) -> 0.69 | K31: =TRUNC(F31 * H31, 2) -> 9.8 | L31: =M31 - K31 -> 125.44 | M31: =TRUNC(F31 * J31, 2) -> 135.24 | N31: =M31 / $M$115 -> 1.8046177e-05 | S31: =TRUNC(F31*G31,2) -> 109.76
A32: 3.8 | B32: M0104 | C32: SICRO3 | D32: Asfalto diluído de petróleo - CM-30 | E32: t | F32: ='Simião Guerreiro'!F32+'Antônio de Oliveira'!F32+'Cenêncio Ferreira'!F32+'Central Pres. Médice'!F32+'Av. Central do Jacuí'!F32+'Andrade Neves'!F32+'Av. Pio XII'!F32+'Av. Maia Filho'!F32 -> 0.2 | G32: 3122.09 | H32: 0 | I32: 3590.4 | J32: =TRUNC(G32 * (1 + 15 / 100), 2) &CHAR(10)& "(15.0%)" -> 3590,4 (15.0%) | K32: =TRUNC(F32 * H32, 2) -> 0 | L32: =M32 - K32 -> 718.08 | M32: =TRUNC((F32 * 1 ) * TRUNC(G32 * (1 + 15 / 100), 2), 2) -> 718.08 | N32: =M32 / $M$115 -> 9.5819277e-05 | S32: =TRUNC(F32*G32,2) -> 624.41
A33: 3.9 | B33: 102330 | C33: SINAPI | D33: TRANSPORTE COM CAMINHÃO TANQUE DE TRANSPORTE DE MATERIAL ASFÁLTICO DE 30000 L, EM VIA URBANA PAVIMENTADA, DMT ATÉ 30KM (UNIDADE: TXKM). AF_02/2026 | E33: TXKM | F33: ='Simião Guerreiro'!F33+'Antônio de Oliveira'!F33+'Cenêncio Ferreira'!F33+'Central Pres. Médice'!F33+'Av. Central do Jacuí'!F33+'Andrade Neves'!F33+'Av. Pio XII'!F33+'Av. Maia Filho'!F33 -> 6 | G33: 1.69 | H33: 0.13 | I33: 1.95 | J33: =TRUNC(G33 * (1 + 23.38 / 100), 2) -> 2.08 | K33: =TRUNC(F33 * H33, 2) -> 0.78 | L33: =M33 - K33 -> 11.7 | M33: =TRUNC(F33 * J33, 2) -> 12.48 | N33: =M33 / $M$115 -> 1.6653083e-06 | S33: =TRUNC(F33*G33,2) -> 10.14
A34: 3.10 | B34: 102331 | C34: SINAPI | D34: TRANSPORTE COM CAMINHÃO TANQUE DE TRANSPORTE DE MATERIAL ASFÁLTICO DE 30000 L, EM VIA URBANA PAVIMENTADA, ADICIONAL PARA DMT EXCEDENTE A 30 KM (UNIDADE: TXKM). AF_02/2026 | E34: TXKM | F34: ='Simião Guerreiro'!F34+'Antônio de Oliveira'!F34+'Cenêncio Ferreira'!F34+'Central Pres. Médice'!F34+'Av. Central do Jacuí'!F34+'Andrade Neves'!F34+'Av. Pio XII'!F34+'Av. Maia Filho'!F34 -> 61.8 | G34: 0.64 | H34: 0.05 | I34: 0.73 | J34: =TRUNC(G34 * (1 + 23.38 / 100), 2) -> 0.78 | K34: =TRUNC(F34 * H34, 2) -> 3.09 | L34: =M34 - K34 -> 45.11 | M34: =TRUNC(F34 * J34, 2) -> 48.2 | N34: =M34 / $M$115 -> 6.4317195e-06 | S34: =TRUNC(F34*G34,2) -> 39.55
A35: 3.11 | B35: 2003517 | C35: SICRO3 | D35: Caixa coletora de sarjeta - CCS 200-60 B - com grelha de aço - areia e brita comerciais | E35: un | F35: ='Simião Guerreiro'!F35+'Antônio de Oliveira'!F35+'Cenêncio Ferreira'!F35+'Central Pres. Médice'!F35+'Av. Central do Jacuí'!F35+'Andrade Neves'!F35+'Av. Pio XII'!F35+'Av. Maia Filho'!F35 -> 14 | G35: 4969.53 | H35: 2317.22 | I35: 3814.18 | J35: =TRUNC(G35 * (1 + 23.38 / 100), 2) -> 6131.4 | K35: =TRUNC(F35 * H35, 2) -> 32441.08 | L35: =M35 - K35 -> 53398.52 | M35: =TRUNC(F35 * J35, 2) -> 85839.6 | N35: =M35 / $M$115 -> 0.011454279 | S35: =TRUNC(F35*G35,2) -> 69573.42
A36: 3.12 | B36: 1023 | C36: Próprio | D36: REFORMA E NIVELAMENTO BOCA DE LOBO EXISTENTE COM GRELHA DE FERRO (COM DIMENSÕES ATÉ 1,40 X 1,40 m) | E36: un | F36: ='Simião Guerreiro'!F36+'Antônio de Oliveira'!F36+'Cenêncio Ferreira'!F36+'Central Pres. Médice'!F36+'Av. Central do Jacuí'!F36+'Andrade Neves'!F36+'Av. Pio XII'!F36+'Av. Maia Filho'!F36 -> 19 | G36: 1900.28 | H36: =J36-I36 -> 468.91 | I36: =ROUND(J36*0.8,2) -> 1875.65 | J36: =TRUNC(G36 * (1 + 23.38 / 100), 2) -> 2344.56 | K36: =TRUNC(F36 * H36, 2) -> 8909.29 | L36: =M36 - K36 -> 35637.35 | M36: =TRUNC(F36 * J36, 2) -> 44546.64 | N36: =M36 / $M$115 -> 0.0059442219
A37: 3.13 | B37: 2003261 | C37: SICRO3 | D37: Sarjeta triangular de concreto - STC 80-15 - escavação mecânica - areia e brita comerciais | E37: m | F37: ='Simião Guerreiro'!F37+'Antônio de Oliveira'!F37+'Cenêncio Ferreira'!F37+'Central Pres. Médice'!F37+'Av. Central do Jacuí'!F37+'Andrade Neves'!F37+'Av. Pio XII'!F37+'Av. Maia Filho'!F37 -> 3103.19 | G37: 51.88 | H37: 13.89 | I37: 50.11 | J37: =TRUNC(G37 * (1 + 23.38 / 100), 2) -> 64 | K37: =TRUNC(F37 * H37, 2) -> 43103.3 | L37: =M37 - K37 -> 155500.86 | M37: =TRUNC(F37 * J37, 2) -> 198604.16 | N37: =M37 / $M$115 -> 0.026501374 | S37: =TRUNC(F37*G37,2) -> 160993.49
A38: 3.14 | B38: 0804081 | C38: SICRO3 | D38: Boca de BSTC D = 0,60 m - esconsidade 0° - areia e brita comerciais - alas retas | E38: un | F38: ='Simião Guerreiro'!F38+'Antônio de Oliveira'!F38+'Cenêncio Ferreira'!F38+'Central Pres. Médice'!F38+'Av. Central do Jacuí'!F38+'Andrade Neves'!F38+'Av. Pio XII'!F38+'Av. Maia Filho'!F38 -> 1 | G38: 798.59 | H38: 324.84 | I38: 660.46 | J38: =TRUNC(G38 * (1 + 23.38 / 100), 2) -> 985.3 | K38: =TRUNC(F38 * H38, 2) -> 324.84 | L38: =M38 - K38 -> 660.46 | M38: =TRUNC(F38 * J38, 2) -> 985.3 | N38: =M38 / $M$115 -> 0.00013147662 | S38: =TRUNC(F38*G38,2) -> 798.59
A39: 4 | D39: PAVIMENTAÇÃO ASFÁLTICA | M39: =M40+M50+M60 -> 4574505.5 | N39: =M39 / $M$115 -> 0.61041361 | O39: ='Simião Guerreiro'!M39+'Antônio de Oliveira'!M39+'Cenêncio Ferreira'!M39+'Central Pres. Médice'!M39+'Av. Central do Jacuí'!M39+'Andrade Neves'!M39+'Av. Pio XII'!M39 -> 4574505.5 | P39: =M39-O39 -> -0.02 | S39: =TRUNC(F39*G39,2) -> 0
A40: 4.1 | D40: REPERFILAGEM | M40: =SUM(M41:M49) -> 1470080.6 | N40: =M40 / $M$115 -> 0.19616485 | O40: ='Simião Guerreiro'!M40+'Antônio de Oliveira'!M40+'Cenêncio Ferreira'!M40+'Central Pres. Médice'!M40+'Av. Central do Jacuí'!M40+'Andrade Neves'!M40+'Av. Pio XII'!M40 -> 1470080.6 | P40: =M40-O40 -> 0 | S40: =TRUNC(F40*G40,2) -> 0
...

Sheet Simião Guerreiro
D1: Obra | E1: Bancos | H1: B.D.I. | K1: Encargos Sociais
D2: Rua Simião Guerreiro | E2: SINAPI - 03/2026 - RS SICRO3 - 01/2026 - RS | H2: 23,38% | K2: Não Desonerado: embutido nos preços unitário dos insumos de mão de obra, de acordo com as bases.
A3: Planilha Orçamentária Sintética Com Valor do Material e da Mão de Obra
A4: Item | B4: Código | C4: Banco | D4: Descrição | E4: Und | F4: Quant. | G4: Valor Unit | H4: Valor Unit com BDI | K4: Total | N4: Peso (%)
H5: M. O. | I5: MAT. | J5: Total | K5: M. O. | L5: MAT. | M5: Total
A6: 1 | D6: SERVIÇOS INICIAIS | M6: =SUM(M7:M11) -> 4060.13 | N6: =M6 / $M$115 -> 0.012645
A7: 1.1 | B7: 106168 | C7: SINAPI | D7: LIMPEZA DE RUA COM JATO DE ALTA PRESSÃO. AF_10/2025 | E7: m² | F7: 2827.4 | G7: ='Todas as Ruas'!G7 -> 0.67 | H7: ='Todas as Ruas'!H7 -> 0.25 | I7: ='Todas as Ruas'!I7 -> 0.57 | J7: ='Todas as Ruas'!J7 -> 0.82 | K7: =ROUND(F7 * H7, 2) -> 706.85 | L7: =M7 - K7 -> 1611.61 | M7: =TRUNC(F7 * J7, 2) -> 2318.46 | N7: =M7 / $M$115 -> 0.0072206868 | O7: =TRUNC(F7*G7,2) -> 1894.35
A8: 01.2 | B8: 4800412 | C8: SICRO3 | D8: Raspagem e limpeza de terreno plano | E8: m² | F8: =ROUND(F7*0.1,2) -> 282.74 | G8: ='Todas as Ruas'!G8 -> 5 | H8: ='Todas as Ruas'!H8 -> 5.86 | I8: ='Todas as Ruas'!I8 -> 0.3 | J8: ='Todas as Ruas'!J8 -> 6.16 | K8: =ROUND(F8 * H8, 2) -> 1656.86 | L8: =M8 - K8 -> 84.81 | M8: =TRUNC(F8 * J8, 2) -> 1741.67 | N8: =M8 / $M$115 -> 0.0054243134 | O8: =TRUNC(F8*G8,2) -> 1413.7
A9: 1.3 | B9: MOB01 | C9: Próprio | D9: MOBILIZAÇÃO E DESMOBILIZAÇÃO DE EQUIPAMENTOS | E9: UND | F9: 0 | G9: ='Todas as Ruas'!G9 -> 11428.163 | H9: ='Todas as Ruas'!H9 -> 461.45 | I9: ='Todas as Ruas'!I9 -> 10403.4 | J9: ='Todas as Ruas'!J9 -> 14100.06 | K9: =ROUND(F9 * H9, 2) -> 0 | L9: =M9 - K9 -> 0 | M9: =ROUND(F9 * J9, 2) -> 0 | N9: =M9 / $M$115 -> 0 | O9: =TRUNC(F9*G9,2) -> 0
A10: 1.4 | B10: 5213499 | C10: SICRO3 | D10: Placa em aço - 3,00 x 1,50 m - película retrorrefletiva tipo I + III - fornecimento e implantação | E10: un | F10: 0 | G10: ='Todas as Ruas'!G10 -> 1992.46 | H10: ='Todas as Ruas'!H10 -> 303.82 | I10: ='Todas as Ruas'!I10 -> 2154.47 | J10: ='Todas as Ruas'!J10 -> 2458.29 | K10: =ROUND(F10 * H10, 2) -> 0 | L10: =M10 - K10 -> 0 | M10: =ROUND(F10 * J10, 2) -> 0 | N10: =M10 / $M$115 -> 0 | O10: =TRUNC(F10*G10,2) -> 0
A11: 1.5 | B11: 5216111 | C11: SICRO3 | D11: Suporte para placa de sinalização em madeira de lei tratada 8 x 8 cm - fornecimento e implantação | E11: un | F11: 0 | G11: ='Todas as Ruas'!G11 -> 136.57 | H11: ='Todas as Ruas'!H11 -> 25.87 | I11: ='Todas as Ruas'!I11 -> 142.63 | J11: ='Todas as Ruas'!J11 -> 168.5 | K11: =ROUND(F11 * H11, 2) -> 0 | L11: =M11 - K11 -> 0 | M11: =ROUND(F11 * J11, 2) -> 0 | N11: =M11 / $M$115 -> 0 | O11: =TRUNC(F11*G11,2) -> 0
A12: 2 | D12: ADMINISTRAÇÃO LOCAL | M12: =SUM(M13:M23) -> 51776.79 | N12: =M12 / $M$115 -> 0.16125531 | O12: =TRUNC(F12*G12,2) -> 0
A13: 2.1 | B13: P9819 | C13: SICRO3 | D13: Engenheiro supervisor - mensalista | E13: mês | F13: =TRUNC(($F$7/'Todas as Ruas'!$F$7)*2,2) -> 0.15 | G13: ='Todas as Ruas'!G13 -> 30360.664 | H13: ='Todas as Ruas'!H13 -> 37458.98 | I13: ='Todas as Ruas'!I13 -> 0 | J13: ='Todas as Ruas'!J13 -> 37458.98 | K13: =M13 -> 5618.84 | L13: =M13 - K13 -> 0 | M13: =TRUNC(F13 * J13, 2) -> 5618.84 | N13: =M13 / $M$115 -> 0.017499497 | O13: =TRUNC(F13*G13,2) -> 4554.09
A14: 2.2 | B14: P9840 | C14: SICRO3 | D14: Encarregado geral - mensalista | E14: mês | F14: =TRUNC(($F$7/'Todas as Ruas'!$F$7)*6,2) -> 0.47 | G14: ='Todas as Ruas'!G14 -> 13144.488 | H14: ='Todas as Ruas'!H14 -> 16217.66 | I14: ='Todas as Ruas'!I14 -> 0 | J14: ='Todas as Ruas'!J14 -> 16217.66 | K14: =M14 -> 7622.3 | L14: =M14 - K14 -> 0 | M14: =TRUNC(F14 * J14, 2) -> 7622.3 | N14: =M14 / $M$115 -> 0.023739138 | O14: =TRUNC(F14*G14,2) -> 6177.9
A15: 02.3 | B15: P9949 | C15: SICRO3 | D15: Topógrafo - mensalista | E15: mês | F15: =TRUNC(($F$7/'Todas as Ruas'!$F$7)*6,2) -> 0.47 | G15: ='Todas as Ruas'!G15 -> 7296.3649 | H15: ='Todas as Ruas'!H15 -> 9002.25 | I15: ='Todas as Ruas'!I15 -> 0 | J15: ='Todas as Ruas'!J15 -> 9002.25 | K15: =M15 -> 4231.05 | L15: =M15 - K15 -> 0 | M15: =TRUNC(F15 * J15, 2) -> 4231.05 | N15: =M15 / $M$115 -> 0.013177319 | O15: =TRUNC(F15*G15,2) -> 3429.29
A16: 2.4 | B16: P9950 | C16: SICRO3 | D16: Auxiliar de topografia - mensalista | E16: mês | F16: =TRUNC(($F$7/'Todas as Ruas'!$F$7)*6,2) -> 0.47 | G16: ='Todas as Ruas'!G16 -> 5189.7538 | H16: ='Todas as Ruas'!H16 -> 6403.11 | I16: ='Todas as Ruas'!I16 -> 0 | J16: ='Todas as Ruas'!J16 -> 6403.11 | K16: =M16 -> 3009.46 | L16: =M16 - K16 -> 0 | M16: =TRUNC(F16 * J16, 2) -> 3009.46 | N16: =M16 / $M$115 -> 0.0093727596 | O16: =TRUNC(F16*G16,2) -> 2439.18
A17: 2.5 | B17: P9893 | C17: SICRO3 | D17: Encarregado de pavimentação - mensalista | E17: mês | F17: =TRUNC(($F$7/'Todas as Ruas'!$F$7)*6,2) -> 0.47 | G17: ='Todas as Ruas'!G17 -> 8605.0395 | H17: ='Todas as Ruas'!H17 -> 10616.88 | I17: ='Todas as Ruas'!I17 -> 0 | J17: ='Todas as Ruas'!J17 -> 10616.89 | K17: =M17 -> 4989.94 | L17: =M17 - K17 -> 0 | M17: =ROUND(F17 * J17, 2) -> 4989.94 | N17: =M17 / $M$115 -> 0.015540831 | O17: =TRUNC(F17*G17,2) -> 4044.36
A18: 2.6 | B18: P9875 | C18: SICRO3 | D18: Encarregado de turma - mensalista | E18: mês | F18: =TRUNC(($F$7/'Todas as Ruas'!$F$7)*2,2) -> 0.15 | G18: ='Todas as Ruas'!G18 -> 5778.4355 | H18: ='Todas as Ruas'!H18 -> 7129.42 | I18: ='Todas as Ruas'!I18 -> 0 | J18: ='Todas as Ruas'!J18 -> 7129.43 | K18: =ROUND(F18 * H18, 2) -> 1069.41 | L18: =M18 - K18 -> 0 | M18: =ROUND(F18 * J18, 2) -> 1069.41 | N18: =M18 / $M$115 -> 0.0033306051 | O18: =TRUNC(F18*G18,2) -> 866.76
A19: 2.7 | B19: P9804 | C19: SICRO3 | D19: Apontador - mensalista | E19: mês | F19: =TRUNC(($F$7/'Todas as Ruas'!$F$7)*6,2) -> 0.47 | G19: ='Todas as Ruas'!G19 -> 4987.0395 | H19: ='Todas as Ruas'!H19 -> 6152.99 | I19: ='Todas as Ruas'!I19 -> 0 | J19: ='Todas as Ruas'!J19 -> 6153 | K19: =M19 -> 2891.91 | L19: =M19 - K19 -> 0 | M19: =ROUND(F19 * J19, 2) -> 2891.91 | N19: =M19 / $M$115 -> 0.009006658 | O19: =TRUNC(F19*G19,2) -> 2343.9
A20: 2.8 | B20: P9876 | C20: SICRO3 | D20: Técnico de segurança do trabalho - mensalista | E20: mês | F20: =TRUNC(($F$7/'Todas as Ruas'!$F$7)*6,2) -> 0.47 | G20: ='Todas as Ruas'!G20 -> 7704.921 | H20: ='Todas as Ruas'!H20 -> 9506.33 | I20: ='Todas as Ruas'!I20 -> 0 | J20: ='Todas as Ruas'!J20 -> 9506.33 | K20: =ROUND(F20 * H20, 2) -> 4467.98 | L20: =M20 - K20 -> 0 | M20: =ROUND(F20 * J20, 2) -> 4467.98 | N20: =M20 / $M$115 -> 0.013915221 | O20: =TRUNC(F20*G20,2) -> 3621.31
A21: 2.9 | B21: E9134 | C21: SICRO3 | D21: Miniônibus com capacidade para 30 passageiros - 120 kW | E21: H | F21: =ROUND(($F$7/'Todas as Ruas'!$F$7)*320,2) -> 25.52 | G21: ='Todas as Ruas'!G21 -> 245.1778 | H21: ='Todas as Ruas'!H21 -> 0 | I21: ='Todas as Ruas'!I21 -> 302.49 | J21: ='Todas as Ruas'!J21 -> 302.5 | K21: =ROUND(F21 * H21, 2) -> 0 | L21: =M21 - K21 -> 7719.8 | M21: =ROUND(F21 * J21, 2) -> 7719.8 | N21: =M21 / $M$115 -> 0.024042795 | O21: =TRUNC(F21*G21,2) -> 6256.93 | P21: =9*4*20 -> 720
A22: 2.10 | B22: E9134 | C22: SICRO3 | D22: Miniônibus com capacidade para 30 passageiros - 120 kW | E22: H | F22: =TRUNC(($F$7/'Todas as Ruas'!$F$7)*120,2) -> 9.56 | G22: ='Todas as Ruas'!G22 -> 245.1778 | H22: ='Todas as Ruas'!H22 -> 0 | I22: ='Todas as Ruas'!I22 -> 302.49 | J22: ='Todas as Ruas'!J22 -> 302.5 | K22: =ROUND(F22 * H22, 2) -> 0 | L22: =M22 - K22 -> 2891.9 | M22: =ROUND(F22 * J22, 2) -> 2891.9 | N22: =M22 / $M$115 -> 0.0090066269 | O22: =TRUNC(F22*G22,2) -> 2343.89
A23: 2.11 | B23: M0295 | C23: SICRO3 | D23: Estrutura modular com revestimento térmico, janela e banheiro - L = 2,44 m e C = 6,06 m (1 TEU) | E23: un | F23: =ROUND(($F$7/'Todas as Ruas'!$F$7)*1,2) -> 0.08 | G23: ='Todas as Ruas'!G23 -> 73595.798 | H23: ='Todas as Ruas'!H23 -> 0 | I23: ='Todas as Ruas'!I23 -> 90802.48 | J23: ='Todas as Ruas'!J23 -> 90802.49 | K23: =ROUND(F23 * H23, 2) -> 0 | L23: =M23 - K23 -> 7264.2 | M23: =ROUND(F23 * J23, 2) -> 7264.2 | N23: =M23 / $M$115 -> 0.022623859 | O23: =TRUNC(F23*G23,2) -> 5887.66
A24: 3 | D24: DRENAGEM PLUVIAL | M24: =SUM(M25:M38) -> 0 | N24: =M24 / $M$115 -> 0 | O24: =TRUNC(F24*G24,2) -> 0
A25: 3.1 | B25: 4805757 | C25: SICRO3 | D25: Escavação mecânica de vala em material de 1ª categoria | E25: m³ | F25: 0 | G25: ='Todas as Ruas'!G25 -> 7.03 | H25: ='Todas as Ruas'!H25 -> 1.12 | I25: ='Todas as Ruas'!I25 -> 7.55 | J25: ='Todas as Ruas'!J25 -> 8.67 | K25: =TRUNC(F25 * H25, 2) -> 0 | L25: =M25 - K25 -> 0 | M25: =TRUNC(F25 * J25, 2) -> 0 | N25: =M25 / $M$115 -> 0 | O25: =TRUNC(F25*G25,2) -> 0
A26: 3.2 | B26: 2003850 | C26: SICRO3 | D26: Lastro de brita comercial compactado com soquete vibratório - espalhamento manual | E26: m³ | F26: 0 | G26: ='Todas as Ruas'!G26 -> 163.35 | H26: ='Todas as Ruas'!H26 -> 12.29 | I26: ='Todas as Ruas'!I26 -> 189.25 | J26: ='Todas as Ruas'!J26 -> 201.54 | K26: =TRUNC(F26 * H26, 2) -> 0 | L26: =M26 - K26 -> 0 | M26: =TRUNC(F26 * J26, 2) -> 0 | N26: =M26 / $M$115 -> 0 | O26: =TRUNC(F26*G26,2) -> 0
A27: 3.3 | B27: 0804021 | C27: SICRO3 | D27: Corpo de BSTC D = 0,60 m PA1 - areia, brita e pedra de mão comerciais | E27: m | F27: 0 | G27: ='Todas as Ruas'!G27 -> 470.66 | H27: ='Todas as Ruas'!H27 -> 66.45 | I27: ='Todas as Ruas'!I27 -> 514.25 | J27: ='Todas as Ruas'!J27 -> 580.7 | K27: =TRUNC(F27 * H27, 2) -> 0 | L27: =M27 - K27 -> 0 | M27: =TRUNC(F27 * J27, 2) -> 0 | N27: =M27 / $M$115 -> 0 | O27: =TRUNC(F27*G27,2) -> 0
A28: 3.4 | B28: 4815671 | C28: SICRO3 | D28: Reaterro e compactação com soquete vibratório | E28: m³ | F28: 0 | G28: ='Todas as Ruas'!G28 -> 20.21 | H28: ='Todas as Ruas'!H28 -> 18.85 | I28: ='Todas as Ruas'!I28 -> 6.08 | J28: ='Todas as Ruas'!J28 -> 24.93 | K28: =TRUNC(F28 * H28, 2) -> 0 | L28: =M28 - K28 -> 0 | M28: =TRUNC(F28 * J28, 2) -> 0 | N28: =M28 / $M$115 -> 0 | O28: =TRUNC(F28*G28,2) -> 0
A29: 3.5 | B29: 4011276 | C29: SICRO3 | D29: Base ou sub-base de brita graduada com brita comercial - 100% Proctor modificado | E29: m³ | F29: 0 | G29: ='Todas as Ruas'!G29 -> 240.05 | H29: ='Todas as Ruas'!H29 -> 1.03 | I29: ='Todas as Ruas'!I29 -> 295.14 | J29: ='Todas as Ruas'!J29 -> 296.17 | K29: =TRUNC(F29 * H29, 2) -> 0 | L29: =M29 - K29 -> 0 | M29: =TRUNC(F29 * J29, 2) -> 0 | N29: =M29 / $M$115 -> 0 | O29: =TRUNC(F29*G29,2) -> 0
A30: 3.6 | B30: 5914389 | C30: SICRO3 | D30: Transporte com caminhão basculante de 10 m³ - rodovia pavimentada | E30: tkm | F30: 0 | G30: ='Todas as Ruas'!G30 -> 0.82 | H30: ='Todas as Ruas'!H30 -> 0 | I30: ='Todas as Ruas'!I30 -> 1.01 | J30: ='Todas as Ruas'!J30 -> 1.01 | K30: =TRUNC(F30 * H30, 2) -> 0 | L30: =M30 - K30 -> 0 | M30: =TRUNC(F30 * J30, 2) -> 0 | N30: =M30 / $M$115 -> 0 | O30: =TRUNC(F30*G30,2) -> 0
A31: 3.7 | B31: 4011351 | C31: SICRO3 | D31: Imprimação com asfalto diluído | E31: m² | F31: 0 | G31: ='Todas as Ruas'!G31 -> 0.56 | H31: ='Todas as Ruas'!H31 -> 0.05 | I31: ='Todas as Ruas'!I31 -> 0.64 | J31: ='Todas as Ruas'!J31 -> 0.69 | K31: =TRUNC(F31 * H31, 2) -> 0 | L31: =M31 - K31 -> 0 | M31: =TRUNC(F31 * J31, 2) -> 0 | N31: =M31 / $M$115 -> 0 | O31: =TRUNC(F31*G31,2) -> 0
A32: 3.8 | B32: M0104 | C32: SICRO3 | D32: Asfalto diluído de petróleo - CM-30 | E32: t | F32: 0 | G32: ='Todas as Ruas'!G32 -> 3122.09 | H32: ='Todas as Ruas'!H32 -> 0 | I32: ='Todas as Ruas'!I32 -> 3590.4 | J32: ='Todas as Ruas'!J32 -> 3590,4 (15.0%) | K32: =TRUNC(F32 * H32, 2) -> 0 | L32: =M32 - K32 -> 0 | M32: =TRUNC((F32 * 1 ) * TRUNC(G32 * (1 + 15 / 100), 2), 2) -> 0 | N32: =M32 / $M$115 -> 0 | O32: =TRUNC(F32*G32,2) -> 0
A33: 3.9 | B33: 102330 | C33: SINAPI | D33: TRANSPORTE COM CAMINHÃO TANQUE DE TRANSPORTE DE MATERIAL ASFÁLTICO DE 30000 L, EM VIA URBANA PAVIMENTADA, DMT ATÉ 30KM (UNIDADE: TXKM). AF_02/2026 | E33: TXKM | F33: 0 | G33: ='Todas as Ruas'!G33 -> 1.69 | H33: ='Todas as Ruas'!H33 -> 0.13 | I33: ='Todas as Ruas'!I33 -> 1.95 | J33: ='Todas as Ruas'!J33 -> 2.08 | K33: =TRUNC(F33 * H33, 2) -> 0 | L33: =M33 - K33 -> 0 | M33: =TRUNC(F33 * J33, 2) -> 0 | N33: =M33 / $M$115 -> 0 | O33: =TRUNC(F33*G33,2) -> 0
A34: 3.10 | B34: 102331 | C34: SINAPI | D34: TRANSPORTE COM CAMINHÃO TANQUE DE TRANSPORTE DE MATERIAL ASFÁLTICO DE 30000 L, EM VIA URBANA PAVIMENTADA, ADICIONAL PARA DMT EXCEDENTE A 30 KM (UNIDADE: TXKM). AF_02/2026 | E34: TXKM | F34: 0 | G34: ='Todas as Ruas'!G34 -> 0.64 | H34: ='Todas as Ruas'!H34 -> 0.05 | I34: ='Todas as Ruas'!I34 -> 0.73 | J34: ='Todas as Ruas'!J34 -> 0.78 | K34: =TRUNC(F34 * H34, 2) -> 0 | L34: =M34 - K34 -> 0 | M34: =TRUNC(F34 * J34, 2) -> 0 | N34: =M34 / $M$115 -> 0 | O34: =TRUNC(F34*G34,2) -> 0
A35: 3.11 | B35: 2003517 | C35: SICRO3 | D35: Caixa coletora de sarjeta - CCS 200-60 B - com grelha de aço - areia e brita comerciais | E35: un | F35: 0 | G35: ='Todas as Ruas'!G35 -> 4969.53 | H35: ='Todas as Ruas'!H35 -> 2317.22 | I35: ='Todas as Ruas'!I35 -> 3814.18 | J35: ='Todas as Ruas'!J35 -> 6131.4 | K35: =TRUNC(F35 * H35, 2) -> 0 | L35: =M35 - K35 -> 0 | M35: =TRUNC(F35 * J35, 2) -> 0 | N35: =M35 / $M$115 -> 0 | O35: =TRUNC(F35*G35,2) -> 0
A36: 3.12 | B36: 1023 | C36: Próprio | D36: REFORMA E NIVELAMENTO BOCA DE LOBO EXISTENTE COM GRELHA DE FERRO (COM DIMENSÕES ATÉ 1,40 X 1,40 m) | E36: un | F36: 0 | G36: 1900.28 | H36: =J36-I36 -> 468.91 | I36: =ROUND(J36*0.8,2) -> 1875.65 | J36: ='Todas as Ruas'!J36 -> 2344.56 | K36: =TRUNC(F36 * H36, 2) -> 0 | L36: =M36 - K36 -> 0 | M36: =TRUNC(F36 * J36, 2) -> 0 | N36: =M36 / $M$115 -> 0
A37: 3.13 | B37: 2003261 | C37: SICRO3 | D37: Sarjeta triangular de concreto - STC 80-15 - escavação mecânica - areia e brita comerciais | E37: m | F37: 0 | G37: ='Todas as Ruas'!G37 -> 51.88 | H37: ='Todas as Ruas'!H37 -> 13.89 | I37: ='Todas as Ruas'!I37 -> 50.11 | J37: ='Todas as Ruas'!J37 -> 64 | K37: =TRUNC(F37 * H37, 2) -> 0 | L37: =M37 - K37 -> 0 | M37: =TRUNC(F37 * J37, 2) -> 0 | N37: =M37 / $M$115 -> 0 | O37: =TRUNC(F37*G37,2) -> 0
A38: 3.14 | B38: 0804081 | C38: SICRO3 | D38: Boca de BSTC D = 0,60 m - esconsidade 0° - areia e brita comerciais - alas retas | E38: un | F38: 0 | G38: ='Todas as Ruas'!G38 -> 798.59 | H38: ='Todas as Ruas'!H38 -> 324.84 | I38: ='Todas as Ruas'!I38 -> 660.46 | J38: ='Todas as Ruas'!J38 -> 985.3 | K38: =TRUNC(F38 * H38, 2) -> 0 | L38: =M38 - K38 -> 0 | M38: =TRUNC(F38 * J38, 2) -> 0 | N38: =M38 / $M$115 -> 0 | O38: =TRUNC(F38*G38,2) -> 0
A39: 4 | D39: PAVIMENTAÇÃO ASFÁLTICA | M39: =M40+M50+M60 -> 249664.05 | N39: =M39 / $M$115 -> 0.77756179 | O39: =TRUNC(F39*G39,2) -> 0
A40: 4.1 | D40: REPERFILAGEM | M40: =SUM(M41:M49) -> 114107.5 | N40: =M40 / $M$115 -> 0.35538009 | O40: =TRUNC(F40*G40,2) -> 0
...

Sheet Antônio de Oliveira
D1: Obra | E1: Bancos | H1: B.D.I. | K1: Encargos Sociais
D2: Rua Antônio de Oliveira | E2: SINAPI - 03/2026 - RS SICRO3 - 01/2026 - RS | H2: 23,38% | K2: Não Desonerado: embutido nos preços unitário dos insumos de mão de obra, de acordo com as bases.
A3: Planilha Orçamentária Sintética Com Valor do Material e da Mão de Obra
A4: Item | B4: Código | C4: Banco | D4: Descrição | E4: Und | F4: Quant. | G4: Valor Unit | H4: Valor Unit com BDI | K4: Total | N4: Peso (%)
H5: M. O. | I5: MAT. | J5: Total | K5: M. O. | L5: MAT. | M5: Total
A6: 1 | D6: SERVIÇOS INICIAIS | M6: =SUM(M7:M11) -> 578.38 | N6: =M6 / $M$115 -> 0.012010793
A7: 1.1 | B7: 106168 | C7: SINAPI | D7: LIMPEZA DE RUA COM JATO DE ALTA PRESSÃO. AF_10/2025 | E7: m² | F7: 402.75 | G7: ='Todas as Ruas'!G7 -> 0.67 | H7: ='Todas as Ruas'!H7 -> 0.25 | I7: ='Todas as Ruas'!I7 -> 0.57 | J7: ='Todas as Ruas'!J7 -> 0.82 | K7: =ROUND(F7 * H7, 2) -> 100.69 | L7: =M7 - K7 -> 229.57 | M7: =ROUND(F7 * J7, 2) -> 330.26 | N7: =M7 / $M$115 -> 0.0068582673 | O7: =TRUNC(F7*G7,2) -> 269.84
A8: 01.2 | B8: 4800412 | C8: SICRO3 | D8: Raspagem e limpeza de terreno plano | E8: m² | F8: =ROUND(F7*0.1,2) -> 40.28 | G8: ='Todas as Ruas'!G8 -> 5 | H8: ='Todas as Ruas'!H8 -> 5.86 | I8: ='Todas as Ruas'!I8 -> 0.3 | J8: ='Todas as Ruas'!J8 -> 6.16 | K8: =ROUND(F8 * H8, 2) -> 236.04 | L8: =M8 - K8 -> 12.08 | M8: =ROUND(F8 * J8, 2) -> 248.12 | N8: =M8 / $M$115 -> 0.0051525262 | O8: =TRUNC(F8*G8,2) -> 201.4
A9: 1.3 | B9: MOB01 | C9: Próprio | D9: MOBILIZAÇÃO E DESMOBILIZAÇÃO DE EQUIPAMENTOS | E9: UND | F9: 0 | G9: ='Todas as Ruas'!G9 -> 11428.163 | H9: ='Todas as Ruas'!H9 -> 461.45 | I9: ='Todas as Ruas'!I9 -> 10403.4 | J9: ='Todas as Ruas'!J9 -> 14100.06 | K9: =ROUND(F9 * H9, 2) -> 0 | L9: =M9 - K9 -> 0 | M9: =ROUND(F9 * J9, 2) -> 0 | N9: =M9 / $M$115 -> 0 | O9: =TRUNC(F9*G9,2) -> 0
A10: 1.4 | B10: 5213499 | C10: SICRO3 | D10: Placa em aço - 3,00 x 1,50 m - película retrorrefletiva tipo I + III - fornecimento e implantação | E10: un | F10: 0 | G10: ='Todas as Ruas'!G10 -> 1992.46 | H10: ='Todas as Ruas'!H10 -> 303.82 | I10: ='Todas as Ruas'!I10 -> 2154.47 | J10: ='Todas as Ruas'!J10 -> 2458.29 | K10: =ROUND(F10 * H10, 2) -> 0 | L10: =M10 - K10 -> 0 | M10: =ROUND(F10 * J10, 2) -> 0 | N10: =M10 / $M$115 -> 0 | O10: =TRUNC(F10*G10,2) -> 0
A11: 1.5 | B11: 5216111 | C11: SICRO3 | D11: Suporte para placa de sinalização em madeira de lei tratada 8 x 8 cm - fornecimento e implantação | E11: un | F11: 0 | G11: ='Todas as Ruas'!G11 -> 136.57 | H11: ='Todas as Ruas'!H11 -> 25.87 | I11: ='Todas as Ruas'!I11 -> 142.63 | J11: ='Todas as Ruas'!J11 -> 168.5 | K11: =ROUND(F11 * H11, 2) -> 0 | L11: =M11 - K11 -> 0 | M11: =ROUND(F11 * J11, 2) -> 0 | N11: =M11 / $M$115 -> 0 | O11: =TRUNC(F11*G11,2) -> 0
A12: 2 | D12: ADMINISTRAÇÃO LOCAL | M12: =SUM(M13:M23) -> 7362.22 | N12: =M12 / $M$115 -> 0.15288583 | O12: =TRUNC(F12*G12,2) -> 0
A13: 2.1 | B13: P9819 | C13: SICRO3 | D13: Engenheiro supervisor - mensalista | E13: mês | F13: =ROUND(($F$7/'Todas as Ruas'!$F$7)*2,2) -> 0.02 | G13: ='Todas as Ruas'!G13 -> 30360.664 | H13: ='Todas as Ruas'!H13 -> 37458.98 | I13: ='Todas as Ruas'!I13 -> 0 | J13: ='Todas as Ruas'!J13 -> 37458.98 | K13: =ROUND(F13 * H13, 2) -> 749.18 | L13: =M13 - K13 -> 0 | M13: =ROUND(F13 * J13, 2) -> 749.18 | N13: =M13 / $M$115 -> 0.015557672 | O13: =TRUNC(F13*G13,2) -> 607.21
A14: 2.2 | B14: P9840 | C14: SICRO3 | D14: Encarregado geral - mensalista | E14: mês | F14: =ROUND(($F$7/'Todas as Ruas'!$F$7)*6,2) -> 0.07 | G14: ='Todas as Ruas'!G14 -> 13144.488 | H14: ='Todas as Ruas'!H14 -> 16217.66 | I14: ='Todas as Ruas'!I14 -> 0 | J14: ='Todas as Ruas'!J14 -> 16217.66 | K14: =ROUND(F14 * H14, 2) -> 1135.24 | L14: =M14 - K14 -> 0 | M14: =ROUND(F14 * J14, 2) -> 1135.24 | N14: =M14 / $M$115 -> 0.023574697 | O14: =TRUNC(F14*G14,2) -> 920.11
A15: 02.3 | B15: P9949 | C15: SICRO3 | D15: Topógrafo - mensalista | E15: mês | F15: =ROUND(($F$7/'Todas as Ruas'!$F$7)*6,2) -> 0.07 | G15: ='Todas as Ruas'!G15 -> 7296.3649 | H15: ='Todas as Ruas'!H15 -> 9002.25 | I15: ='Todas as Ruas'!I15 -> 0 | J15: ='Todas as Ruas'!J15 -> 9002.25 | K15: =ROUND(F15 * H15, 2) -> 630.16 | L15: =M15 - K15 -> 0 | M15: =ROUND(F15 * J15, 2) -> 630.16 | N15: =M15 / $M$115 -> 0.013086071 | O15: =TRUNC(F15*G15,2) -> 510.74
A16: 2.4 | B16: P9950 | C16: SICRO3 | D16: Auxiliar de topografia - mensalista | E16: mês | F16: =ROUND(($F$7/'Todas as Ruas'!$F$7)*6,2) -> 0.07 | G16: ='Todas as Ruas'!G16 -> 5189.7538 | H16: ='Todas as Ruas'!H16 -> 6403.11 | I16: ='Todas as Ruas'!I16 -> 0 | J16: ='Todas as Ruas'!J16 -> 6403.11 | K16: =ROUND(F16 * H16, 2) -> 448.22 | L16: =M16 - K16 -> 0 | M16: =ROUND(F16 * J16, 2) -> 448.22 | N16: =M16 / $M$115 -> 0.0093078562 | O16: =TRUNC(F16*G16,2) -> 363.28
A17: 2.5 | B17: P9893 | C17: SICRO3 | D17: Encarregado de pavimentação - mensalista | E17: mês | F17: =ROUND(($F$7/'Todas as Ruas'!$F$7)*6,2) -> 0.07 | G17: ='Todas as Ruas'!G17 -> 8605.0395 | H17: ='Todas as Ruas'!H17 -> 10616.88 | I17: ='Todas as Ruas'!I17 -> 0 | J17: ='Todas as Ruas'!J17 -> 10616.89 | K17: =ROUND(F17 * H17, 2) -> 743.18 | L17: =M17 - K17 -> 0 | M17: =ROUND(F17 * J17, 2) -> 743.18 | N17: =M17 / $M$115 -> 0.015433074 | O17: =TRUNC(F17*G17,2) -> 602.35
A18: 2.6 | B18: P9875 | C18: SICRO3 | D18: Encarregado de turma - mensalista | E18: mês | F18: =ROUND(($F$7/'Todas as Ruas'!$F$7)*2,2) -> 0.02 | G18: ='Todas as Ruas'!G18 -> 5778.4355 | H18: ='Todas as Ruas'!H18 -> 7129.42 | I18: ='Todas as Ruas'!I18 -> 0 | J18: ='Todas as Ruas'!J18 -> 7129.43 | K18: =ROUND(F18 * H18, 2) -> 142.59 | L18: =M18 - K18 -> 0 | M18: =ROUND(F18 * J18, 2) -> 142.59 | N18: =M18 / $M$115 -> 0.002961062 | O18: =TRUNC(F18*G18,2) -> 115.56
A19: 2.7 | B19: P9804 | C19: SICRO3 | D19: Apontador - mensalista | E19: mês | F19: =ROUND(($F$7/'Todas as Ruas'!$F$7)*6,2) -> 0.07 | G19: ='Todas as Ruas'!G19 -> 4987.0395 | H19: ='Todas as Ruas'!H19 -> 6152.99 | I19: ='Todas as Ruas'!I19 -> 0 | J19: ='Todas as Ruas'!J19 -> 6153 | K19: =ROUND(F19 * H19, 2) -> 430.71 | L19: =M19 - K19 -> 0 | M19: =ROUND(F19 * J19, 2) -> 430.71 | N19: =M19 / $M$115 -> 0.0089442388 | O19: =TRUNC(F19*G19,2) -> 349.09
A20: 2.8 | B20: P9876 | C20: SICRO3 | D20: Técnico de segurança do trabalho - mensalista | E20: mês | F20: =ROUND(($F$7/'Todas as Ruas'!$F$7)*6,2) -> 0.07 | G20: ='Todas as Ruas'!G20 -> 7704.921 | H20: ='Todas as Ruas'!H20 -> 9506.33 | I20: ='Todas as Ruas'!I20 -> 0 | J20: ='Todas as Ruas'!J20 -> 9506.33 | K20: =ROUND(F20 * H20, 2) -> 665.44 | L20: =M20 - K20 -> 0 | M20: =ROUND(F20 * J20, 2) -> 665.44 | N20: =M20 / $M$115 -> 0.013818705 | O20: =TRUNC(F20*G20,2) -> 539.34
A21: 2.9 | B21: E9134 | C21: SICRO3 | D21: Miniônibus com capacidade para 30 passageiros - 120 kW | E21: H | F21: =ROUND(($F$7/'Todas as Ruas'!$F$7)*320,2) -> 3.63 | G21: ='Todas as Ruas'!G21 -> 245.1778 | H21: ='Todas as Ruas'!H21 -> 0 | I21: ='Todas as Ruas'!I21 -> 302.49 | J21: ='Todas as Ruas'!J21 -> 302.5 | K21: =ROUND(F21 * H21, 2) -> 0 | L21: =M21 - K21 -> 1098.08 | M21: =ROUND(F21 * J21, 2) -> 1098.08 | N21: =M21 / $M$115 -> 0.022803022 | O21: =TRUNC(F21*G21,2) -> 889.99
A22: 2.10 | B22: E9134 | C22: SICRO3 | D22: Miniônibus com capacidade para 30 passageiros - 120 kW | E22: H | F22: =TRUNC(($F$7/'Todas as Ruas'!$F$7)*120,2) -> 1.36 | G22: ='Todas as Ruas'!G22 -> 245.1778 | H22: ='Todas as Ruas'!H22 -> 0 | I22: ='Todas as Ruas'!I22 -> 302.49 | J22: ='Todas as Ruas'!J22 -> 302.5 | K22: =ROUND(F22 * H22, 2) -> 0 | L22: =M22 - K22 -> 411.4 | M22: =ROUND(F22 * J22, 2) -> 411.4 | N22: =M22 / $M$115 -> 0.0085432422 | O22: =TRUNC(F22*G22,2) -> 333.44
A23: 2.11 | B23: M0295 | C23: SICRO3 | D23: Estrutura modular com revestimento térmico, janela e banheiro - L = 2,44 m e C = 6,06 m (1 TEU) | E23: un | F23: =ROUND(($F$7/'Todas as Ruas'!$F$7)*1,2) -> 0.01 | G23: ='Todas as Ruas'!G23 -> 73595.798 | H23: ='Todas as Ruas'!H23 -> 0 | I23: ='Todas as Ruas'!I23 -> 90802.48 | J23: ='Todas as Ruas'!J23 -> 90802.49 | K23: =ROUND(F23 * H23, 2) -> 0 | L23: =M23 - K23 -> 908.02 | M23: =ROUND(F23 * J23, 2) -> 908.02 | N23: =M23 / $M$115 -> 0.018856186 | O23: =TRUNC(F23*G23,2) -> 735.95
A24: 3 | D24: DRENAGEM PLUVIAL | M24: =SUM(M25:M38) -> 0 | N24: =M24 / $M$115 -> 0 | O24: =TRUNC(F24*G24,2) -> 0
A25: 3.1 | B25: 4805757 | C25: SICRO3 | D25: Escavação mecânica de vala em material de 1ª categoria | E25: m³ | F25: 0 | G25: ='Todas as Ruas'!G25 -> 7.03 | H25: ='Todas as Ruas'!H25 -> 1.12 | I25: ='Todas as Ruas'!I25 -> 7.55 | J25: ='Todas as Ruas'!J25 -> 8.67 | K25: =TRUNC(F25 * H25, 2) -> 0 | L25: =M25 - K25 -> 0 | M25: =TRUNC(F25 * J25, 2) -> 0 | N25: =M25 / $M$115 -> 0 | O25: =TRUNC(F25*G25,2) -> 0
A26: 3.2 | B26: 2003850 | C26: SICRO3 | D26: Lastro de brita comercial compactado com soquete vibratório - espalhamento manual | E26: m³ | F26: 0 | G26: ='Todas as Ruas'!G26 -> 163.35 | H26: ='Todas as Ruas'!H26 -> 12.29 | I26: ='Todas as Ruas'!I26 -> 189.25 | J26: ='Todas as Ruas'!J26 -> 201.54 | K26: =TRUNC(F26 * H26, 2) -> 0 | L26: =M26 - K26 -> 0 | M26: =TRUNC(F26 * J26, 2) -> 0 | N26: =M26 / $M$115 -> 0 | O26: =TRUNC(F26*G26,2) -> 0
A27: 3.3 | B27: 0804021 | C27: SICRO3 | D27: Corpo de BSTC D = 0,60 m PA1 - areia, brita e pedra de mão comerciais | E27: m | F27: 0 | G27: ='Todas as Ruas'!G27 -> 470.66 | H27: ='Todas as Ruas'!H27 -> 66.45 | I27: ='Todas as Ruas'!I27 -> 514.25 | J27: ='Todas as Ruas'!J27 -> 580.7 | K27: =TRUNC(F27 * H27, 2) -> 0 | L27: =M27 - K27 -> 0 | M27: =TRUNC(F27 * J27, 2) -> 0 | N27: =M27 / $M$115 -> 0 | O27: =TRUNC(F27*G27,2) -> 0
A28: 3.4 | B28: 4815671 | C28: SICRO3 | D28: Reaterro e compactação com soquete vibratório | E28: m³ | F28: 0 | G28: ='Todas as Ruas'!G28 -> 20.21 | H28: ='Todas as Ruas'!H28 -> 18.85 | I28: ='Todas as Ruas'!I28 -> 6.08 | J28: ='Todas as Ruas'!J28 -> 24.93 | K28: =TRUNC(F28 * H28, 2) -> 0 | L28: =M28 - K28 -> 0 | M28: =TRUNC(F28 * J28, 2) -> 0 | N28: =M28 / $M$115 -> 0 | O28: =TRUNC(F28*G28,2) -> 0
A29: 3.5 | B29: 4011276 | C29: SICRO3 | D29: Base ou sub-base de brita graduada com brita comercial - 100% Proctor modificado | E29: m³ | F29: 0 | G29: ='Todas as Ruas'!G29 -> 240.05 | H29: ='Todas as Ruas'!H29 -> 1.03 | I29: ='Todas as Ruas'!I29 -> 295.14 | J29: ='Todas as Ruas'!J29 -> 296.17 | K29: =TRUNC(F29 * H29, 2) -> 0 | L29: =M29 - K29 -> 0 | M29: =TRUNC(F29 * J29, 2) -> 0 | N29: =M29 / $M$115 -> 0 | O29: =TRUNC(F29*G29,2) -> 0
A30: 3.6 | B30: 5914389 | C30: SICRO3 | D30: Transporte com caminhão basculante de 10 m³ - rodovia pavimentada | E30: tkm | F30: 0 | G30: ='Todas as Ruas'!G30 -> 0.82 | H30: ='Todas as Ruas'!H30 -> 0 | I30: ='Todas as Ruas'!I30 -> 1.01 | J30: ='Todas as Ruas'!J30 -> 1.01 | K30: =TRUNC(F30 * H30, 2) -> 0 | L30: =M30 - K30 -> 0 | M30: =TRUNC(F30 * J30, 2) -> 0 | N30: =M30 / $M$115 -> 0 | O30: =TRUNC(F30*G30,2) -> 0
A31: 3.7 | B31: 4011351 | C31: SICRO3 | D31: Imprimação com asfalto diluído | E31: m² | F31: 0 | G31: ='Todas as Ruas'!G31 -> 0.56 | H31: ='Todas as Ruas'!H31 -> 0.05 | I31: ='Todas as Ruas'!I31 -> 0.64 | J31: ='Todas as Ruas'!J31 -> 0.69 | K31: =TRUNC(F31 * H31, 2) -> 0 | L31: =M31 - K31 -> 0 | M31: =TRUNC(F31 * J31, 2) -> 0 | N31: =M31 / $M$115 -> 0 | O31: =TRUNC(F31*G31,2) -> 0
A32: 3.8 | B32: M0104 | C32: SICRO3 | D32: Asfalto diluído de petróleo - CM-30 | E32: t | F32: 0 | G32: ='Todas as Ruas'!G32 -> 3122.09 | H32: ='Todas as Ruas'!H32 -> 0 | I32: ='Todas as Ruas'!I32 -> 3590.4 | J32: ='Todas as Ruas'!J32 -> 3590,4 (15.0%) | K32: =TRUNC(F32 * H32, 2) -> 0 | L32: =M32 - K32 -> 0 | M32: =TRUNC((F32 * 1 ) * TRUNC(G32 * (1 + 15 / 100), 2), 2) -> 0 | N32: =M32 / $M$115 -> 0 | O32: =TRUNC(F32*G32,2) -> 0
A33: 3.9 | B33: 102330 | C33: SINAPI | D33: TRANSPORTE COM CAMINHÃO TANQUE DE TRANSPORTE DE MATERIAL ASFÁLTICO DE 30000 L, EM VIA URBANA PAVIMENTADA, DMT ATÉ 30KM (UNIDADE: TXKM). AF_02/2026 | E33: TXKM | F33: 0 | G33: ='Todas as Ruas'!G33 -> 1.69 | H33: ='Todas as Ruas'!H33 -> 0.13 | I33: ='Todas as Ruas'!I33 -> 1.95 | J33: ='Todas as Ruas'!J33 -> 2.08 | K33: =TRUNC(F33 * H33, 2) -> 0 | L33: =M33 - K33 -> 0 | M33: =TRUNC(F33 * J33, 2) -> 0 | N33: =M33 / $M$115 -> 0 | O33: =TRUNC(F33*G33,2) -> 0
A34: 3.10 | B34: 102331 | C34: SINAPI | D34: TRANSPORTE COM CAMINHÃO TANQUE DE TRANSPORTE DE MATERIAL ASFÁLTICO DE 30000 L, EM VIA URBANA PAVIMENTADA, ADICIONAL PARA DMT EXCEDENTE A 30 KM (UNIDADE: TXKM). AF_02/2026 | E34: TXKM | F34: 0 | G34: ='Todas as Ruas'!G34 -> 0.64 | H34: ='Todas as Ruas'!H34 -> 0.05 | I34: ='Todas as Ruas'!I34 -> 0.73 | J34: ='Todas as Ruas'!J34 -> 0.78 | K34: =TRUNC(F34 * H34, 2) -> 0 | L34: =M34 - K34 -> 0 | M34: =TRUNC(F34 * J34, 2) -> 0 | N34: =M34 / $M$115 -> 0 | O34: =TRUNC(F34*G34,2) -> 0
A35: 3.11 | B35: 2003517 | C35: SICRO3 | D35: Caixa coletora de sarjeta - CCS 200-60 B - com grelha de aço - areia e brita comerciais | E35: un | F35: 0 | G35: ='Todas as Ruas'!G35 -> 4969.53 | H35: ='Todas as Ruas'!H35 -> 2317.22 | I35: ='Todas as Ruas'!I35 -> 3814.18 | J35: ='Todas as Ruas'!J35 -> 6131.4 | K35: =TRUNC(F35 * H35, 2) -> 0 | L35: =M35 - K35 -> 0 | M35: =TRUNC(F35 * J35, 2) -> 0 | N35: =M35 / $M$115 -> 0 | O35: =TRUNC(F35*G35,2) -> 0
A36: 3.12 | B36: 1023 | C36: Próprio | D36: REFORMA E NIVELAMENTO BOCA DE LOBO EXISTENTE COM GRELHA DE FERRO (COM DIMENSÕES ATÉ 1,40 X 1,40 m) | E36: un | F36: 0 | G36: 1900.28 | H36: =J36-I36 -> 468.91 | I36: =ROUND(J36*0.8,2) -> 1875.65 | J36: ='Todas as Ruas'!J36 -> 2344.56 | K36: =TRUNC(F36 * H36, 2) -> 0 | L36: =M36 - K36 -> 0 | M36: =TRUNC(F36 * J36, 2) -> 0 | N36: =M36 / $M$115 -> 0
A37: 3.13 | B37: 2003261 | C37: SICRO3 | D37: Sarjeta triangular de concreto - STC 80-15 - escavação mecânica - areia e brita comerciais | E37: m | F37: 0 | G37: ='Todas as Ruas'!G37 -> 51.88 | H37: ='Todas as Ruas'!H37 -> 13.89 | I37: ='Todas as Ruas'!I37 -> 50.11 | J37: ='Todas as Ruas'!J37 -> 64 | K37: =TRUNC(F37 * H37, 2) -> 0 | L37: =M37 - K37 -> 0 | M37: =TRUNC(F37 * J37, 2) -> 0 | N37: =M37 / $M$115 -> 0 | O37: =TRUNC(F37*G37,2) -> 0
A38: 3.14 | B38: 0804081 | C38: SICRO3 | D38: Boca de BSTC D = 0,60 m - esconsidade 0° - areia e brita comerciais - alas retas | E38: un | F38: 0 | G38: ='Todas as Ruas'!G38 -> 798.59 | H38: ='Todas as Ruas'!H38 -> 324.84 | I38: ='Todas as Ruas'!I38 -> 660.46 | J38: ='Todas as Ruas'!J38 -> 985.3 | K38: =TRUNC(F38 * H38, 2) -> 0 | L38: =M38 - K38 -> 0 | M38: =TRUNC(F38 * J38, 2) -> 0 | N38: =M38 / $M$115 -> 0 | O38: =TRUNC(F38*G38,2) -> 0
A39: 4 | D39: PAVIMENTAÇÃO ASFÁLTICA | M39: =M40+M50+M60 -> 35543.92 | N39: =M39 / $M$115 -> 0.73811453 | O39: =TRUNC(F39*G39,2) -> 0
A40: 4.1 | D40: REPERFILAGEM | M40: =SUM(M41:M49) -> 16226.84 | N40: =M40 / $M$115 -> 0.33697089 | O40: =TRUNC(F40*G40,2) -> 0
...

Sheet Cenêncio Ferreira
D1: Obra | E1: Bancos | H1: B.D.I. | K1: Encargos Sociais
D2: Rua Cenêncio Ferreira | E2: SINAPI - 03/2026 - RS SICRO3 - 01/2026 - RS | H2: 23,38% | K2: Não Desonerado: embutido nos preços unitário dos insumos de mão de obra, de acordo com as bases.
A3: Planilha Orçamentária Sintética Com Valor do Material e da Mão de Obra
A4: Item | B4: Código | C4: Banco | D4: Descrição | E4: Und | F4: Quant. | G4: Valor Unit | H4: Valor Unit com BDI | K4: Total | N4: Peso (%)
H5: M. O. | I5: MAT. | J5: Total | K5: M. O. | L5: MAT. | M5: Total
A6: 1 | D6: SERVIÇOS INICIAIS | M6: =SUM(M7:M11) -> 1536.52 | N6: =M6 / $M$115 -> 0.012313742
A7: 1.1 | B7: 106168 | C7: SINAPI | D7: LIMPEZA DE RUA COM JATO DE ALTA PRESSÃO. AF_10/2025 | E7: m² | F7: 1070 | G7: ='Todas as Ruas'!G7 -> 0.67 | H7: ='Todas as Ruas'!H7 -> 0.25 | I7: ='Todas as Ruas'!I7 -> 0.57 | J7: ='Todas as Ruas'!J7 -> 0.82 | K7: =ROUND(F7 * H7, 2) -> 267.5 | L7: =M7 - K7 -> 609.9 | M7: =ROUND(F7 * J7, 2) -> 877.4 | N7: =M7 / $M$115 -> 0.0070315237 | O7: =TRUNC(F7*G7,2) -> 716.9
A8: 01.2 | B8: 4800412 | C8: SICRO3 | D8: Raspagem e limpeza de terreno plano | E8: m² | F8: =ROUND(F7*0.1,2) -> 107 | G8: ='Todas as Ruas'!G8 -> 5 | H8: ='Todas as Ruas'!H8 -> 5.86 | I8: ='Todas as Ruas'!I8 -> 0.3 | J8: ='Todas as Ruas'!J8 -> 6.16 | K8: =ROUND(F8 * H8, 2) -> 627.02 | L8: =M8 - K8 -> 32.1 | M8: =ROUND(F8 * J8, 2) -> 659.12 | N8: =M8 / $M$115 -> 0.0052822178 | O8: =TRUNC(F8*G8,2) -> 535
A9: 1.3 | B9: MOB01 | C9: Próprio | D9: MOBILIZAÇÃO E DESMOBILIZAÇÃO DE EQUIPAMENTOS | E9: UND | F9: 0 | G9: ='Todas as Ruas'!G9 -> 11428.163 | H9: ='Todas as Ruas'!H9 -> 461.45 | I9: ='Todas as Ruas'!I9 -> 10403.4 | J9: ='Todas as Ruas'!J9 -> 14100.06 | K9: =ROUND(F9 * H9, 2) -> 0 | L9: =M9 - K9 -> 0 | M9: =ROUND(F9 * J9, 2) -> 0 | N9: =M9 / $M$115 -> 0 | O9: =TRUNC(F9*G9,2) -> 0
