Workbook

Sheet orçamento  c barreira
A1: PREFEITURA MUNICIPAL DE SALTO DO JACUÍ
A2: OBRA | B2: Aditivo Ponte Ivaí | D2: ÁREA | E2: 112.23 | G2: Ref. Sinapi: | H2: 45992
A3: LOCAL | B3: Arroio São Felipe, Rincão do Ivaí, Salto do Jacuí/RS | D3: BDI | E3: =bdi!F14 -> 0.23376846 | F3: % | G3: Ref. SICRO | H3: 45931
A4: PLANILHA
E5: QUANTIDADES LICITADAS
A7: Código Sinapi | B7: Item | C7: Discriminação | D7: Unid. | E7: Qtde. | F7: Preço Unitário (R$) | G7: Preço Unit+BDI (R$) | H7: Preço Total (R$)
B9: 1 | C9: BARREIRAS E SINALIZAÇÃO | H9: =SUM(H10:H14) -> 18695.15
A10: 3713604 | B10: 1.1 | C10: Defensa semimaleável simples - fornecimento e implantação | D10: m | E10: 32 | F10: 335.4 | G10: =ROUND((F10*$E$3)+F10,2) -> 413.81 | H10: =ROUND(E10*G10,2) -> 13241.92
A11: 5213365 | B11: 1.2 | C11: Placa em aço - 2,00 x 1,00 m - película retrorrefletiva tipo I + X - fornecimento e implantação | D11: un | E11: 2 | F11: 1111.43 | G11: =ROUND((F11*$E$3)+F11,2) -> 1371.25 | H11: =ROUND(E11*G11,2) -> 2742.5
A12: 5213441 | B12: 1.3 | C12: Placa de regulamentação em aço D = 0,80 m - película retrorrefletiva tipo I + SI - fornecimento e implantação | D12: un | E12: 2 | F12: 491.71 | G12: =ROUND((F12*$E$3)+F12,2) -> 606.66 | H12: =ROUND(E12*G12,2) -> 1213.32
A13: 5213478 | B13: 1.4 | C13: Placa delineador em fibra - 0,50 x 0,60 m - película retrorrefletiva tipo I + IV - fornecimento e implantação | D13: un | E13: 6 | F13: 170.98 | G13: =ROUND((F13*$E$3)+F13,2) -> 210.95 | H13: =ROUND(E13*G13,2) -> 1265.7
A14: 5213400 | B14: 1.5 | C14: Pintura de faixa com tinta acrílica - espessura de 0,4 mm | D14: m² | E14: =(0.2*17.4)+(0.315*17.4)+(0.075*4) -> 9.261 | F14: 20.28 | G14: =ROUND((F14*$E$3)+F14,2) -> 25.02 | H14: =ROUND(E14*G14,2) -> 231.71
A16: Salto do Jacuí/RS, março de 2026. | G16: TOTAL | H16: =H9 -> 18695.15
C19: RONALDO O. PEREIRA DE MORAES | D19: EDUARDO DONA
C20: PREFEITO MUNICIPAL | D20: CREA RS 267861

Sheet cronograma
A1: PREFEITURA MUNICIPAL DE SALTO DO JACUÍ
A2: OBRA | B2: ='orçamento c barreira'!B2 -> Aditivo Ponte Ivaí | L2: ÁREA | M2: ='orçamento c barreira'!E2 -> 112.23
A3: LOCAL | B3: ='orçamento c barreira'!B3 -> Arroio São Felipe, Rincão do Ivaí, Salto do Jacuí/RS
A4: CRONOGRAMA
A6: item | C6: valor | D6: 1º Mês | F6: 2º Mês | H6: 3º Mês | J6: 4º Mês | L6: 5º Mês
D7: no mês | E7: acum. | F7: no mês | G7: acum. | H7: no mês | I7: acum. | J7: no mês | K7: acum. | L7: no mês | M7: acum.
A8: 1 | B8: ='orçamento c barreira'!#REF! -> #REF! | C8: ='orçamento c barreira'!#REF! -> #REF! | D8: 0.1 | E8: =D8 -> 0.1 | F8: 0.1 | G8: =E8+F8 -> 0.2 | H8: 0.1 | I8: =G8+H8 -> 0.3 | J8: 0.1 | K8: =I8+J8 -> 0.4 | L8: 0.1 | M8: =K8+L8 -> 0.5
A9: =A8+1 -> 2 | B9: ='orçamento c barreira'!#REF! -> #REF! | C9: ='orçamento c barreira'!#REF! -> #REF! | D9: 0.5 | E9: =D9 -> 0.5 | F9: 0.25 | G9: =E9+F9 -> 0.75 | H9: 0.25 | I9: =G9+H9 -> 1 | K9: =I9+J9 -> 1 | M9: =K9+L9 -> 1
A10: 3 | B10: ='orçamento c barreira'!#REF! -> #REF! | C10: ='orçamento c barreira'!#REF! -> #REF! | D10: 1 | E10: =D10 -> 1 | G10: =E10+F10 -> 1 | I10: =G10+H10 -> 1 | K10: =I10+J10 -> 1 | M10: =K10+L10 -> 1
A11: 4 | B11: ='orçamento c barreira'!#REF! -> #REF! | C11: ='orçamento c barreira'!#REF! -> #REF! | D11: 0.25 | E11: =D11 -> 0.25 | F11: 0.5 | G11: =E11+F11 -> 0.75 | H11: 0.25 | I11: =G11+H11 -> 1 | K11: =I11+J11 -> 1 | M11: =K11+L11 -> 1
A12: 5 | B12: ='orçamento c barreira'!#REF! -> #REF! | C12: ='orçamento c barreira'!#REF! -> #REF! | D12: 0.25 | E12: =D12 -> 0.25 | F12: 0.25 | G12: =E12+F12 -> 0.5 | H12: 0.5 | I12: =G12+H12 -> 1 | K12: =I12+J12 -> 1 | M12: =K12+L12 -> 1
A13: 6 | B13: ='orçamento c barreira'!#REF! -> #REF! | C13: ='orçamento c barreira'!#REF! -> #REF! | D13: 0.1 | E13: =D13 -> 0.1 | F13: 0.4 | G13: =E13+F13 -> 0.5 | H13: 0.5 | I13: =G13+H13 -> 1 | K13: =I13+J13 -> 1 | M13: =K13+L13 -> 1
A14: 7 | B14: ='orçamento c barreira'!#REF! -> #REF! | C14: ='orçamento c barreira'!#REF! -> #REF! | E14: =D14 -> 0 | G14: =E14+F14 -> 0 | H14: 0.4 | I14: =G14+H14 -> 0.4 | J14: 0.3 | K14: =I14+J14 -> 0.7 | L14: 0.3 | M14: =K14+L14 -> 1
A15: 8 | B15: ='orçamento c barreira'!#REF! -> #REF! | C15: ='orçamento c barreira'!#REF! -> #REF! | E15: =D15 -> 0 | G15: =E15+F15 -> 0 | H15: 0.2 | I15: =G15+H15 -> 0.2 | J15: 0.5 | K15: =I15+J15 -> 0.7 | L15: 0.3 | M15: =K15+L15 -> 1
A16: 9 | B16: ='orçamento c barreira'!#REF! -> #REF! | C16: ='orçamento c barreira'!#REF! -> #REF! | E16: =D16 -> 0 | G16: =E16+F16 -> 0 | I16: =G16+H16 -> 0 | K16: =I16+J16 -> 0 | L16: 0.1 | M16: =K16+L16 -> 0.1
A17: 10 | B17: ='orçamento c barreira'!#REF! -> #REF! | C17: ='orçamento c barreira'!#REF! -> #REF! | E17: =D17 -> 0 | G17: =E17+F17 -> 0 | I17: =G17+H17 -> 0 | K17: =I17+J17 -> 0 | L17: 0.15 | M17: =K17+L17 -> 0.15
A18: 11 | B18: ='orçamento c barreira'!#REF! -> #REF! | C18: ='orçamento c barreira'!#REF! -> #REF! | E18: =D18 -> 0 | G18: =E18+F18 -> 0 | I18: =G18+H18 -> 0 | K18: =I18+J18 -> 0 | M18: =K18+L18 -> 0
A19: 12 | B19: ='orçamento c barreira'!#REF! -> #REF! | C19: ='orçamento c barreira'!#REF! -> #REF! | E19: =D19 -> 0 | G19: =E19+F19 -> 0 | I19: =G19+H19 -> 0 | K19: =I19+J19 -> 0 | M19: =K19+L19 -> 0
A20: 13 | B20: ='orçamento c barreira'!$C$9 -> BARREIRAS E SINALIZAÇÃO | C20: ='orçamento c barreira'!$H$9 -> 18695.15 | E20: =D20 -> 0 | G20: =E20+F20 -> 0 | I20: =G20+H20 -> 0 | K20: =I20+J20 -> 0 | M20: =K20+L20 -> 0
A21: TOTAL (%) | D21: =D22/C42 -> #REF! | E21: =D21 -> #REF! | F21: =F22/C42 -> #REF! | G21: =E21+F21 -> #REF! | H21: =H22/C42 -> #REF! | I21: =G21+H21 -> #REF! | J21: =J22/C42 -> #REF! | K21: =I21+J21 -> #REF! | L21: =L22/C42 -> #REF! | M21: =K21+L21 -> #REF!
B22: Período | D22: =($C$8*D8)+($C$9*D9)+($C$10*D10)+($C$11*D11)+($C$12*D12)+($C$13*D13)+($C$14*D14)+($C$15*D15)+($C$16*D16)+($C$20*D20) -> #REF! | F22: =($C$8*F8)+($C$9*F9)+($C$10*F10)+($C$11*F11)+($C$12*F12)+($C$13*F13)+($C$14*F14)+($C$15*F15)+($C$16*F16)+($C$20*F20)+($C$17*F17)+($C$19*F19) -> #REF! | H22: =($C$8*H8)+($C$9*H9)+($C$10*H10)+($C$11*H11)+($C$12*H12)+($C$13*H13)+($C$14*H14)+($C$15*H15)+($C$16*H16)+($C$20*H20)+($C$17*H17)+($C$19*H19)+($C$18*H18) -> #REF! | J22: =($C$8*J8)+($C$9*J9)+($C$10*J10)+($C$11*J11)+($C$12*J12)+($C$13*J13)+($C$14*J14)+($C$15*J15)+($C$16*J16)+($C$20*J20)+(J17*$C$17)+(J18*$C$18)+(J19*$C$19) -> #REF! | L22: =($C$8*L8)+($C$9*L9)+($C$10*L10)+($C$11*L11)+($C$12*L12)+($C$13*L13)+($C$14*L14)+($C$15*L15)+($C$16*L16)+($C$20*L20)+(L17*$C$17)+(L18*$C$18)+(L19*$C$19) -> #REF!
B23: Acumulado | C23: =SUM(C8:C20) -> #REF! | D23: =D22 -> #REF! | F23: =F22+D23 -> #REF! | H23: =H22+F23 -> #REF! | J23: =J22+H23 -> #REF! | L23: =L22+J23 -> #REF!
A25: item | C25: valor | D25: 6º Mês | F25: 7º Mês | H25: 8º Mês | J25: 9º Mês | L25: 10º Mês
D26: no mês | E26: acum. | F26: no mês | G26: acum. | H26: no mês | I26: acum. | J26: no mês | K26: acum. | L26: no mês | M26: acum.
A27: 1 | B27: ='orçamento c barreira'!#REF! -> #REF! | C27: ='orçamento c barreira'!#REF! -> #REF! | D27: 0.1 | E27: =D27+M8 -> 0.6 | F27: 0.1 | G27: =E27+F27 -> 0.7 | H27: 0.1 | I27: =G27+H27 -> 0.8 | J27: 0.1 | K27: =I27+J27 -> 0.9 | L27: 0.1 | M27: =K27+L27 -> 1
A28: =A27+1 -> 2 | B28: ='orçamento c barreira'!#REF! -> #REF! | C28: ='orçamento c barreira'!#REF! -> #REF! | E28: =D28+M9 -> 1 | G28: =E28+F28 -> 1 | I28: =G28+H28 -> 1 | K28: =I28+J28 -> 1 | M28: =K28+L28 -> 1
A29: 3 | B29: ='orçamento c barreira'!#REF! -> #REF! | C29: ='orçamento c barreira'!#REF! -> #REF! | E29: =D29+M10 -> 1 | G29: =E29+F29 -> 1 | I29: =G29+H29 -> 1 | K29: =I29+J29 -> 1 | M29: =K29+L29 -> 1
A30: 4 | B30: ='orçamento c barreira'!#REF! -> #REF! | C30: ='orçamento c barreira'!#REF! -> #REF! | E30: =D30+M11 -> 1 | G30: =E30+F30 -> 1 | I30: =G30+H30 -> 1 | K30: =I30+J30 -> 1 | M30: =K30+L30 -> 1
A31: 5 | B31: ='orçamento c barreira'!#REF! -> #REF! | C31: ='orçamento c barreira'!#REF! -> #REF! | E31: =D31+M12 -> 1 | G31: =E31+F31 -> 1 | I31: =G31+H31 -> 1 | K31: =I31+J31 -> 1 | M31: =K31+L31 -> 1
A32: 6 | B32: ='orçamento c barreira'!#REF! -> #REF! | C32: ='orçamento c barreira'!#REF! -> #REF! | E32: =D32+M13 -> 1 | G32: =E32+F32 -> 1 | I32: =G32+H32 -> 1 | K32: =I32+J32 -> 1 | M32: =K32+L32 -> 1
A33: 7 | B33: ='orçamento c barreira'!#REF! -> #REF! | C33: ='orçamento c barreira'!#REF! -> #REF! | E33: =D33+M14 -> 1 | G33: =E33+F33 -> 1 | I33: =G33+H33 -> 1 | K33: =I33+J33 -> 1 | M33: =K33+L33 -> 1
A34: 8 | B34: ='orçamento c barreira'!#REF! -> #REF! | C34: ='orçamento c barreira'!#REF! -> #REF! | E34: =D34+M15 -> 1 | G34: =E34+F34 -> 1 | I34: =G34+H34 -> 1 | K34: =I34+J34 -> 1 | M34: =K34+L34 -> 1
A35: 9 | B35: ='orçamento c barreira'!#REF! -> #REF! | C35: ='orçamento c barreira'!#REF! -> #REF! | D35: 0.3 | E35: =D35+M16 -> 0.4 | F35: 0.5 | G35: =E35+F35 -> 0.9 | H35: 0.1 | I35: =G35+H35 -> 1 | K35: =I35+J35 -> 1 | M35: =K35+L35 -> 1
A36: 10 | B36: ='orçamento c barreira'!#REF! -> #REF! | C36: ='orçamento c barreira'!#REF! -> #REF! | D36: 0.4 | E36: =D36+M17 -> 0.55 | F36: 0.45 | G36: =E36+F36 -> 1 | I36: =G36+H36 -> 1 | K36: =I36+J36 -> 1 | M36: =K36+L36 -> 1
A37: 11 | B37: ='orçamento c barreira'!#REF! -> #REF! | C37: ='orçamento c barreira'!#REF! -> #REF! | E37: =D37+M18 -> 0 | G37: =E37+F37 -> 0 | H37: 0.4 | I37: =G37+H37 -> 0.4 | J37: 0.4 | K37: =I37+J37 -> 0.8 | L37: 0.2 | M37: =K37+L37 -> 1
A38: 12 | B38: ='orçamento c barreira'!#REF! -> #REF! | C38: ='orçamento c barreira'!#REF! -> #REF! | D38: 0.35 | E38: =D38+M19 -> 0.35 | F38: 0.35 | G38: =E38+F38 -> 0.7 | H38: 0.3 | I38: =G38+H38 -> 1 | K38: =I38+J38 -> 1 | M38: =K38+L38 -> 1
A39: 13 | B39: ='orçamento c barreira'!$C$9 -> BARREIRAS E SINALIZAÇÃO | C39: ='orçamento c barreira'!$H$9 -> 18695.15 | E39: =D39+M20 -> 0 | G39: =E39+F39 -> 0 | H39: 0.3 | I39: =G39+H39 -> 0.3 | J39: 0.45 | K39: =I39+J39 -> 0.75 | L39: 0.25 | M39: =K39+L39 -> 1
A40: TOTAL (%) | D40: =D41/C42 -> #REF! | E40: =D40+M21 -> #REF! | F40: =F41/C42 -> #REF! | G40: =E40+F40 -> #REF! | H40: =H41/C42 -> #REF! | I40: =G40+H40 -> #REF! | J40: =J41/C42 -> #REF! | K40: =I40+J40 -> #REF! | L40: =L41/C42 -> #REF! | M40: =K40+L40 -> #REF!
B41: Período | D41: =($C$8*D27)+($C$9*D28)+($C$10*D29)+($C$11*D30)+($C$12*D31)+($C$13*D32)+($C$14*D33)+($C$15*D34)+($C$16*D35)+($C$20*D39)+(D36*C36)+(D38*C38) -> #REF! | F41: =($C$8*F27)+($C$9*F28)+($C$10*F29)+($C$11*F30)+($C$12*F31)+($C$13*F32)+($C$14*F33)+($C$15*F34)+($C$16*F35)+($C$20*F39)+($C$17*F36)+($C$19*F38) -> #REF! | H41: =($C$8*H27)+($C$9*H28)+($C$10*H29)+($C$11*H30)+($C$12*H31)+($C$13*H32)+($C$14*H33)+($C$15*H34)+($C$16*H35)+($C$20*H39)+($C$17*H36)+($C$19*H38)+($C$18*H37) -> #REF! | J41: =($C$8*J27)+($C$9*J28)+($C$10*J29)+($C$11*J30)+($C$12*J31)+($C$13*J32)+($C$14*J33)+($C$15*J34)+($C$16*J35)+($C$20*J39)+(J36*$C$17)+(J37*$C$18)+(J38*$C$19) -> #REF! | L41: =($C$8*L27)+($C$9*L28)+($C$10*L29)+($C$11*L30)+($C$12*L31)+($C$13*L32)+($C$14*L33)+($C$15*L34)+($C$16*L35)+($C$20*L39)+(L36*$C$17)+(L37*$C$18)+(L38*$C$19) -> #REF!
B42: Acumulado | C42: =SUM(C25:C39) -> #REF! | D42: =D41+L23 -> #REF! | F42: =F41+D42 -> #REF! | H42: =H41+F42 -> #REF! | J42: =J41+H42 -> #REF! | L42: =L41+J42 -> #REF!
...

Sheet bdi
C4: ITENS | E4: SIGLA | F4: VALORES
C5: TAXA DE RATEIO DA ADMINISTRAÇÃO CENTRAL | E5: AC | F5: 0.038
C6: TAXA DE SEGURO E GARANTIADO EMPREENDIMENTO | E6: S+G | F6: 0.0032
C7: TAXA DE RISCO | E7: R | F7: 0.005
C8: TAXA DE DESPESAS FINANCEIRAS | E8: DF | F8: 0.0102
C9: TAXA DE LUCRO | E9: L | F9: 0.0664
C10: TAXAS E TRIBUTOS | D10: PIS (geralmente 0,65%) | E10: I | F10: 0.0065
D11: COFINS (geralmente 3,00%) | F11: 0.03
D12: ISS (legislação municipal) | F12: 0.05
D13: CPRB (INSS) | F13: 0
C14: BDI RESULTANTE | F14: =(((1+(F5+F7+F6))*(1+F8)*(1+F9)/(1-(F10+F11+F12+F13))-1)) -> 0.23376846

Sheet Encargos Sociais
A1: ENCARGOS TRABALHISTAS SICRO OUT/2025
A2: Código | B2: Descrição | C2: Unid. | D2: Total (%)
A3: P9801 | B3: Ajudante | C3: h | D3: 109.39
A4: P9830 | B4: Montador | C4: h | D4: 110.19
A5: P9824 | B5: Servente | C5: h | D5: 109.39
A6: P9853 | B6: Pré-marcador | C6: h | D6: 109.39
