Workbook
Name arredquant: IF(ORÇAM!#REF!=TRUE,2,15)
Name arredquant: IF(#REF!=TRUE,2,15)
Name arredtot: IF(ORÇAM!$L$3=TRUE,2,15)
Name arredtot: IF(#REF!=TRUE,2,15)
Name arredunit: IF(ORÇAM!$K$3=TRUE,2,15)
Name arredunit: IF(#REF!=TRUE,2,15)
Name B: IF(#REF!=TRUE,2,15)
Name ç: ROUND(ROUND(#REF!,[0]!p)*ROUND(#REF!,arredunit),arredtot)
Name D: ROUND(ROUND(#REF!,B)*ROUND(#REF!,arredunit),arredtot)
Name mi: IF(#REF!=TRUE,2,15)
Name O: ROUND(ROUND(#REF!,arredquant)*ROUND(#REF!,arredunit),arredtot)
Name O: ROUND(ROUND(#REF!,arredquant)*ROUND(#REF!,arredunit),arredtot)
Name p: IF(#REF!=TRUE,2,15)
Name RegimeExecucao: IF(OR([2]DADOS!$A$36="Empreitada Preço Global",[2]DADOS!$A$36="Empreitada Integral"),"Global","Unitário")
Name SomaAgrup: SUMIF(OFFSET(ORÇAM!$A1,1,0,ORÇAM!$B1),"S",OFFSET(ORÇAM!A1,1,0,ORÇAM!$B1))
Name SomaAgrup: SUMIF(OFFSET(#REF!,1,0,#REF!),"S",OFFSET(#REF!,1,0,#REF!))
Name total: ROUND(ROUND(ORÇAM!XFC1,ORÇAM!arredquant)*ROUND(ORÇAM!XFD1,ORÇAM!arredunit),ORÇAM!arredtot)
Name total: ROUND(ROUND(#REF!,arredquant)*ROUND(#REF!,arredunit),arredtot)
Name varanda: ROUND(ROUND(#REF!,arredquant)*ROUND(#REF!,arredunit),arredtot)

Sheet ORÇAM
A1: PREFEITURA MUNICIPAL DE SALTO DO JACUÍ
A2: OBRA | B2: REFORMA PARA IMPLANTAÇÃO DO ECOPONTO DE RESIDUOS URBANOS | G2: Ref. Sinapi: | H2: 45992
A3: LOCAL | B3: AV. DAS INDUSTRIAS - SALTO DO JACUÍ/RS | D3: BDI | E3: =BDI!F14 -> 0.25460474 | F3: % | G3: DESONERADO
A4: PLANILHA ATUALIZADA
A7: Código Sinapi | B7: Item | C7: Discriminação | D7: Unid. | E7: Qtde. | F7: Preço Unitário (R$) | G7: Preço Unit+BDI (R$) | H7: Preço Total (R$)
B9: 1 | C9: SERVIÇOS PRELIMINARES E GERAIS | H9: =SUM(H10:H14) -> 3392.51
A10: 103689 | B10: 1.1 | C10: PLACA DE OBRA | D10: m² | E10: 3 | F10: 455.28 | G10: =ROUND((F10*$E$3)+F10,2) -> 571.2 | H10: =ROUND(E10*G10,2) -> 1713.6
A11: 97624 | B11: 1.2 | C11: DEMOLIÇÃO DE ALVENARIA | D11: m³ | E11: 1.26 | F11: 52.92 | G11: =ROUND((F11*$E$3)+F11,2) -> 66.39 | H11: =ROUND(E11*G11,2) -> 83.65
A12: 97642 | B12: 1.3 | C12: RETIRADA DE TRAMA DE MADEIRA | D12: m² | E12: 160.65 | F12: 3.25 | G12: =ROUND((F12*$E$3)+F12,2) -> 4.08 | H12: =ROUND(E12*G12,2) -> 655.45
A13: 97647 | B13: 1.4 | C13: RETIRADA DE TELHA DE FIBROCIMENTO | D13: m² | E13: 160.65 | F13: 3.97 | G13: =ROUND((F13*$E$3)+F13,2) -> 4.98 | H13: =ROUND(E13*G13,2) -> 800.04
A14: 98525 | B14: 1.5 | C14: REMOÇÃO DE CAMADA SUPERFICIAL | D14: m² | E14: 160.65 | F14: 0.69 | G14: =ROUND((F14*$E$3)+F14,2) -> 0.87 | H14: =ROUND(E14*G14,2) -> 139.77
B16: =B9+1 -> 2 | C16: PISO | H16: =SUM(H17:H18) -> 26657.64
A17: 7156 | B17: 2.1 | C17: MALHA SOLDADA 5.0MM 10X10 - Q196 | D17: m² | E17: 160.65 | F17: 28.84 | G17: =ROUND((F17*$E$3)+F17,2) -> 36.18 | H17: =ROUND(E17*G17,2) -> 5812.32
A18: 102475 | B18: 2.2 | C18: CONCRETO FCK 25MPA - CONTRAPISO POLIDO | D18: m³ | E18: 24.09 | F18: 689.71 | G18: =ROUND((F18*$E$3)+F18,2) -> 865.31 | H18: =ROUND(E18*G18,2) -> 20845.32
B20: =B16+1 -> 3 | C20: FECHAMENTO | H20: =SUM(H21:H22) -> 1728.61
A21: 43083 | B21: 3.1 | C21: TERÇA ENRIGECIDA | D21: Kg | E21: =9.94*12 -> 119.28 | F21: 9.08 | G21: =ROUND((F21*$E$3)+F21,2) -> 11.39 | H21: =ROUND(E21*G21,2) -> 1358.6
A22: 10617 | B22: 3.2 | C22: TELHA ALUZINCO TRAPEZOIDAL - 40mm | D22: uni | E22: 7.2 | F22: 40.96 | G22: =ROUND((F22*$E$3)+F22,2) -> 51.39 | H22: =ROUND(E22*G22,2) -> 370.01
B24: =B20+1 -> 4 | C24: COBERTURA E FORRO | H24: =SUM(H25:H27) -> 11829.86
A25: 7194 | B25: 4.1 | C25: TELHA FIBROCIMENTO 6 mm | D25: m² | E25: 196 | F25: 29.46 | G25: =ROUND((F25*$E$3)+F25,2) -> 36.96 | H25: =ROUND(E25*G25,2) -> 7244.16
A26: 94451 | B26: 4.2 | C26: CUMEEIRA FIBROCIMENTO 6 mm | D26: m | E26: 14 | F26: 91.91 | G26: =ROUND((F26*$E$3)+F26,2) -> 115.31 | H26: =ROUND(E26*G26,2) -> 1614.34
A27: 92543 | B27: 4.3 | C27: TRAMA DE MADEIRA COMPOSTA POR TERÇA PARA TELHADO | D27: m² | E27: 196 | F27: 12.08 | G27: =ROUND((F27*$E$3)+F27,2) -> 15.16 | H27: =ROUND(E27*G27,2) -> 2971.36
B29: =B24+1 -> 5 | C29: ESQUADRIAS | H29: =SUM(H30) -> 22874.43
A30: 87878 | B30: 5.1 | C30: PORTA CONTRAPESO METALIXA (3,9X3,55 - pintada e instalada - 2 uni) | D30: m² | E30: =(3.9*3.55)*2 -> 27.69 | F30: 658.45 | G30: =ROUND((F30*$E$3)+F30,2) -> 826.09 | H30: =ROUND(E30*G30,2) -> 22874.43
B32: =B29+1 -> 6 | C32: PLUVIAL | H32: =SUM(H33:H41) -> 3795.93
A33: 89402 | B33: 6.1 | C33: TUBULAÇÃO AGUA FRIA 25MM (incluindo fixação, conexões e corte) | D33: m | E33: 55 | F33: 13.83 | G33: =ROUND((F33*$E$3)+F33,2) -> 17.35 | H33: =ROUND(E33*G33,2) -> 954.25
A34: 86911 | B34: 6.2 | C34: TORNEIRA (completo incluso instalação) | D34: uni | E34: 1 | F34: 154.49 | G34: =ROUND((F34*$E$3)+F34,2) -> 193.82 | H34: =ROUND(E34*G34,2) -> 193.82
A35: 93358 | B35: 6.3 | C35: ESCAVAÇÃO DE VALA | D35: m³ | E35: 2.5 | F35: 96.16 | G35: =ROUND((F35*$E$3)+F35,2) -> 120.64 | H35: =ROUND(E35*G35,2) -> 301.6
A36: 89714 | B36: 6.4 | C36: TUBULAÇÃO ESGOTO 100MM (incluindo fixação, conexões e corte | D36: m | E36: 1 | F36: 41.9 | G36: =ROUND((F36*$E$3)+F36,2) -> 52.57 | H36: =ROUND(E36*G36,2) -> 52.57
A37: 103354 | B37: 6.5 | C37: CAIXA DE CONTENÇÃO (0,8X0,8X0,8m-alvenaria/rebocada) | D37: uni | E37: 4 | F37: 92.88 | G37: =ROUND((F37*$E$3)+F37,2) -> 116.53 | H37: =ROUND(E37*G37,2) -> 466.12
A38: 7156 | B38: 6.6 | C38: MALHA SOLDADA 5.0MM 10X10 - Q196 (fundo e tampa da caixa) | D38: m² | E38: 2 | F38: 28.84 | G38: =ROUND((F38*$E$3)+F38,2) -> 36.18 | H38: =ROUND(E38*G38,2) -> 72.36
A39: 103354 | B39: 6.7 | C39: CANALETA (0,2X0,2X9,3-alvenaria/rebocada) | D39: uni | E39: 3.72 | F39: 92.88 | G39: =ROUND((F39*$E$3)+F39,2) -> 116.53 | H39: =ROUND(E39*G39,2) -> 433.49
A40: 546 | B40: 6.8 | C40: GRELHA METALICA (0,28X9,1 - confecionado por barra chata retangular) | D40: kg | E40: =1.24*102 -> 126.48 | F40: 8.33 | G40: =ROUND((F40*$E$3)+F40,2) -> 10.45 | H40: =ROUND(E40*G40,2) -> 1321.72
B43: =B32+1 -> 7 | C43: ELETRICO | H43: =SUM(H44:H54) -> 2693.63
A44: 101654 | B44: 7.1 | C44: LUMINARIA 50w - fornecimento e instalação | D44: uni | E44: 6 | F44: 193.72 | G44: =ROUND((F44*$E$3)+F44,2) -> 243.04 | H44: =ROUND(E44*G44,2) -> 1458.24
A45: 91926 | B45: 7.3 | C45: CABO FLEXIVEL 2,5mm (iluminação) | D45: m | E45: =E46*4 -> 64 | F45: 4.59 | G45: =ROUND((F45*$E$3)+F45,2) -> 5.76 | H45: =ROUND(E45*G45,2) -> 368.64
A46: 91862 | B46: 7.4 | C46: ELETRODUTO RIGIDO 25mm, BARRA 3m | D46: uni | E46: 16 | F46: 11.46 | G46: =ROUND((F46*$E$3)+F46,2) -> 14.38 | H46: =ROUND(E46*G46,2) -> 230.08
A47: 1872 | B47: 7.5 | C47: CAIXA DE PASSAGEM 4X2 | D47: uni | E47: =E48+E49 -> 4 | F47: 2.82 | G47: =ROUND((F47*$E$3)+F47,2) -> 3.54 | H47: =ROUND(E47*G47,2) -> 14.16
A48: 39799 | B48: 7.6 | C48: QUADRO DE DISTRIBUIÇÃO (4 disjuntores) | D48: uni | E48: 1 | F48: 44.08 | G48: =ROUND((F48*$E$3)+F48,2) -> 55.3 | H48: =ROUND(E48*G48,2) -> 55.3
A49: 92000 | B49: 7.7 | C49: TOMADAS 10A | D49: uni | E49: 3 | F49: 36.13 | G49: =ROUND((F49*$E$3)+F49,2) -> 45.33 | H49: =ROUND(E49*G49,2) -> 135.99
A50: 91953 | B50: 7.8 | C50: INTERRUPTOR | D50: uni | E50: 1 | F50: 34.4 | G50: =ROUND((F50*$E$3)+F50,2) -> 43.16 | H50: =ROUND(E50*G50,2) -> 43.16
...

Sheet CRONOGRAMA
A1: PREFEITURA MUNICIPAL DE SALTO DO JACUÍ
A2: OBRA | B2: =ORÇAM!B2 -> REFORMA PARA IMPLANTAÇÃO DO ECOPONTO DE RESIDUOS URBANOS | J2: ÁREA | K2: =ORÇAM!E2 -> 0
A3: LOCAL | B3: =ORÇAM!B3 -> AV. DAS INDUSTRIAS - SALTO DO JACUÍ/RS
A4: CRONOGRAMA
A6: item | C6: valor | D6: 1º Mês | F6: 2º Mês | H6: 3º Mês | J6: 4º Mês
D7: no mês | E7: acum. | F7: no mês | G7: acum. | H7: no mês | I7: acum. | J7: no mês | K7: acum.
A8: =ORÇAM!B9 -> 1 | B8: =ORÇAM!C9 -> SERVIÇOS PRELIMINARES E GERAIS | C8: =ORÇAM!H9 -> 3392.51 | D8: 1 | E8: =D8 -> 1 | G8: =E8+F8 -> 1 | I8: =G8+H8 -> 1 | K8: =I8+J8 -> 1
A9: =ORÇAM!B16 -> 2 | B9: =ORÇAM!C16 -> PISO | C9: =ORÇAM!H16 -> 26657.64 | D9: 0.4 | E9: =D9 -> 0.4 | F9: 0.6 | G9: =E9+F9 -> 1 | I9: =G9+H9 -> 1 | K9: =I9+J9 -> 1
A10: =ORÇAM!B20 -> 3 | B10: =ORÇAM!C20 -> FECHAMENTO | C10: =ORÇAM!H20 -> 1728.61 | E10: =D10 -> 0 | G10: =E10+F10 -> 0 | H10: 1 | I10: =G10+H10 -> 1 | K10: =I10+J10 -> 1
A11: =ORÇAM!B24 -> 4 | B11: =ORÇAM!C24 -> COBERTURA E FORRO | C11: =ORÇAM!H24 -> 11829.86 | E11: =D11 -> 0 | F11: 0.5 | G11: =E11+F11 -> 0.5 | H11: 0.5 | I11: =G11+H11 -> 1 | K11: =I11+J11 -> 1
A12: =ORÇAM!B29 -> 5 | B12: =ORÇAM!C29 -> ESQUADRIAS | C12: =ORÇAM!H29 -> 22874.43 | E12: =D12 -> 0 | G12: =E12+F12 -> 0 | H12: 0.5 | I12: =G12+H12 -> 0.5 | J12: 0.5 | K12: =I12+J12 -> 1
A13: =ORÇAM!B32 -> 6 | B13: =ORÇAM!C32 -> PLUVIAL | C13: =ORÇAM!H32 -> 3795.93 | D13: 1 | E13: =D13 -> 1 | G13: =E13+F13 -> 1 | I13: =G13+H13 -> 1 | K13: =I13+J13 -> 1
A14: =ORÇAM!B43 -> 7 | B14: =ORÇAM!C43 -> ELETRICO | C14: =ORÇAM!H43 -> 2693.63 | E14: =D14 -> 0 | G14: =E14+F14 -> 0 | I14: =G14+H14 -> 0 | J14: 1 | K14: =I14+J14 -> 1
A15: =ORÇAM!B56 -> 8 | B15: =ORÇAM!C56 -> SERVIÇOS COMPLEMENTARES | C15: =ORÇAM!H56 -> 363.07 | E15: =D15 -> 0 | G15: =E15+F15 -> 0 | I15: =G15+H15 -> 0 | J15: 1 | K15: =I15+J15 -> 1
A16: TOTAL (%) | D16: =D17/C18 -> 0.2434217 | E16: =D16 -> 0.2434217 | F16: =F17/C18 -> 0.29875654 | G16: =E16+F16 -> 0.54217824 | H16: =H17/C18 -> 0.26018379 | I16: =G16+H16 -> 0.80236203 | J16: =J17/C18 -> 0.19763797 | K16: =I16+J16 -> 1
B17: Período | D17: =($C$8*D8)+($C$9*D9)+($C$13*D13)+($C$10*D10)+($C$11*D11)+($C$12*D12)+($C$14*D14)+($C$15*D15) -> 17851.496 | F17: =($C$8*F8)+($C$9*F9)+($C$13*F13)+($C$10*F10)+($C$11*F11)+($C$12*F12)+($C$14*F14)+($C$15*F15) -> 21909.514 | H17: =($C$8*H8)+($C$9*H9)+($C$13*H13)+($C$10*H10)+($C$11*H11)+($C$12*H12)+($C$14*H14)+($C$15*H15) -> 19080.755 | J17: =($C$8*J8)+($C$9*J9)+($C$13*J13)+($C$10*J10)+($C$11*J11)+($C$12*J12)+($C$14*J14)+($C$15*J15) -> 14493.915
B18: Acumulado | C18: =SUM(C8:C17) -> 73335.68 | D18: =D17 -> 17851.496 | F18: =F17+D18 -> 39761.01 | H18: =H17+F18 -> 58841.765 | J18: =C18 -> 73335.68

Sheet BDI
C4: ITENS | E4: SIGLA | F4: VALORES
C5: TAXA DE RATEIO DA ADMINISTRAÇÃO CENTRAL | E5: AC | F5: 0.0433
C6: TAXA DE SEGURO E GARANTIADO EMPREENDIMENTO | E6: S+G | F6: 0.0049
C7: TAXA DE RISCO | E7: R | F7: 0.0129
C8: TAXA DE DESPESAS FINANCEIRAS | E8: DF | F8: 0.0099
C9: TAXA DE LUCRO | E9: L | F9: 0.0695
C10: TAXAS E TRIBUTOS | D10: PIS (geralmente 0,65%) | E10: I | F10: 0.0065
D11: COFINS (geralmente 3,00%) | F11: 0.03
D12: ISS (legislação municipal) | F12: 0.05
D13: CPRB (INSS) | F13: 0
C14: BDI RESULTANTE | F14: =(((1+(F5+F7+F6))*(1+F8)*(1+F9)/(1-(F10+F11+F12+F13))-1)) -> 0.25460474

Sheet VOLUME
B2: V | C2: 1000 | D2: N | E2: C | F2: T | G2: K | H2: lf
C3: 1000 | D3: 8 | E3: 480 | F3: 0.5 | G3: 185 | H3: 4
E4: =E3*F3 -> 240 | G4: =G3*H3 -> 740
F5: =E4+G4 -> 980
C6: 1000 | D6: =D3*F5 -> 7840
B7: V | C7: =C6+D6 -> 8840
