Workbook
Name arredquant: IF('NAV - BM01'!$M$3=TRUE,2,15)
Name arredquant: IF('NAV - BM02'!$M$3=TRUE,2,15)
Name arredquant: IF('NAV - cronograma'!$N$3=TRUE,2,15)
Name arredquant: IF('NAV - orçamento'!$M$3=TRUE,2,15)
Name arredquant: IF(Rascunho!$M$3=TRUE,2,15)
Name arredquant: IF(#REF!=TRUE,2,15)
Name arredtot: IF('NAV - BM01'!$O$3=TRUE,2,15)
Name arredtot: IF('NAV - BM02'!$O$3=TRUE,2,15)
Name arredtot: IF('NAV - cronograma'!$P$3=TRUE,2,15)
Name arredtot: IF('NAV - orçamento'!$O$3=TRUE,2,15)
Name arredtot: IF(Rascunho!$O$3=TRUE,2,15)
Name arredtot: IF(#REF!=TRUE,2,15)
Name arredunit: IF('NAV - BM01'!$N$3=TRUE,2,15)
Name arredunit: IF('NAV - BM02'!$N$3=TRUE,2,15)
Name arredunit: IF('NAV - cronograma'!$O$3=TRUE,2,15)
Name arredunit: IF('NAV - orçamento'!$N$3=TRUE,2,15)
Name arredunit: IF(Rascunho!$N$3=TRUE,2,15)
Name arredunit: IF(#REF!=TRUE,2,15)
Name O: ROUND(ROUND(#REF!,arredquant)*ROUND(#REF!,arredunit),arredtot)
Name O: ROUND(ROUND(#REF!,arredquant)*ROUND(#REF!,arredunit),arredtot)
Name O: ROUND(ROUND(#REF!,[0]!arredquant)*ROUND(#REF!,[0]!arredunit),[0]!arredtot)
Name O: ROUND(ROUND(#REF!,arredquant)*ROUND(#REF!,arredunit),arredtot)
Name O: ROUND(ROUND(#REF!,arredquant)*ROUND(#REF!,arredunit),arredtot)
Name O: ROUND(ROUND(#REF!,arredquant)*ROUND(#REF!,arredunit),arredtot)
Name RegimeExecucao: IF(OR([1]DADOS!$A$36="Empreitada Preço Global",[1]DADOS!$A$36="Empreitada Integral"),"Global","Unitário")
Name SomaAgrup: SUMIF(OFFSET('NAV - BM01'!$A1,1,0,'NAV - BM01'!$B1),"S",OFFSET('NAV - BM01'!A1,1,0,'NAV - BM01'!$B1))
Name SomaAgrup: SUMIF(OFFSET('NAV - BM02'!$A1,1,0,'NAV - BM02'!$B1),"S",OFFSET('NAV - BM02'!A1,1,0,'NAV - BM02'!$B1))
Name SomaAgrup: SUMIF(OFFSET('NAV - cronograma'!$A1,1,0,'NAV - cronograma'!$B1),"S",OFFSET('NAV - cronograma'!A1,1,0,'NAV - cronograma'!$B1))
Name SomaAgrup: SUMIF(OFFSET('NAV - orçamento'!$A1,1,0,'NAV - orçamento'!$B1),"S",OFFSET('NAV - orçamento'!A1,1,0,'NAV - orçamento'!$B1))
Name SomaAgrup: SUMIF(OFFSET(Rascunho!$A1,1,0,Rascunho!$B1),"S",OFFSET(Rascunho!A1,1,0,Rascunho!$B1))
Name SomaAgrup: SUMIF(OFFSET(#REF!,1,0,#REF!),"S",OFFSET(#REF!,1,0,#REF!))
Name total: ROUND(ROUND('NAV - BM01'!XFC1,'NAV - BM01'!arredquant)*ROUND('NAV - BM01'!XFD1,'NAV - BM01'!arredunit),'NAV - BM01'!arredtot)
Name total: ROUND(ROUND('NAV - BM02'!XFC1,'NAV - BM02'!arredquant)*ROUND('NAV - BM02'!XFD1,'NAV - BM02'!arredunit),'NAV - BM02'!arredtot)
Name total: ROUND(ROUND('NAV - cronograma'!XFC1,'NAV - cronograma'!arredquant)*ROUND('NAV - cronograma'!XFD1,'NAV - cronograma'!arredunit),'NAV - cronograma'!arredtot)
Name total: ROUND(ROUND('NAV - orçamento'!XFC1,'NAV - orçamento'!arredquant)*ROUND('NAV - orçamento'!XFD1,'NAV - orçamento'!arredunit),'NAV - orçamento'!arredtot)
Name total: ROUND(ROUND(Rascunho!XFC1,Rascunho!arredquant)*ROUND(Rascunho!XFD1,Rascunho!arredunit),Rascunho!arredtot)
Name total: ROUND(ROUND(#REF!,arredquant)*ROUND(#REF!,arredunit),arredtot)
Name varanda: ROUND(ROUND(#REF!,arredquant)*ROUND(#REF!,arredunit),arredtot)
Name varanda: ROUND(ROUND(#REF!,arredquant)*ROUND(#REF!,arredunit),arredtot)
Name varanda: ROUND(ROUND(#REF!,arredquant)*ROUND(#REF!,arredunit),arredtot)
Name varanda: ROUND(ROUND(#REF!,arredquant)*ROUND(#REF!,arredunit),arredtot)

Sheet Rascunho
A1: PREFEITURA MUNICIPAL DE SALTO DO JACUÍ
A2: OBRA | B2: AMPLIAÇÃO E REFORMA UBS NAVEGANTES | D2: ÁREA | E2: 198.13 | G2: Ref. Sinapi: | H2: 46113
A3: LOCAL | B3: Rua José Napoleão Pereira, nº 44, Salto do Jacuí/RS | D3: BDI | E3: =BDI!F13 -> 0.2520026 | F3: %
A4: ORÇAMENTO
E5: QUANTIDADES | I5: QUANTIDADES EXECUTADAS
A7: Código Sinapi | B7: Item | C7: Discriminação | D7: Unid. | E7: Qtde. | F7: Preço Unitário (R$) | G7: Preço Unit+BDI (R$) | H7: Preço Total (R$) | I7: % periodo | J7: % acumulada | K7: valor do BM | L7: acumulado
B9: 1 | C9: SERVIÇOS PRELIMINARES E GERAIS | H9: =SUM(H10:H12) -> 4803.17 | K9: =SUM(K11:K12) -> 0 | L9: =SUM(L11:L12) -> 0
A10: 103689 | B10: 1.1 | C10: PLACA DE OBRA | D10: m² | E10: 4.5 | F10: 494.7 | G10: =ROUND((F10*$E$3)+F10,2) -> 619.37 | H10: =ROUND(ROUND(E10,2)*G10,2) -> 2787.17
A11: 97635 | B11: 1.2 | C11: REMOÇÃO DE PISO EM PAVER | D11: m² | E11: 68 | F11: 17.89 | G11: =ROUND((F11*$E$3)+F11,2) -> 22.4 | H11: =ROUND(ROUND(E11,2)*G11,2) -> 1523.2 | J11: =I11+'NAV - BM01'!J10 -> 0 | K11: =I11*H11 -> 0 | L11: =J11*H11 -> 0
A12: 97635 | B12: 1.3 | C12: REMOÇÃO DE CONCRETO DE CALÇADAS | D12: m³ | E12: 22 | F12: 17.89 | G12: =ROUND((F12*$E$3)+F12,2) -> 22.4 | H12: =ROUND(ROUND(E12,2)*G12,2) -> 492.8 | J12: =I12+'NAV - BM01'!J11 -> 0 | K12: =I12*H12 -> 0 | L12: =J12*H12 -> 0
A13: 96522 | B13: 2.1 | C13: ESCAVAÇÃO MANUAL SAPATA CORRIDA 40x40cm | D13: m³ | E13: 0 | F13: 129.74 | G13: =ROUND((F13*$E$3)+F13,2) -> 162.43 | H13: =ROUND(ROUND(E13,2)*G13,2) -> 0 | J13: =I13+'NAV - BM01'!J14 -> 1 | K13: =I13*H13 -> 0 | L13: =J13*H13 -> 0 | N13: 0
A14: 102487 | B14: 2.2 | C14: CONCRETO CICLÓPICO 30 % PEDRA, PREPARO E LANÇAMENTO | D14: m³ | E14: =((100%-J14)*N14) -> 0.528 | F14: 652.74 | G14: =ROUND((F14*$E$3)+F14,2) -> 817.23 | H14: =ROUND(ROUND(E14,2)*G14,2) -> 433.13 | J14: =I14+'NAV - BM01'!J15 -> 0.95 | K14: =I14*H14 -> 0 | L14: =J14*H14 -> 411.4735 | N14: =((100%-S14)*10.56) -> 10.56 | O14: =((E14/N14)-1) -> -0.95
A15: 92763 | B15: 2.2 | C15: ARMAÇÃO FERRAGEM CA-50 12,5 MM | D15: kg | E15: =((100%-J15)*N15) -> 19.156 | F15: 8.89 | G15: =ROUND((F15*$E$3)+F15,2) -> 11.13 | H15: =ROUND(ROUND(E15,2)*G15,2) -> 213.25 | I15: 0.9 | J15: =I15+'NAV - BM01'!J16 -> 0.9 | K15: =I15*H15 -> 191.925 | L15: =J15*H15 -> 191.925 | N15: 191.56 | O15: =((E15/N15)-1) -> -0.9
A16: 92762 | B16: 2.3 | C16: ARMAÇÃO FERRAGEM CA-50 10 MM | D16: kg | E16: =((100%-J16)*N16) -> 44.992 | F16: 10.62 | G16: =ROUND((F16*$E$3)+F16,2) -> 13.3 | H16: =ROUND(ROUND(E16,2)*G16,2) -> 598.37 | I16: 0.55 | J16: =I16+'NAV - BM01'!J17 -> 0.9 | K16: =I16*H16 -> 329.1035 | L16: =J16*H16 -> 538.533 | N16: 449.92 | O16: =((E16/N16)-1) -> -0.9
A17: 92760 | B17: 2.4 | C17: ARMAÇÃO FERRAGEM CA-50 6,3 MM | D17: kg | E17: =((100%-J17)*N17) -> 5.096 | F17: 12.93 | G17: =ROUND((F17*$E$3)+F17,2) -> 16.19 | H17: =ROUND(ROUND(E17,2)*G17,2) -> 82.57 | I17: 0.9 | J17: =I17+'NAV - BM01'!J18 -> 0.9 | K17: =I17*H17 -> 74.313 | L17: =J17*H17 -> 74.313 | N17: 50.96 | O17: =((E17/N17)-1) -> -0.9
A18: 92759 | B18: 2.5 | C18: ARMAÇÃO FERRAGEM CA-50 5 MM | D18: kg | E18: =((100%-J18)*N18) -> 7.896 | F18: 13.95 | G18: =ROUND((F18*$E$3)+F18,2) -> 17.47 | H18: =ROUND(ROUND(E18,2)*G18,2) -> 138.01 | I18: 0.55 | J18: =I18+'NAV - BM01'!J19 -> 0.9 | K18: =I18*H18 -> 75.9055 | L18: =J18*H18 -> 124.209 | N18: 78.96 | O18: =((E18/N18)-1) -> -0.9
A19: 92767 | B19: 2.6 | C19: ARMAÇÃO FERRAGEM CA-50 4,2 MM | D19: kg | E19: =((100%-J19)*N19) -> 2.607 | F19: 15.31 | G19: =ROUND((F19*$E$3)+F19,2) -> 19.17 | H19: =ROUND(ROUND(E19,2)*G19,2) -> 50.03 | I19: 0.9 | J19: =I19+'NAV - BM01'!J20 -> 0.9 | K19: =I19*H19 -> 45.027 | L19: =J19*H19 -> 45.027 | N19: 26.07 | O19: =((E19/N19)-1) -> -0.9
A20: 102476 | B20: 2.7 | C20: CONCRETO FCK 25MPA - VIGAS, PILARES E VERGAS | D20: m³ | E20: =((100%-J20)*N20) -> 0.925 | F20: 720.22 | G20: =ROUND((F20*$E$3)+F20,2) -> 901.72 | H20: =ROUND(ROUND(E20,2)*G20,2) -> 838.6 | I20: 0.55 | J20: =I20+'NAV - BM01'!J21 -> 0.9 | K20: =I20*H20 -> 461.23 | L20: =J20*H20 -> 754.74 | N20: 9.25 | O20: =((E20/N20)-1) -> -0.9
A21: 102474 | B21: 2.8 | C21: CONCRETO FCK 20MPA - CONTRAPISO | D21: m³ | E21: =((100%-J21)*N21) -> 5.68 | F21: 637.63 | G21: =ROUND((F21*$E$3)+F21,2) -> 798.31 | H21: =ROUND(ROUND(E21,2)*G21,2) -> 4534.4 | J21: =I21+'NAV - BM01'!J22 -> 0 | K21: =I21*H21 -> 0 | L21: =J21*H21 -> 0 | N21: 5.68 | O21: =((E21/N21)-1) -> 0
A22: 92265 | B22: 2.9 | C22: FORMAS VIGAS, PILARES E VERGAS | D22: m² | E22: =((100%-J22)*N22) -> 3.683 | F22: 133.87 | G22: =ROUND((F22*$E$3)+F22,2) -> 167.61 | H22: =ROUND(ROUND(E22,2)*G22,2) -> 616.8 | I22: 0.55 | J22: =I22+'NAV - BM01'!J23 -> 0.9 | K22: =I22*H22 -> 339.24 | L22: =J22*H22 -> 555.12 | N22: 36.83 | O22: =((E22/N22)-1) -> -0.9
A23: 96522 | B23: 2.10 | C23: ESCAVAÇÃO MANUAL SAPATA CORRIDA 40x40cm - MURO | D23: m³ | E23: =((100%-J23)*N23) -> 10.6 | F23: 160.55 | G23: =ROUND((F23*$E$3)+F23,2) -> 201.01 | H23: =ROUND(ROUND(E23,2)*G23,2) -> 2130.71 | J23: =I23+'NAV - BM01'!J24 -> 0 | K23: =I23*H23 -> 0 | L23: =J23*H23 -> 0 | N23: 10.6 | O23: =((E23/N23)-1) -> 0
A24: 102487 | B24: 2.11 | C24: CONCRETO CICLÓPICO 30 % PEDRA, PREPARO E LANÇAMENTO - MURO | D24: m³ | E24: =((100%-J24)*N24) -> 6.36 | F24: =F14 -> 652.74 | G24: =ROUND((F24*$E$3)+F24,2) -> 817.23 | H24: =ROUND(ROUND(E24,2)*G24,2) -> 5197.58 | J24: =I24+'NAV - BM01'!J25 -> 0 | K24: =I24*H24 -> 0 | L24: =J24*H24 -> 0 | N24: 6.36 | O24: =((E24/N24)-1) -> 0
A25: =A15 -> 92763 | B25: 2.12 | C25: ARMAÇÃO FERRAGEM CA-50 12,5 MM - MURO | D25: kg | E25: =((100%-J25)*N25) -> 92.48 | F25: =F15 -> 8.89 | G25: =ROUND((F25*$E$3)+F25,2) -> 11.13 | H25: =ROUND(ROUND(E25,2)*G25,2) -> 1029.3 | J25: =I25+'NAV - BM01'!J26 -> 0 | K25: =I25*H25 -> 0 | L25: =J25*H25 -> 0 | N25: 92.48 | O25: =((E25/N25)-1) -> 0
A26: =A16 -> 92762 | B26: 2.13 | C26: ARMAÇÃO FERRAGEM CA-50 10 MM - MURO | D26: kg | E26: =((100%-J26)*N26) -> 86.38 | F26: =F16 -> 10.62 | G26: =ROUND((F26*$E$3)+F26,2) -> 13.3 | H26: =ROUND(ROUND(E26,2)*G26,2) -> 1148.85 | J26: =I26+'NAV - BM01'!J27 -> 0 | K26: =I26*H26 -> 0 | L26: =J26*H26 -> 0 | N26: 86.38 | O26: =((E26/N26)-1) -> 0
A27: 92761 | B27: 2.14 | C27: ARMAÇÃO FERRAGEM CA-50 8 MM - MURO | D27: kg | E27: =((100%-J27)*N27) -> 186.28 | F27: 12 | G27: =ROUND((F27*$E$3)+F27,2) -> 15.02 | H27: =ROUND(ROUND(E27,2)*G27,2) -> 2797.93 | J27: =I27+'NAV - BM01'!J28 -> 0 | K27: =I27*H27 -> 0 | L27: =J27*H27 -> 0 | N27: 186.28 | O27: =((E27/N27)-1) -> 0
A28: =A18 -> 92759 | B28: 2.15 | C28: ARMAÇÃO FERRAGEM CA-50 5 MM - MURO | D28: kg | E28: =((100%-J28)*N28) -> 95.78 | F28: =F18 -> 13.95 | G28: =ROUND((F28*$E$3)+F28,2) -> 17.47 | H28: =ROUND(ROUND(E28,2)*G28,2) -> 1673.28 | J28: =I28+'NAV - BM01'!J29 -> 0 | K28: =I28*H28 -> 0 | L28: =J28*H28 -> 0 | N28: 95.78 | O28: =((E28/N28)-1) -> 0
A29: 102476 | B29: 2.16 | C29: CONCRETO FCK 25MPA - VIGAS, PILARES E VERGAS - MURO | D29: m³ | E29: =((100%-J29)*N29) -> 4.77 | F29: =F20 -> 720.22 | G29: =ROUND((F29*$E$3)+F29,2) -> 901.72 | H29: =ROUND(ROUND(E29,2)*G29,2) -> 4301.2 | J29: =I29+'NAV - BM01'!J30 -> 0 | K29: =I29*H29 -> 0 | L29: =J29*H29 -> 0 | N29: 4.77 | O29: =((E29/N29)-1) -> 0
A30: 92265 | B30: 2.17 | C30: FORMAS VIGAS, PILARES E VERGAS - MURO | D30: m² | E30: =((100%-J30)*N30) -> 39.47 | F30: =F22 -> 133.87 | G30: =ROUND((F30*$E$3)+F30,2) -> 167.61 | H30: =ROUND(ROUND(E30,2)*G30,2) -> 6615.57 | J30: =I30+'NAV - BM01'!J31 -> 0 | K30: =I30*H30 -> 0 | L30: =J30*H30 -> 0 | N30: 39.47 | O30: =((E30/N30)-1) -> 0
A31: 101165 | B31: 2.18 | C31: ALVENARIA DE EMBASAMENTO TIJOLO MACIÇO | D31: m³ | E31: =((100%-J31)*N31) -> 0.206 | F31: 1144.15 | G31: =ROUND((F31*$E$3)+F31,2) -> 1432.48 | H31: =ROUND(ROUND(E31,2)*G31,2) -> 300.82 | J31: =I31+'NAV - BM01'!J32 -> 0.95 | K31: =I31*H31 -> 0 | L31: =J31*H31 -> 285.779 | N31: 4.12 | O31: =((E31/N31)-1) -> -0.95
A32: 103330 | B32: 3.1 | C32: ALVENARIA BLOCOS CERÂMICOS 11,5X14X19 | D32: m² | E32: =((100%-J32)*N32) -> 27.66 | F32: 86.72 | G32: =ROUND((F32*$E$3)+F32,2) -> 108.57 | H32: =ROUND(ROUND(E32,2)*G32,2) -> 3003.05 | I32: 0.85 | J32: =I32+'NAV - BM01'!J35 -> 0.85 | K32: =I32*H32 -> 2552.5925 | L32: =J32*H32 -> 2552.5925 | N32: 184.4 | O32: =((E32/N32)-1) -> -0.85
A33: 103330 | B33: 3.2 | C33: ALVENARIA BLOCOS CERÂMICOS 11,5X14X19 - MURO | D33: m² | E33: =((100%-J33)*N33) -> 78.39 | F33: =F32 -> 86.72 | G33: =ROUND((F33*$E$3)+F33,2) -> 108.57 | H33: =ROUND(ROUND(E33,2)*G33,2) -> 8510.8 | J33: =I33+'NAV - BM01'!J36 -> 0 | K33: =I33*H33 -> 0 | L33: =J33*H33 -> 0 | N33: 78.39 | O33: =((E33/N33)-1) -> 0
A34: 92544 | B34: 4.1 | C34: TRAMA DE MADEIRA (prolongamento do beiral da área a reformar) | D34: m² | E34: =((100%-J34)*N34) -> 95.52 | F34: 20.69 | G34: =ROUND((F34*$E$3)+F34,2) -> 25.9 | H34: =ROUND(ROUND(E34,2)*G34,2) -> 2473.97 | J34: =I34+'NAV - BM01'!J39 -> 0 | K34: =I34*H34 -> 0 | L34: =J34*H34 -> 0 | N34: 95.52 | O34: =((E34/N34)-1) -> 0
A35: 94213 | B35: 4.2 | C35: TELHAMENTO TELHAS METÁLICAS (TP 40 0,50mm, trapezoidal) , incluso cortes, dobras, parafusos, buchas, fita dupla face de vedação e instalação. | D35: m² | E35: =((100%-J35)*N35) -> 95.52 | F35: 63.02 | G35: =ROUND((F35*$E$3)+F35,2) -> 78.9 | H35: =ROUND(ROUND(E35,2)*G35,2) -> 7536.53 | J35: =I35+'NAV - BM01'!J40 -> 0 | K35: =I35*H35 -> 0 | L35: =J35*H35 -> 0 | N35: 95.52 | O35: =((E35/N35)-1) -> 0
A36: 94227 | B36: 4.3 | C36: RUFOS E CALHAS EM CHAPA DE AÇO GALVANIZADO (com fechamento total da platibanda na parte interna e superior), incluso, corte, dobra, parafusos, buchas, rebites, fita de vedação dupla face, adesivo PU, e instalação | D36: m | E36: =((100%-J36)*N36) -> 36.32 | F36: 73.61 | G36: =ROUND((F36*$E$3)+F36,2) -> 92.16 | H36: =ROUND(ROUND(E36,2)*G36,2) -> 3347.25 | J36: =I36+'NAV - BM01'!J41 -> 0 | K36: =I36*H36 -> 0 | L36: =J36*H36 -> 0 | N36: 36.32 | O36: =((E36/N36)-1) -> 0
A37: 96116 | B37: 4.4 | C37: FORRO PVC (3D, inclusive estrutura de fixação) | D37: m² | E37: =((100%-J37)*N37) -> 6.8 | F37: 74.84 | G37: =ROUND((F37*$E$3)+F37,2) -> 93.7 | H37: =ROUND(ROUND(E37,2)*G37,2) -> 637.16 | J37: =I37+'NAV - BM01'!J42 -> 0 | K37: =I37*H37 -> 0 | L37: =J37*H37 -> 0 | N37: 6.8 | O37: =((E37/N37)-1) -> 0
A38: 96121 | B38: 4.5 | C38: RODA FORRO PVC "U" (3D) | D38: m | E38: =((100%-J38)*N38) -> 13.6 | F38: 13.94 | G38: =ROUND((F38*$E$3)+F38,2) -> 17.45 | H38: =ROUND(ROUND(E38,2)*G38,2) -> 237.32 | J38: =I38+'NAV - BM01'!J43 -> 0 | K38: =I38*H38 -> 0 | L38: =J38*H38 -> 0 | N38: 13.6 | O38: =((E38/N38)-1) -> 0
A39: 96114 | B39: 4.6 | C39: FORRO GESSO ACARTONADO | D39: m² | E39: =((100%-J39)*N39) -> 81.2 | F39: 86.76 | G39: =ROUND((F39*$E$3)+F39,2) -> 108.62 | H39: =ROUND(ROUND(E39,2)*G39,2) -> 8819.94 | J39: =I39+'NAV - BM01'!J44 -> 0 | K39: =I39*H39 -> 0 | L39: =J39*H39 -> 0 | N39: 81.2 | O39: =((E39/N39)-1) -> 0
A40: 100764 | B40: 4.7 | C40: PERFIL METALICO 0,10X0,30X - COBERTURA EXTERNA | D40: kg | E40: =((100%-J40)*N40) -> 200.7 | F40: 19.34 | G40: =ROUND((F40*$E$3)+F40,2) -> 24.21 | H40: =ROUND(ROUND(E40,2)*G40,2) -> 4858.95 | J40: =I40+'NAV - BM01'!J45 -> 0 | K40: =I40*H40 -> 0 | L40: =J40*H40 -> 0 | N40: 200.7 | O40: =((E40/N40)-1) -> 0
A41: 100764 | B41: 4.8 | C41: PERFIL METALICO 0,10X0,30X - COBERTURA EXTERNA | D41: kg | E41: =((100%-J41)*N41) -> 281.34 | F41: 19.34 | G41: =ROUND((F41*$E$3)+F41,2) -> 24.21 | H41: =ROUND(ROUND(E41,2)*G41,2) -> 6811.24 | J41: =I41+'NAV - BM01'!J46 -> 0 | K41: =I41*H41 -> 0 | L41: =J41*H41 -> 0 | N41: 281.34 | O41: =((E41/N41)-1) -> 0
A42: 100764 | B42: 4.9 | C42: PERFIL METALICO 0,10X0,20X - COBERTURA EXTERNA | D42: kg | E42: =((100%-J42)*N42) -> 334.97 | F42: 19.34 | G42: =ROUND((F42*$E$3)+F42,2) -> 24.21 | H42: =ROUND(ROUND(E42,2)*G42,2) -> 8109.62 | J42: =I42+'NAV - BM01'!J47 -> 0 | K42: =I42*H42 -> 0 | L42: =J42*H42 -> 0 | N42: 334.97 | O42: =((E42/N42)-1) -> 0
...

Sheet NAV - BM02
A1: PREFEITURA MUNICIPAL DE SALTO DO JACUÍ
A2: OBRA | B2: AMPLIAÇÃO E REFORMA UBS NAVEGANTES | D2: ÁREA | E2: 198.13 | G2: Ref. Sinapi: | H2: 45992
A3: LOCAL | B3: Rua José Napoleão Pereira, nº 44, Salto do Jacuí/RS | D3: BDI | E3: 25.2 | F3: %
A4: BOLETIM DE MEDIÇÃO - 02
E5: QUANTIDADES LICITADAS | I5: QUANTIDADES EXECUTADAS
A7: Código Sinapi | B7: Item | C7: Discriminação | D7: Unid. | E7: Qtde. | F7: Preço Unitário (R$) | G7: Preço Unit+BDI (R$) | H7: Preço Total (R$) | I7: % periodo | J7: % acumulada | K7: valor do BM | L7: acumulado
B9: 1 | C9: SERVIÇOS PRELIMINARES E GERAIS | H9: =SUM(H10:H11) -> 1817.5284 | K9: =SUM(K10:K11) -> 0 | L9: =SUM(L10:L11) -> 0
A10: 97635 | B10: 1.1 | C10: REMOÇÃO DE PISO EM PAVER | D10: m² | E10: 68 | F10: 16.13 | G10: =(F10*$E$3/100)+F10 -> 20.19476 | H10: =E10*G10 -> 1373.2437 | J10: =I10+'NAV - BM01'!J10 -> 0 | K10: =I10*H10 -> 0 | L10: =J10*H10 -> 0
A11: 97635 | B11: 1.2 | C11: REMOÇÃO DE CONCRETO DE CALÇADAS | D11: m³ | E11: 22 | F11: 16.13 | G11: =(F11*$E$3/100)+F11 -> 20.19476 | H11: =E11*G11 -> 444.28472 | J11: =I11+'NAV - BM01'!J11 -> 0 | K11: =I11*H11 -> 0 | L11: =J11*H11 -> 0
B13: 2 | C13: FUNDAÇÃO E ESTRUTURA | H13: =SUM(H14:H32) -> 68649.894 | K13: =SUM(K14:K32) -> 14942.45 | L13: =SUM(L14:L32) -> 37168.142
A14: 96522 | B14: 2.1 | C14: ESCAVAÇÃO MANUAL SAPATA CORRIDA 40x40cm | D14: m³ | E14: 10.56 | F14: 129.74 | G14: =(F14*$E$3/100)+F14 -> 162.43448 | H14: =E14*G14 -> 1715.3081 | J14: =I14+'NAV - BM01'!J14 -> 1 | K14: =I14*H14 -> 0 | L14: =J14*H14 -> 1715.3081
A15: 102487 | B15: 2.2 | C15: CONCRETO CICLÓPICO 30 % PEDRA, PREPARO E LANÇAMENTO | D15: m³ | E15: 10.56 | F15: 608.4 | G15: =(F15*$E$3/100)+F15 -> 761.7168 | H15: =E15*G15 -> 8043.7294 | J15: =I15+'NAV - BM01'!J15 -> 0.95 | K15: =I15*H15 -> 0 | L15: =J15*H15 -> 7641.5429
A16: 92763 | B16: 2.2 | C16: ARMAÇÃO FERRAGEM CA-50 12,5 MM | D16: kg | E16: 191.56 | F16: 9.07 | G16: =(F16*$E$3/100)+F16 -> 11.35564 | H16: =E16*G16 -> 2175.2864 | I16: 0.9 | J16: =I16+'NAV - BM01'!J16 -> 0.9 | K16: =I16*H16 -> 1957.7578 | L16: =J16*H16 -> 1957.7578
A17: 92762 | B17: 2.3 | C17: ARMAÇÃO FERRAGEM CA-50 10 MM | D17: kg | E17: 449.92 | F17: 10.83 | G17: =(F17*$E$3/100)+F17 -> 13.55916 | H17: =E17*G17 -> 6100.5373 | I17: 0.55 | J17: =I17+'NAV - BM01'!J17 -> 0.9 | K17: =I17*H17 -> 3355.2955 | L17: =J17*H17 -> 5490.4835
A18: 92760 | B18: 2.4 | C18: ARMAÇÃO FERRAGEM CA-50 6,3 MM | D18: kg | E18: 50.96 | F18: 12.94 | G18: =(F18*$E$3/100)+F18 -> 16.20088 | H18: =E18*G18 -> 825.59684 | I18: 0.9 | J18: =I18+'NAV - BM01'!J18 -> 0.9 | K18: =I18*H18 -> 743.03716 | L18: =J18*H18 -> 743.03716
A19: 92759 | B19: 2.5 | C19: ARMAÇÃO FERRAGEM CA-50 5 MM | D19: kg | E19: 78.96 | F19: 13.75 | G19: =(F19*$E$3/100)+F19 -> 17.215 | H19: =E19*G19 -> 1359.2964 | I19: 0.55 | J19: =I19+'NAV - BM01'!J19 -> 0.9 | K19: =I19*H19 -> 747.61302 | L19: =J19*H19 -> 1223.3668
A20: 92767 | B20: 2.6 | C20: ARMAÇÃO FERRAGEM CA-50 4,2 MM | D20: kg | E20: 26.07 | F20: 15.06 | G20: =(F20*$E$3/100)+F20 -> 18.85512 | H20: =E20*G20 -> 491.55298 | I20: 0.9 | J20: =I20+'NAV - BM01'!J20 -> 0.9 | K20: =I20*H20 -> 442.39768 | L20: =J20*H20 -> 442.39768
A21: 102476 | B21: 2.7 | C21: CONCRETO FCK 25MPA - VIGAS, PILARES E VERGAS | D21: m³ | E21: 9.25 | F21: 682.57 | G21: =(F21*$E$3/100)+F21 -> 854.57764 | H21: =E21*G21 -> 7904.8432 | I21: 0.55 | J21: =I21+'NAV - BM01'!J21 -> 0.9 | K21: =I21*H21 -> 4347.6637 | L21: =J21*H21 -> 7114.3589
A22: 102474 | B22: 2.8 | C22: CONCRETO FCK 20MPA - CONTRAPISO | D22: m³ | E22: 5.68 | F22: 604.61 | G22: =(F22*$E$3/100)+F22 -> 756.97172 | H22: =E22*G22 -> 4299.5994 | J22: =I22+'NAV - BM01'!J22 -> 0 | K22: =I22*H22 -> 0 | L22: =J22*H22 -> 0
A23: 92265 | B23: 2.9 | C23: FORMAS VIGAS, PILARES E VERGAS | D23: m² | E23: 36.83 | F23: 132.04 | G23: =(F23*$E$3/100)+F23 -> 165.31408 | H23: =E23*G23 -> 6088.5176 | I23: 0.55 | J23: =I23+'NAV - BM01'!J23 -> 0.9 | K23: =I23*H23 -> 3348.6847 | L23: =J23*H23 -> 5479.6658
A24: 96522 | B24: 2.10 | C24: ESCAVAÇÃO MANUAL SAPATA CORRIDA 40x40cm - MURO | D24: m³ | E24: 10.6 | F24: 144.58 | G24: =(F24*$E$3/100)+F24 -> 181.01416 | H24: =E24*G24 -> 1918.7501 | J24: =I24+'NAV - BM01'!J24 -> 0 | K24: =I24*H24 -> 0 | L24: =J24*H24 -> 0
A25: 102487 | B25: 2.11 | C25: CONCRETO CICLÓPICO 30 % PEDRA, PREPARO E LANÇAMENTO - MURO | D25: m³ | E25: 6.36 | F25: 608.4 | G25: =(F25*$E$3/100)+F25 -> 761.7168 | H25: =E25*G25 -> 4844.5188 | J25: =I25+'NAV - BM01'!J25 -> 0 | K25: =I25*H25 -> 0 | L25: =J25*H25 -> 0
A26: =A16 -> 92763 | B26: 2.12 | C26: ARMAÇÃO FERRAGEM CA-50 12,5 MM - MURO | D26: kg | E26: 92.48 | F26: 9.07 | G26: =(F26*$E$3/100)+F26 -> 11.35564 | H26: =E26*G26 -> 1050.1696 | J26: =I26+'NAV - BM01'!J26 -> 0 | K26: =I26*H26 -> 0 | L26: =J26*H26 -> 0
A27: =A17 -> 92762 | B27: 2.13 | C27: ARMAÇÃO FERRAGEM CA-50 10 MM - MURO | D27: kg | E27: 86.38 | F27: 10.77 | G27: =(F27*$E$3/100)+F27 -> 13.48404 | H27: =E27*G27 -> 1164.7514 | J27: =I27+'NAV - BM01'!J27 -> 0 | K27: =I27*H27 -> 0 | L27: =J27*H27 -> 0
A28: 92761 | B28: 2.14 | C28: ARMAÇÃO FERRAGEM CA-50 8 MM - MURO | D28: kg | E28: 186.28 | F28: 12.14 | G28: =(F28*$E$3/100)+F28 -> 15.19928 | H28: =E28*G28 -> 2831.3219 | J28: =I28+'NAV - BM01'!J28 -> 0 | K28: =I28*H28 -> 0 | L28: =J28*H28 -> 0
A29: =A19 -> 92759 | B29: 2.15 | C29: ARMAÇÃO FERRAGEM CA-50 5 MM - MURO | D29: kg | E29: 95.78 | F29: 13.28 | G29: =(F29*$E$3/100)+F29 -> 16.62656 | H29: =E29*G29 -> 1592.4919 | J29: =I29+'NAV - BM01'!J29 -> 0 | K29: =I29*H29 -> 0 | L29: =J29*H29 -> 0
A30: 102476 | B30: 2.16 | C30: CONCRETO FCK 25MPA - VIGAS, PILARES E VERGAS - MURO | D30: m³ | E30: 4.77 | F30: 682.57 | G30: =(F30*$E$3/100)+F30 -> 854.57764 | H30: =E30*G30 -> 4076.3353 | J30: =I30+'NAV - BM01'!J30 -> 0 | K30: =I30*H30 -> 0 | L30: =J30*H30 -> 0
A31: 92265 | B31: 2.17 | C31: FORMAS VIGAS, PILARES E VERGAS - MURO | D31: m² | E31: 39.47 | F31: 132.04 | G31: =(F31*$E$3/100)+F31 -> 165.31408 | H31: =E31*G31 -> 6524.9467 | J31: =I31+'NAV - BM01'!J31 -> 0 | K31: =I31*H31 -> 0 | L31: =J31*H31 -> 0
A32: 101165 | B32: 2.18 | C32: ALVENARIA DE EMBASAMENTO TIJOLO MACIÇO | D32: m³ | E32: 4.12 | F32: 1093.85 | G32: =(F32*$E$3/100)+F32 -> 1369.5002 | H32: =E32*G32 -> 5642.3408 | J32: =I32+'NAV - BM01'!J32 -> 0.95 | K32: =I32*H32 -> 0 | L32: =J32*H32 -> 5360.2238
B34: 3 | C34: ALVENARIA | H34: =SUM(H35:H36) -> 26916.56 | K34: =SUM(K35:K36) -> 16054.27 | L34: =SUM(L35:L36) -> 16054.27
A35: 103330 | B35: 3.1 | C35: ALVENARIA BLOCOS CERÂMICOS 11,5X14X19 | D35: m² | E35: 184.4 | F35: 81.81 | G35: =(F35*$E$3/100)+F35 -> 102.42612 | H35: =E35*G35 -> 18887.377 | I35: 0.85 | J35: =I35+'NAV - BM01'!J35 -> 0.85 | K35: =I35*H35 -> 16054.27 | L35: =J35*H35 -> 16054.27
A36: 103330 | B36: 3.2 | C36: ALVENARIA BLOCOS CERÂMICOS 11,5X14X19 - MURO | D36: m² | E36: 78.39 | F36: 81.81 | G36: =(F36*$E$3/100)+F36 -> 102.42612 | H36: =E36*G36 -> 8029.1835 | J36: =I36+'NAV - BM01'!J36 -> 0 | K36: =I36*H36 -> 0 | L36: =J36*H36 -> 0
B38: 4 | C38: COBERTURA | H38: =SUM(H39:H50) -> 57331.109 | K38: =SUM(K39:K50) -> 0 | L38: =SUM(L39:L50) -> 0
A39: 92544 | B39: 4.1 | C39: TRAMA DE MADEIRA (prolongamento do beiral da área a reformar) | D39: m² | E39: 95.52 | F39: 20.08 | G39: =(F39*$E$3/100)+F39 -> 25.14016 | H39: =E39*G39 -> 2401.3881 | J39: =I39+'NAV - BM01'!J39 -> 0 | K39: =I39*H39 -> 0 | L39: =J39*H39 -> 0
A40: 94213 | B40: 4.2 | C40: TELHAMENTO TELHAS METÁLICAS (TP 40 0,50mm, trapezoidal) , incluso cortes, dobras, parafusos, buchas, fita dupla face de vedação e instalação. | D40: m² | E40: 95.52 | F40: 58.81 | G40: =(F40*$E$3/100)+F40 -> 73.63012 | H40: =E40*G40 -> 7033.1491 | J40: =I40+'NAV - BM01'!J40 -> 0 | K40: =I40*H40 -> 0 | L40: =J40*H40 -> 0
A41: 94227 | B41: 4.3 | C41: RUFOS E CALHAS EM CHAPA DE AÇO GALVANIZADO (com fechamento total da platibanda na parte interna e superior), incluso, corte, dobra, parafusos, buchas, rebites, fita de vedação dupla face, adesivo PU, e instalação | D41: m | E41: 36.32 | F41: 74.71 | G41: =(F41*$E$3/100)+F41 -> 93.53692 | H41: =E41*G41 -> 3397.2609 | J41: =I41+'NAV - BM01'!J41 -> 0 | K41: =I41*H41 -> 0 | L41: =J41*H41 -> 0
A42: 96116 | B42: 4.4 | C42: FORRO PVC (3D, inclusive estrutura de fixação) | D42: m² | E42: 6.8 | F42: 76.46 | G42: =(F42*$E$3/100)+F42 -> 95.72792 | H42: =E42*G42 -> 650.94986 | J42: =I42+'NAV - BM01'!J42 -> 0 | K42: =I42*H42 -> 0 | L42: =J42*H42 -> 0
A43: 96121 | B43: 4.5 | C43: RODA FORRO PVC "U" (3D) | D43: m | E43: 13.6 | F43: 14 | G43: =(F43*$E$3/100)+F43 -> 17.528 | H43: =E43*G43 -> 238.3808 | J43: =I43+'NAV - BM01'!J43 -> 0 | K43: =I43*H43 -> 0 | L43: =J43*H43 -> 0
A44: 96114 | B44: 4.6 | C44: FORRO GESSO ACARTONADO | D44: m² | E44: 81.2 | F44: 82.46 | G44: =(F44*$E$3/100)+F44 -> 103.23992 | H44: =E44*G44 -> 8383.0815 | J44: =I44+'NAV - BM01'!J44 -> 0 | K44: =I44*H44 -> 0 | L44: =J44*H44 -> 0
A45: 100764 | B45: 4.7 | C45: PERFIL METALICO 0,10X0,30X - COBERTURA EXTERNA | D45: kg | E45: 200.7 | F45: 19.34 | G45: =(F45*$E$3/100)+F45 -> 24.21368 | H45: =E45*G45 -> 4859.6856 | J45: =I45+'NAV - BM01'!J45 -> 0 | K45: =I45*H45 -> 0 | L45: =J45*H45 -> 0
...

Sheet NAV - BM01
A1: PREFEITURA MUNICIPAL DE SALTO DO JACUÍ
A2: OBRA | B2: AMPLIAÇÃO E REFORMA UBS NAVEGANTES | D2: ÁREA | E2: 198.13 | G2: Ref. Sinapi: | H2: 44986
A3: LOCAL | B3: Rua José Napoleão Pereira, nº 44, Salto do Jacuí/RS | D3: BDI | E3: 25.2 | F3: %
A4: BOLETIM DE MEDIÇÃO - 01
E5: QUANTIDADES LICITADAS | I5: QUANTIDADES EXECUTADAS
A7: Código Sinapi | B7: Item | C7: Discriminação | D7: Unid. | E7: Qtde. | F7: Preço Unitário (R$) | G7: Preço Unit+BDI (R$) | H7: Preço Total (R$) | I7: % periodo | J7: % acumulada | K7: valor do BM | L7: acumulado
B9: 1 | C9: SERVIÇOS PRELIMINARES E GERAIS | H9: =SUM(H10:H11) -> 1631.6064 | K9: =SUM(K10:K11) -> 0 | L9: =SUM(L10:L11) -> 0
A10: 97635 | B10: 1.1 | C10: REMOÇÃO DE PISO EM PAVER | D10: m² | E10: 68 | F10: 14.48 | G10: =(F10*$E$3/100)+F10 -> 18.12896 | H10: =E10*G10 -> 1232.7693 | J10: =I10 -> 0 | K10: =I10*H10 -> 0 | L10: =J10*H10 -> 0
A11: 97635 | B11: 1.2 | C11: REMOÇÃO DE CONCRETO DE CALÇADAS | D11: m³ | E11: 22 | F11: 14.48 | G11: =(F11*$E$3/100)+F11 -> 18.12896 | H11: =E11*G11 -> 398.83712 | J11: =I11 -> 0 | K11: =I11*H11 -> 0 | L11: =J11*H11 -> 0
B13: 2 | C13: FUNDAÇÃO E ESTRUTURA | H13: =SUM(H14:H32) -> 66274.046 | K13: =SUM(K14:K32) -> 20827.695 | L13: =SUM(L14:L32) -> 20827.695
A14: 96522 | B14: 2.1 | C14: ESCAVAÇÃO MANUAL SAPATA CORRIDA 40x40cm | D14: m³ | E14: 10.56 | F14: 129.74 | G14: =(F14*$E$3/100)+F14 -> 162.43448 | H14: =E14*G14 -> 1715.3081 | I14: 1 | J14: =I14 -> 1 | K14: =I14*H14 -> 1715.3081 | L14: =J14*H14 -> 1715.3081
A15: 102487 | B15: 2.2 | C15: CONCRETO CICLÓPICO 30 % PEDRA, PREPARO E LANÇAMENTO | D15: m³ | E15: 10.56 | F15: 551.21 | G15: =(F15*$E$3/100)+F15 -> 690.11492 | H15: =E15*G15 -> 7287.6136 | I15: 0.95 | J15: =I15 -> 0.95 | K15: =I15*H15 -> 6923.2329 | L15: =J15*H15 -> 6923.2329
A16: 96547 | B16: 2.2 | C16: ARMAÇÃO FERRAGEM CA-50 12,5 MM | D16: kg | E16: 191.56 | F16: 9.07 | G16: =(F16*$E$3/100)+F16 -> 11.35564 | H16: =E16*G16 -> 2175.2864 | J16: =I16 -> 0 | K16: =I16*H16 -> 0 | L16: =J16*H16 -> 0
A17: 96546 | B17: 2.3 | C17: ARMAÇÃO FERRAGEM CA-50 10 MM | D17: kg | E17: 449.92 | F17: 10.77 | G17: =(F17*$E$3/100)+F17 -> 13.48404 | H17: =E17*G17 -> 6066.7393 | I17: 0.35 | J17: =I17 -> 0.35 | K17: =I17*H17 -> 2123.3587 | L17: =J17*H17 -> 2123.3587
A18: 96544 | B18: 2.4 | C18: ARMAÇÃO FERRAGEM CA-50 6,3 MM | D18: kg | E18: 50.96 | F18: 12.68 | G18: =(F18*$E$3/100)+F18 -> 15.87536 | H18: =E18*G18 -> 809.00835 | J18: =I18 -> 0 | K18: =I18*H18 -> 0 | L18: =J18*H18 -> 0
A19: 96543 | B19: 2.5 | C19: ARMAÇÃO FERRAGEM CA-50 5 MM | D19: kg | E19: 78.96 | F19: 13.28 | G19: =(F19*$E$3/100)+F19 -> 16.62656 | H19: =E19*G19 -> 1312.8332 | I19: 0.35 | J19: =I19 -> 0.35 | K19: =I19*H19 -> 459.49161 | L19: =J19*H19 -> 459.49161
A20: 92767 | B20: 2.6 | C20: ARMAÇÃO FERRAGEM CA-50 4,2 MM | D20: kg | E20: 26.07 | F20: 14.47 | G20: =(F20*$E$3/100)+F20 -> 18.11644 | H20: =E20*G20 -> 472.29559 | J20: =I20 -> 0 | K20: =I20*H20 -> 0 | L20: =J20*H20 -> 0
A21: 102476 | B21: 2.7 | C21: CONCRETO FCK 25MPA - VIGAS, PILARES E VERGAS | D21: m³ | E21: 9.25 | F21: 615.08 | G21: =(F21*$E$3/100)+F21 -> 770.08016 | H21: =E21*G21 -> 7123.2415 | I21: 0.35 | J21: =I21 -> 0.35 | K21: =I21*H21 -> 2493.1345 | L21: =J21*H21 -> 2493.1345
A22: 102474 | B22: 2.8 | C22: CONCRETO FCK 20MPA - CONTRAPISO | D22: m³ | E22: 5.68 | F22: 592.21 | G22: =(F22*$E$3/100)+F22 -> 741.44692 | H22: =E22*G22 -> 4211.4185 | J22: =I22 -> 0 | K22: =I22*H22 -> 0 | L22: =J22*H22 -> 0
A23: 92265 | B23: 2.9 | C23: FORMAS VIGAS, PILARES E VERGAS | D23: m² | E23: 36.83 | F23: 142.86 | G23: =(F23*$E$3/100)+F23 -> 178.86072 | H23: =E23*G23 -> 6587.4403 | I23: 0.35 | J23: =I23 -> 0.35 | K23: =I23*H23 -> 2305.6041 | L23: =J23*H23 -> 2305.6041
A24: 96522 | B24: 2.10 | C24: ESCAVAÇÃO MANUAL SAPATA CORRIDA 40x40cm - MURO | D24: m³ | E24: 10.6 | F24: 129.74 | G24: =(F24*$E$3/100)+F24 -> 162.43448 | H24: =E24*G24 -> 1721.8055 | J24: =I24 -> 0 | K24: =I24*H24 -> 0 | L24: =J24*H24 -> 0
A25: 102487 | B25: 2.11 | C25: CONCRETO CICLÓPICO 30 % PEDRA, PREPARO E LANÇAMENTO - MURO | D25: m³ | E25: 6.36 | F25: 551.21 | G25: =(F25*$E$3/100)+F25 -> 690.11492 | H25: =E25*G25 -> 4389.1309 | J25: =I25 -> 0 | K25: =I25*H25 -> 0 | L25: =J25*H25 -> 0
A26: =A16 -> 96547 | B26: 2.12 | C26: ARMAÇÃO FERRAGEM CA-50 12,5 MM - MURO | D26: kg | E26: 92.48 | F26: 9.07 | G26: =(F26*$E$3/100)+F26 -> 11.35564 | H26: =E26*G26 -> 1050.1696 | J26: =I26 -> 0 | K26: =I26*H26 -> 0 | L26: =J26*H26 -> 0
A27: =A17 -> 96546 | B27: 2.13 | C27: ARMAÇÃO FERRAGEM CA-50 10 MM - MURO | D27: kg | E27: 86.38 | F27: 10.77 | G27: =(F27*$E$3/100)+F27 -> 13.48404 | H27: =E27*G27 -> 1164.7514 | J27: =I27 -> 0 | K27: =I27*H27 -> 0 | L27: =J27*H27 -> 0
A28: 96545 | B28: 2.14 | C28: ARMAÇÃO FERRAGEM CA-50 8 MM - MURO | D28: kg | E28: 186.28 | F28: 12.01 | G28: =(F28*$E$3/100)+F28 -> 15.03652 | H28: =E28*G28 -> 2801.0029 | J28: =I28 -> 0 | K28: =I28*H28 -> 0 | L28: =J28*H28 -> 0
A29: =A19 -> 96543 | B29: 2.15 | C29: ARMAÇÃO FERRAGEM CA-50 5 MM - MURO | D29: kg | E29: 95.78 | F29: 13.28 | G29: =(F29*$E$3/100)+F29 -> 16.62656 | H29: =E29*G29 -> 1592.4919 | J29: =I29 -> 0 | K29: =I29*H29 -> 0 | L29: =J29*H29 -> 0
A30: 102476 | B30: 2.16 | C30: CONCRETO FCK 25MPA - VIGAS, PILARES E VERGAS - MURO | D30: m³ | E30: 4.77 | F30: 615.08 | G30: =(F30*$E$3/100)+F30 -> 770.08016 | H30: =E30*G30 -> 3673.2824 | J30: =I30 -> 0 | K30: =I30*H30 -> 0 | L30: =J30*H30 -> 0
A31: 92265 | B31: 2.17 | C31: FORMAS VIGAS, PILARES E VERGAS - MURO | D31: m² | E31: 39.47 | F31: 142.86 | G31: =(F31*$E$3/100)+F31 -> 178.86072 | H31: =E31*G31 -> 7059.6326 | J31: =I31 -> 0 | K31: =I31*H31 -> 0 | L31: =J31*H31 -> 0
A32: 101165 | B32: 2.18 | C32: ALVENARIA DE EMBASAMENTO TIJOLO MACIÇO | D32: m³ | E32: 4.12 | F32: 981.07 | G32: =(F32*$E$3/100)+F32 -> 1228.2996 | H32: =E32*G32 -> 5060.5945 | I32: 0.95 | J32: =I32 -> 0.95 | K32: =I32*H32 -> 4807.5648 | L32: =J32*H32 -> 4807.5648
B34: 3 | C34: ALVENARIA | H34: =SUM(H35:H36) -> 25765.014 | K34: =SUM(K35:K36) -> 0 | L34: =SUM(L35:L36) -> 0
A35: 103330 | B35: 3.1 | C35: ALVENARIA BLOCOS CERÂMICOS 11,5X14X19 | D35: m² | E35: 184.4 | F35: 78.31 | G35: =(F35*$E$3/100)+F35 -> 98.04412 | H35: =E35*G35 -> 18079.336 | J35: =I35 -> 0 | K35: =I35*H35 -> 0 | L35: =J35*H35 -> 0
A36: 103330 | B36: 3.2 | C36: ALVENARIA BLOCOS CERÂMICOS 11,5X14X19 - MURO | D36: m² | E36: 78.39 | F36: 78.31 | G36: =(F36*$E$3/100)+F36 -> 98.04412 | H36: =E36*G36 -> 7685.6786 | J36: =I36 -> 0 | K36: =I36*H36 -> 0 | L36: =J36*H36 -> 0
B38: 4 | C38: COBERTURA | H38: =SUM(H39:H50) -> 55985.803 | K38: =SUM(K39:K50) -> 0 | L38: =SUM(L39:L50) -> 0
A39: 92544 | B39: 4.1 | C39: TRAMA DE MADEIRA (prolongamento do beiral da área a reformar) | D39: m² | E39: 95.52 | F39: 12.35 | G39: =(F39*$E$3/100)+F39 -> 15.4622 | H39: =E39*G39 -> 1476.9493 | J39: =I39 -> 0 | K39: =I39*H39 -> 0 | L39: =J39*H39 -> 0
A40: 94213 | B40: 4.2 | C40: TELHAMENTO TELHAS METÁLICAS (TP 40 0,50mm, trapezoidal) , incluso cortes, dobras, parafusos, buchas, fita dupla face de vedação e instalação. | D40: m² | E40: 95.52 | F40: 59.78 | G40: =(F40*$E$3/100)+F40 -> 74.84456 | H40: =E40*G40 -> 7149.1524 | J40: =I40 -> 0 | K40: =I40*H40 -> 0 | L40: =J40*H40 -> 0
A41: 94227 | B41: 4.3 | C41: RUFOS E CALHAS EM CHAPA DE AÇO GALVANIZADO (com fechamento total da platibanda na parte interna e superior), incluso, corte, dobra, parafusos, buchas, rebites, fita de vedação dupla face, adesivo PU, e instalação | D41: m | E41: 36.32 | F41: 70.32 | G41: =(F41*$E$3/100)+F41 -> 88.04064 | H41: =E41*G41 -> 3197.636 | J41: =I41 -> 0 | K41: =I41*H41 -> 0 | L41: =J41*H41 -> 0
A42: 96116 | B42: 4.4 | C42: FORRO PVC (3D, inclusive estrutura de fixação) | D42: m² | E42: 6.8 | F42: 73.78 | G42: =(F42*$E$3/100)+F42 -> 92.37256 | H42: =E42*G42 -> 628.13341 | J42: =I42 -> 0 | K42: =I42*H42 -> 0 | L42: =J42*H42 -> 0
A43: 96121 | B43: 4.5 | C43: RODA FORRO PVC "U" (3D) | D43: m | E43: 13.6 | F43: 13.41 | G43: =(F43*$E$3/100)+F43 -> 16.78932 | H43: =E43*G43 -> 228.33475 | J43: =I43 -> 0 | K43: =I43*H43 -> 0 | L43: =J43*H43 -> 0
A44: 96114 | B44: 4.6 | C44: FORRO GESSO ACARTONADO | D44: m² | E44: 81.2 | F44: 80.62 | G44: =(F44*$E$3/100)+F44 -> 100.93624 | H44: =E44*G44 -> 8196.0227 | J44: =I44 -> 0 | K44: =I44*H44 -> 0 | L44: =J44*H44 -> 0
A45: 100764 | B45: 4.7 | C45: PERFIL METALICO 0,10X0,30X - COBERTURA EXTERNA | D45: kg | E45: 200.7 | F45: 19.34 | G45: =(F45*$E$3/100)+F45 -> 24.21368 | H45: =E45*G45 -> 4859.6856 | J45: =I45 -> 0 | K45: =I45*H45 -> 0 | L45: =J45*H45 -> 0
...

Sheet NAV - orçamento
A1: PREFEITURA MUNICIPAL DE SALTO DO JACUÍ
A2: OBRA | B2: AMPLIAÇÃO E REFORMA UBS NAVEGANTES | D2: ÁREA | E2: 198.13 | G2: Ref. Sinapi: | H2: 46113
A3: LOCAL | B3: Rua José Napoleão Pereira, nº 44, Salto do Jacuí/RS | D3: BDI | E3: =BDI!F13 -> 0.2520026 | F3: %
A4: ORÇAMENTO
E5: QUANTIDADES | I5: QUANTIDADES EXECUTADAS
A7: Código Sinapi | B7: Item | C7: Discriminação | D7: Unid. | E7: Qtde. | F7: Preço Unitário (R$) | G7: Preço Unit+BDI (R$) | H7: Preço Total (R$) | I7: % periodo | J7: % acumulada | K7: valor do BM | L7: acumulado
B9: 1 | C9: SERVIÇOS PRELIMINARES E GERAIS | H9: =SUM(H10:H12) -> 4803.17 | K9: =SUM(K11:K12) -> 0 | L9: =SUM(L11:L12) -> 0
A10: 103689 | B10: 1.1 | C10: PLACA DE OBRA | D10: m² | E10: 4.5 | F10: 494.7 | G10: =ROUND((F10*$E$3)+F10,2) -> 619.37 | H10: =ROUND(ROUND(E10,2)*G10,2) -> 2787.17
A11: 97635 | B11: 1.2 | C11: REMOÇÃO DE PISO EM PAVER | D11: m² | E11: 68 | F11: 17.89 | G11: =ROUND((F11*$E$3)+F11,2) -> 22.4 | H11: =ROUND(ROUND(E11,2)*G11,2) -> 1523.2 | J11: =I11+'NAV - BM01'!J10 -> 0 | K11: =I11*H11 -> 0 | L11: =J11*H11 -> 0
A12: 97635 | B12: 1.3 | C12: REMOÇÃO DE CONCRETO DE CALÇADAS | D12: m³ | E12: 22 | F12: 17.89 | G12: =ROUND((F12*$E$3)+F12,2) -> 22.4 | H12: =ROUND(ROUND(E12,2)*G12,2) -> 492.8 | J12: =I12+'NAV - BM01'!J11 -> 0 | K12: =I12*H12 -> 0 | L12: =J12*H12 -> 0
B14: 2 | C14: FUNDAÇÃO E ESTRUTURA | H14: =SUM(H15:H33) -> 32700.4 | K14: =SUM(K15:K33) -> 1516.744 | L14: =SUM(L15:L33) -> 2981.1195
A15: 96522 | B15: 2.1 | C15: ESCAVAÇÃO MANUAL SAPATA CORRIDA 40x40cm | D15: m³ | E15: 0 | F15: 129.74 | G15: =ROUND((F15*$E$3)+F15,2) -> 162.43 | H15: =ROUND(ROUND(E15,2)*G15,2) -> 0 | J15: =I15+'NAV - BM01'!J14 -> 1 | K15: =I15*H15 -> 0 | L15: =J15*H15 -> 0 | N15: 0
A16: 102487 | B16: 2.2 | C16: CONCRETO CICLÓPICO 30 % PEDRA, PREPARO E LANÇAMENTO | D16: m³ | E16: =((100%-J16)*N16) -> 0.528 | F16: 652.74 | G16: =ROUND((F16*$E$3)+F16,2) -> 817.23 | H16: =ROUND(ROUND(E16,2)*G16,2) -> 433.13 | J16: =I16+'NAV - BM01'!J15 -> 0.95 | K16: =I16*H16 -> 0 | L16: =J16*H16 -> 411.4735 | N16: =((100%-S16)*10.56) -> 10.56 | O16: =((E16/N16)-1) -> -0.95
A17: 92763 | B17: 2.2 | C17: ARMAÇÃO FERRAGEM CA-50 12,5 MM | D17: kg | E17: =((100%-J17)*N17) -> 19.156 | F17: 8.89 | G17: =ROUND((F17*$E$3)+F17,2) -> 11.13 | H17: =ROUND(ROUND(E17,2)*G17,2) -> 213.25 | I17: 0.9 | J17: =I17+'NAV - BM01'!J16 -> 0.9 | K17: =I17*H17 -> 191.925 | L17: =J17*H17 -> 191.925 | N17: 191.56 | O17: =((E17/N17)-1) -> -0.9
A18: 92762 | B18: 2.3 | C18: ARMAÇÃO FERRAGEM CA-50 10 MM | D18: kg | E18: =((100%-J18)*N18) -> 44.992 | F18: 10.62 | G18: =ROUND((F18*$E$3)+F18,2) -> 13.3 | H18: =ROUND(ROUND(E18,2)*G18,2) -> 598.37 | I18: 0.55 | J18: =I18+'NAV - BM01'!J17 -> 0.9 | K18: =I18*H18 -> 329.1035 | L18: =J18*H18 -> 538.533 | N18: 449.92 | O18: =((E18/N18)-1) -> -0.9
A19: 92760 | B19: 2.4 | C19: ARMAÇÃO FERRAGEM CA-50 6,3 MM | D19: kg | E19: =((100%-J19)*N19) -> 5.096 | F19: 12.93 | G19: =ROUND((F19*$E$3)+F19,2) -> 16.19 | H19: =ROUND(ROUND(E19,2)*G19,2) -> 82.57 | I19: 0.9 | J19: =I19+'NAV - BM01'!J18 -> 0.9 | K19: =I19*H19 -> 74.313 | L19: =J19*H19 -> 74.313 | N19: 50.96 | O19: =((E19/N19)-1) -> -0.9
A20: 92759 | B20: 2.5 | C20: ARMAÇÃO FERRAGEM CA-50 5 MM | D20: kg | E20: =((100%-J20)*N20) -> 7.896 | F20: 13.95 | G20: =ROUND((F20*$E$3)+F20,2) -> 17.47 | H20: =ROUND(ROUND(E20,2)*G20,2) -> 138.01 | I20: 0.55 | J20: =I20+'NAV - BM01'!J19 -> 0.9 | K20: =I20*H20 -> 75.9055 | L20: =J20*H20 -> 124.209 | N20: 78.96 | O20: =((E20/N20)-1) -> -0.9
A21: 92767 | B21: 2.6 | C21: ARMAÇÃO FERRAGEM CA-50 4,2 MM | D21: kg | E21: =((100%-J21)*N21) -> 2.607 | F21: 15.31 | G21: =ROUND((F21*$E$3)+F21,2) -> 19.17 | H21: =ROUND(ROUND(E21,2)*G21,2) -> 50.03 | I21: 0.9 | J21: =I21+'NAV - BM01'!J20 -> 0.9 | K21: =I21*H21 -> 45.027 | L21: =J21*H21 -> 45.027 | N21: 26.07 | O21: =((E21/N21)-1) -> -0.9
A22: 102476 | B22: 2.7 | C22: CONCRETO FCK 25MPA - VIGAS, PILARES E VERGAS | D22: m³ | E22: =((100%-J22)*N22) -> 0.925 | F22: 720.22 | G22: =ROUND((F22*$E$3)+F22,2) -> 901.72 | H22: =ROUND(ROUND(E22,2)*G22,2) -> 838.6 | I22: 0.55 | J22: =I22+'NAV - BM01'!J21 -> 0.9 | K22: =I22*H22 -> 461.23 | L22: =J22*H22 -> 754.74 | N22: 9.25 | O22: =((E22/N22)-1) -> -0.9
A23: 102474 | B23: 2.8 | C23: CONCRETO FCK 20MPA - CONTRAPISO | D23: m³ | E23: =((100%-J23)*N23) -> 5.68 | F23: 637.63 | G23: =ROUND((F23*$E$3)+F23,2) -> 798.31 | H23: =ROUND(ROUND(E23,2)*G23,2) -> 4534.4 | J23: =I23+'NAV - BM01'!J22 -> 0 | K23: =I23*H23 -> 0 | L23: =J23*H23 -> 0 | N23: 5.68 | O23: =((E23/N23)-1) -> 0
A24: 92265 | B24: 2.9 | C24: FORMAS VIGAS, PILARES E VERGAS | D24: m² | E24: =((100%-J24)*N24) -> 3.683 | F24: 133.87 | G24: =ROUND((F24*$E$3)+F24,2) -> 167.61 | H24: =ROUND(ROUND(E24,2)*G24,2) -> 616.8 | I24: 0.55 | J24: =I24+'NAV - BM01'!J23 -> 0.9 | K24: =I24*H24 -> 339.24 | L24: =J24*H24 -> 555.12 | N24: 36.83 | O24: =((E24/N24)-1) -> -0.9
A25: 96522 | B25: 2.10 | C25: ESCAVAÇÃO MANUAL SAPATA CORRIDA 40x40cm - MURO | D25: m³ | E25: =((100%-J25)*N25) -> 10.6 | F25: 160.55 | G25: =ROUND((F25*$E$3)+F25,2) -> 201.01 | H25: =ROUND(ROUND(E25,2)*G25,2) -> 2130.71 | J25: =I25+'NAV - BM01'!J24 -> 0 | K25: =I25*H25 -> 0 | L25: =J25*H25 -> 0 | N25: 10.6 | O25: =((E25/N25)-1) -> 0
A26: 102487 | B26: 2.11 | C26: CONCRETO CICLÓPICO 30 % PEDRA, PREPARO E LANÇAMENTO - MURO | D26: m³ | E26: =((100%-J26)*N26) -> 6.36 | F26: =F16 -> 652.74 | G26: =ROUND((F26*$E$3)+F26,2) -> 817.23 | H26: =ROUND(ROUND(E26,2)*G26,2) -> 5197.58 | J26: =I26+'NAV - BM01'!J25 -> 0 | K26: =I26*H26 -> 0 | L26: =J26*H26 -> 0 | N26: 6.36 | O26: =((E26/N26)-1) -> 0
A27: =A17 -> 92763 | B27: 2.12 | C27: ARMAÇÃO FERRAGEM CA-50 12,5 MM - MURO | D27: kg | E27: =((100%-J27)*N27) -> 92.48 | F27: =F17 -> 8.89 | G27: =ROUND((F27*$E$3)+F27,2) -> 11.13 | H27: =ROUND(ROUND(E27,2)*G27,2) -> 1029.3 | J27: =I27+'NAV - BM01'!J26 -> 0 | K27: =I27*H27 -> 0 | L27: =J27*H27 -> 0 | N27: 92.48 | O27: =((E27/N27)-1) -> 0
A28: =A18 -> 92762 | B28: 2.13 | C28: ARMAÇÃO FERRAGEM CA-50 10 MM - MURO | D28: kg | E28: =((100%-J28)*N28) -> 86.38 | F28: =F18 -> 10.62 | G28: =ROUND((F28*$E$3)+F28,2) -> 13.3 | H28: =ROUND(ROUND(E28,2)*G28,2) -> 1148.85 | J28: =I28+'NAV - BM01'!J27 -> 0 | K28: =I28*H28 -> 0 | L28: =J28*H28 -> 0 | N28: 86.38 | O28: =((E28/N28)-1) -> 0
A29: 92761 | B29: 2.14 | C29: ARMAÇÃO FERRAGEM CA-50 8 MM - MURO | D29: kg | E29: =((100%-J29)*N29) -> 186.28 | F29: 12 | G29: =ROUND((F29*$E$3)+F29,2) -> 15.02 | H29: =ROUND(ROUND(E29,2)*G29,2) -> 2797.93 | J29: =I29+'NAV - BM01'!J28 -> 0 | K29: =I29*H29 -> 0 | L29: =J29*H29 -> 0 | N29: 186.28 | O29: =((E29/N29)-1) -> 0
A30: =A20 -> 92759 | B30: 2.15 | C30: ARMAÇÃO FERRAGEM CA-50 5 MM - MURO | D30: kg | E30: =((100%-J30)*N30) -> 95.78 | F30: =F20 -> 13.95 | G30: =ROUND((F30*$E$3)+F30,2) -> 17.47 | H30: =ROUND(ROUND(E30,2)*G30,2) -> 1673.28 | J30: =I30+'NAV - BM01'!J29 -> 0 | K30: =I30*H30 -> 0 | L30: =J30*H30 -> 0 | N30: 95.78 | O30: =((E30/N30)-1) -> 0
A31: 102476 | B31: 2.16 | C31: CONCRETO FCK 25MPA - VIGAS, PILARES E VERGAS - MURO | D31: m³ | E31: =((100%-J31)*N31) -> 4.77 | F31: =F22 -> 720.22 | G31: =ROUND((F31*$E$3)+F31,2) -> 901.72 | H31: =ROUND(ROUND(E31,2)*G31,2) -> 4301.2 | J31: =I31+'NAV - BM01'!J30 -> 0 | K31: =I31*H31 -> 0 | L31: =J31*H31 -> 0 | N31: 4.77 | O31: =((E31/N31)-1) -> 0
A32: 92265 | B32: 2.17 | C32: FORMAS VIGAS, PILARES E VERGAS - MURO | D32: m² | E32: =((100%-J32)*N32) -> 39.47 | F32: =F24 -> 133.87 | G32: =ROUND((F32*$E$3)+F32,2) -> 167.61 | H32: =ROUND(ROUND(E32,2)*G32,2) -> 6615.57 | J32: =I32+'NAV - BM01'!J31 -> 0 | K32: =I32*H32 -> 0 | L32: =J32*H32 -> 0 | N32: 39.47 | O32: =((E32/N32)-1) -> 0
A33: 101165 | B33: 2.18 | C33: ALVENARIA DE EMBASAMENTO TIJOLO MACIÇO | D33: m³ | E33: =((100%-J33)*N33) -> 0.206 | F33: 1144.15 | G33: =ROUND((F33*$E$3)+F33,2) -> 1432.48 | H33: =ROUND(ROUND(E33,2)*G33,2) -> 300.82 | J33: =I33+'NAV - BM01'!J32 -> 0.95 | K33: =I33*H33 -> 0 | L33: =J33*H33 -> 285.779 | N33: 4.12 | O33: =((E33/N33)-1) -> -0.95
B35: 3 | C35: ALVENARIA | H35: =SUM(H36:H37) -> 11513.85 | K35: =SUM(K36:K37) -> 2552.5925 | L35: =SUM(L36:L37) -> 2552.5925
A36: 103330 | B36: 3.1 | C36: ALVENARIA BLOCOS CERÂMICOS 11,5X14X19 | D36: m² | E36: =((100%-J36)*N36) -> 27.66 | F36: 86.72 | G36: =ROUND((F36*$E$3)+F36,2) -> 108.57 | H36: =ROUND(ROUND(E36,2)*G36,2) -> 3003.05 | I36: 0.85 | J36: =I36+'NAV - BM01'!J35 -> 0.85 | K36: =I36*H36 -> 2552.5925 | L36: =J36*H36 -> 2552.5925 | N36: 184.4 | O36: =((E36/N36)-1) -> -0.85
A37: 103330 | B37: 3.2 | C37: ALVENARIA BLOCOS CERÂMICOS 11,5X14X19 - MURO | D37: m² | E37: =((100%-J37)*N37) -> 78.39 | F37: =F36 -> 86.72 | G37: =ROUND((F37*$E$3)+F37,2) -> 108.57 | H37: =ROUND(ROUND(E37,2)*G37,2) -> 8510.8 | J37: =I37+'NAV - BM01'!J36 -> 0 | K37: =I37*H37 -> 0 | L37: =J37*H37 -> 0 | N37: 78.39 | O37: =((E37/N37)-1) -> 0
B39: 4 | C39: COBERTURA | H39: =SUM(H40:H51) -> 58474.77 | K39: =SUM(K40:K51) -> 0 | L39: =SUM(L40:L51) -> 0
A40: 92544 | B40: 4.1 | C40: TRAMA DE MADEIRA (prolongamento do beiral da área a reformar) | D40: m² | E40: =((100%-J40)*N40) -> 95.52 | F40: 20.69 | G40: =ROUND((F40*$E$3)+F40,2) -> 25.9 | H40: =ROUND(ROUND(E40,2)*G40,2) -> 2473.97 | J40: =I40+'NAV - BM01'!J39 -> 0 | K40: =I40*H40 -> 0 | L40: =J40*H40 -> 0 | N40: 95.52 | O40: =((E40/N40)-1) -> 0
A41: 94213 | B41: 4.2 | C41: TELHAMENTO TELHAS METÁLICAS (TP 40 0,50mm, trapezoidal) , incluso cortes, dobras, parafusos, buchas, fita dupla face de vedação e instalação. | D41: m² | E41: =((100%-J41)*N41) -> 95.52 | F41: 63.02 | G41: =ROUND((F41*$E$3)+F41,2) -> 78.9 | H41: =ROUND(ROUND(E41,2)*G41,2) -> 7536.53 | J41: =I41+'NAV - BM01'!J40 -> 0 | K41: =I41*H41 -> 0 | L41: =J41*H41 -> 0 | N41: 95.52 | O41: =((E41/N41)-1) -> 0
A42: 94227 | B42: 4.3 | C42: RUFOS E CALHAS EM CHAPA DE AÇO GALVANIZADO (com fechamento total da platibanda na parte interna e superior), incluso, corte, dobra, parafusos, buchas, rebites, fita de vedação dupla face, adesivo PU, e instalação | D42: m | E42: =((100%-J42)*N42) -> 36.32 | F42: 73.61 | G42: =ROUND((F42*$E$3)+F42,2) -> 92.16 | H42: =ROUND(ROUND(E42,2)*G42,2) -> 3347.25 | J42: =I42+'NAV - BM01'!J41 -> 0 | K42: =I42*H42 -> 0 | L42: =J42*H42 -> 0 | N42: 36.32 | O42: =((E42/N42)-1) -> 0
A43: 96116 | B43: 4.4 | C43: FORRO PVC (3D, inclusive estrutura de fixação) | D43: m² | E43: =((100%-J43)*N43) -> 6.8 | F43: 74.84 | G43: =ROUND((F43*$E$3)+F43,2) -> 93.7 | H43: =ROUND(ROUND(E43,2)*G43,2) -> 637.16 | J43: =I43+'NAV - BM01'!J42 -> 0 | K43: =I43*H43 -> 0 | L43: =J43*H43 -> 0 | N43: 6.8 | O43: =((E43/N43)-1) -> 0
A44: 96121 | B44: 4.5 | C44: RODA FORRO PVC "U" (3D) | D44: m | E44: =((100%-J44)*N44) -> 13.6 | F44: 13.94 | G44: =ROUND((F44*$E$3)+F44,2) -> 17.45 | H44: =ROUND(ROUND(E44,2)*G44,2) -> 237.32 | J44: =I44+'NAV - BM01'!J43 -> 0 | K44: =I44*H44 -> 0 | L44: =J44*H44 -> 0 | N44: 13.6 | O44: =((E44/N44)-1) -> 0
A45: 96114 | B45: 4.6 | C45: FORRO GESSO ACARTONADO | D45: m² | E45: =((100%-J45)*N45) -> 81.2 | F45: 86.76 | G45: =ROUND((F45*$E$3)+F45,2) -> 108.62 | H45: =ROUND(ROUND(E45,2)*G45,2) -> 8819.94 | J45: =I45+'NAV - BM01'!J44 -> 0 | K45: =I45*H45 -> 0 | L45: =J45*H45 -> 0 | N45: 81.2 | O45: =((E45/N45)-1) -> 0
...

Sheet NAV - cronograma
A1: PREFEITURA MUNICIPAL DE SALTO DO JACUÍ
A2: OBRA | C2: ='NAV - orçamento'!B2 -> AMPLIAÇÃO E REFORMA UBS NAVEGANTES
A3: LOCAL | C3: ='NAV - orçamento'!B3 -> Rua José Napoleão Pereira, nº 44, Salto do Jacuí/RS
A4: CRONOGRAMA
A6: item | C6: valor | D6: 1º Mês | F6: 2º Mês | H6: 3º Mês | J6: 4º Mês | L6: 5º Mês | N6: 6º Mês | P6: 7º Mês | R6: 8º Mês | T6: 9º Mês | V6: 10º Mês | X6: 11º Mês | Z6: 12º Mês
D7: no mês | E7: acum. | F7: no mês | G7: acum. | H7: no mês | I7: acum. | J7: no mês | K7: acum. | L7: no mês | M7: acum. | N7: no mês | O7: acum. | P7: no mês | Q7: acum. | R7: no mês | S7: acum. | T7: no mês | U7: acum. | V7: no mês | W7: acum. | X7: no mês | Y7: acum. | Z7: no mês | AA7: acum.
A8: ='NAV - orçamento'!B9 -> 1 | B8: ='NAV - orçamento'!C9 -> SERVIÇOS PRELIMINARES E GERAIS | C8: ='NAV - orçamento'!H9 -> 4803.17 | D8: 0.2 | E8: =D8 -> 0.2 | F8: 0.1 | G8: =E8+F8 -> 0.3 | H8: 0.7 | I8: =G8+H8 -> 1 | K8: =I8+J8 -> 1 | M8: =K8+L8 -> 1 | O8: =M8+N8 -> 1 | Q8: =O8+P8 -> 1 | S8: =Q8+R8 -> 1 | U8: =S8+T8 -> 1 | W8: =U8+V8 -> 1 | Y8: =W8+X8 -> 1 | AA8: =Y8+Z8 -> 1
A9: ='NAV - orçamento'!B14 -> 2 | B9: ='NAV - orçamento'!C14 -> FUNDAÇÃO E ESTRUTURA | C9: ='NAV - orçamento'!H14 -> 32700.4 | D9: 0.25 | E9: =D9 -> 0.25 | F9: 0.25 | G9: =E9+F9 -> 0.5 | H9: 0.25 | I9: =G9+H9 -> 0.75 | J9: 0.25 | K9: =I9+J9 -> 1 | M9: =K9+L9 -> 1 | O9: =M9+N9 -> 1 | Q9: =O9+P9 -> 1 | S9: =Q9+R9 -> 1 | U9: =S9+T9 -> 1 | W9: =U9+V9 -> 1 | Y9: =W9+X9 -> 1 | AA9: =Y9+Z9 -> 1
A10: ='NAV - orçamento'!B35 -> 3 | B10: ='NAV - orçamento'!C35 -> ALVENARIA | C10: ='NAV - orçamento'!H35 -> 11513.85 | D10: 0.25 | E10: =D10 -> 0.25 | F10: 0.25 | G10: =E10+F10 -> 0.5 | H10: 0.4 | I10: =G10+H10 -> 0.9 | J10: 0.1 | K10: =I10+J10 -> 1 | M10: =K10+L10 -> 1 | O10: =M10+N10 -> 1 | Q10: =O10+P10 -> 1 | S10: =Q10+R10 -> 1 | U10: =S10+T10 -> 1 | W10: =U10+V10 -> 1 | Y10: =W10+X10 -> 1 | AA10: =Y10+Z10 -> 1
A11: ='NAV - orçamento'!B39 -> 4 | B11: ='NAV - orçamento'!C39 -> COBERTURA | C11: ='NAV - orçamento'!H39 -> 58474.77 | D11: 0.35 | E11: =D11 -> 0.35 | F11: 0.35 | G11: =E11+F11 -> 0.7 | H11: 0.3 | I11: =G11+H11 -> 1 | K11: =I11+J11 -> 1 | M11: =K11+L11 -> 1 | O11: =M11+N11 -> 1 | Q11: =O11+P11 -> 1 | S11: =Q11+R11 -> 1 | U11: =S11+T11 -> 1 | W11: =U11+V11 -> 1 | Y11: =W11+X11 -> 1 | AA11: =Y11+Z11 -> 1
A12: ='NAV - orçamento'!B53 -> 5 | B12: ='NAV - orçamento'!C53 -> ACABAMENTOS | C12: ='NAV - orçamento'!H53 -> 47814.92 | E12: =D12 -> 0 | F12: 0.35 | G12: =E12+F12 -> 0.35 | H12: 0.35 | I12: =G12+H12 -> 0.7 | J12: 0.3 | K12: =I12+J12 -> 1 | M12: =K12+L12 -> 1 | O12: =M12+N12 -> 1 | Q12: =O12+P12 -> 1 | S12: =Q12+R12 -> 1 | U12: =S12+T12 -> 1 | W12: =U12+V12 -> 1 | Y12: =W12+X12 -> 1 | AA12: =Y12+Z12 -> 1
A13: ='NAV - orçamento'!B67 -> 6 | B13: ='NAV - orçamento'!C67 -> ESQUADRIAS | C13: ='NAV - orçamento'!H67 -> 23894.4 | E13: =D13 -> 0 | G13: =E13+F13 -> 0 | H13: 0.2 | I13: =G13+H13 -> 0.2 | J13: 0.5 | K13: =I13+J13 -> 0.7 | L13: 0.3 | M13: =K13+L13 -> 1 | O13: =M13+N13 -> 1 | Q13: =O13+P13 -> 1 | S13: =Q13+R13 -> 1 | U13: =S13+T13 -> 1 | W13: =U13+V13 -> 1 | Y13: =W13+X13 -> 1 | AA13: =Y13+Z13 -> 1
A14: ='NAV - orçamento'!B74 -> 7 | B14: ='NAV - orçamento'!C74 -> HIDROSSANITARIO | C14: ='NAV - orçamento'!H74 -> 10326.19 | D14: 0.1 | E14: =D14 -> 0.1 | F14: 0.1 | G14: =E14+F14 -> 0.2 | H14: 0.2 | I14: =G14+H14 -> 0.4 | J14: 0.15 | K14: =I14+J14 -> 0.55 | L14: 0.45 | M14: =K14+L14 -> 1 | O14: =M14+N14 -> 1 | Q14: =O14+P14 -> 1 | S14: =Q14+R14 -> 1 | U14: =S14+T14 -> 1 | W14: =U14+V14 -> 1 | Y14: =W14+X14 -> 1 | AA14: =Y14+Z14 -> 1
A15: ='NAV - orçamento'!B91 -> 8 | B15: ='NAV - orçamento'!C91 -> ELETRICO | C15: ='NAV - orçamento'!H91 -> 5862.42 | D15: 0.1 | E15: =D15 -> 0.1 | F15: 0.1 | G15: =E15+F15 -> 0.2 | H15: 0.25 | I15: =G15+H15 -> 0.45 | J15: 0.25 | K15: =I15+J15 -> 0.7 | L15: 0.3 | M15: =K15+L15 -> 1 | O15: =M15+N15 -> 1 | Q15: =O15+P15 -> 1 | S15: =Q15+R15 -> 1 | U15: =S15+T15 -> 1 | W15: =U15+V15 -> 1 | Y15: =W15+X15 -> 1 | AA15: =Y15+Z15 -> 1
A16: ='NAV - orçamento'!B101 -> 9 | B16: ='NAV - orçamento'!C101 -> SERVIÇOS COMPLEMENTARES | C16: ='NAV - orçamento'!H101 -> 431.92 | E16: =D16 -> 0 | G16: =E16+F16 -> 0 | I16: =G16+H16 -> 0 | K16: =I16+J16 -> 0 | L16: 1 | M16: =K16+L16 -> 1 | O16: =M16+N16 -> 1 | Q16: =O16+P16 -> 1 | S16: =Q16+R16 -> 1 | U16: =S16+T16 -> 1 | W16: =U16+V16 -> 1 | Y16: =W16+X16 -> 1 | AA16: =Y16+Z16 -> 1
E17: =D17 -> 0 | G17: =E17+F17 -> 0 | I17: =G17+H17 -> 0 | K17: =I17+J17 -> 0 | M17: =K17+L17 -> 0 | O17: =M17+N17 -> 0 | Q17: =O17+P17 -> 0 | S17: =Q17+R17 -> 0 | U17: =S17+T17 -> 0 | W17: =U17+V17 -> 0 | Y17: =W17+X17 -> 0 | AA17: =Y17+Z17 -> 0
A18: TOTAL (%) | D18: =D19/$C$20 -> 0.17413375 | E18: =D18 -> 0.17413375 | F18: =F19/$C$20 -> 0.25714231 | G18: =E18+F18 -> 0.43127607 | H18: =H19/$C$20 -> 0.29991637 | I18: =G18+H18 -> 0.73119243 | J18: =J19/$C$20 -> 0.19728471 | K18: =I18+J18 -> 0.92847714 | L18: =L19/$C$20 -> 0.071522856 | M18: =K18+L18 -> 1 | N18: =N19/$C$20 -> 0 | O18: =M18+N18 -> 1 | P18: =P19/$C$20 -> 0 | Q18: =O18+P18 -> 1 | R18: =R19/$C$20 -> 0 | S18: =Q18+R18 -> 1 | T18: =T19/$C$20 -> 0 | U18: =S18+T18 -> 1 | V18: =V19/$C$20 -> 0 | W18: =U18+V18 -> 1 | X18: =X19/$C$20 -> 0 | Y18: =W18+X18 -> 1 | Z18: =Z19/$C$20 -> 0 | AA18: =Y18+Z18 -> 1
B19: Período | D19: =($C$8*D8)+($C$9*D9)+($C$10*D10)+($C$11*D11)+($C$12*D12)+($C$13*D13)+($C$14*D14)+($C$15*D15)+($C$16*D16)+($C$17*D17) -> 34099.227 | F19: =($C$8*F8)+($C$9*F9)+($C$10*F10)+($C$11*F11)+($C$12*F12)+($C$13*F13)+($C$14*F14)+($C$15*F15)+($C$16*F16)+($C$17*F17) -> 50354.132 | H19: =($C$8*H8)+($C$9*H9)+($C$10*H10)+($C$11*H11)+($C$12*H12)+($C$13*H13)+($C$14*H14)+($C$15*H15)+($C$16*H16)+($C$17*H17) -> 58730.235 | J19: =($C$8*J8)+($C$9*J9)+($C$10*J10)+($C$11*J11)+($C$12*J12)+($C$13*J13)+($C$14*J14)+($C$15*J15)+($C$16*J16)+($C$17*J17) -> 38632.694 | L19: =($C$8*L8)+($C$9*L9)+($C$10*L10)+($C$11*L11)+($C$12*L12)+($C$13*L13)+($C$14*L14)+($C$15*L15)+($C$16*L16)+($C$17*L17) -> 14005.752 | N19: =($C$8*N8)+($C$9*N9)+($C$10*N10)+($C$11*N11)+($C$12*N12)+($C$13*N13)+($C$14*N14)+($C$15*N15)+($C$16*N16)+($C$17*N17) -> 0 | P19: =($C$8*P8)+($C$9*P9)+($C$10*P10)+($C$11*P11)+($C$12*P12)+($C$13*P13)+($C$14*P14)+($C$15*P15)+($C$16*P16)+($C$17*P17) -> 0 | R19: =($C$8*R8)+($C$9*R9)+($C$10*R10)+($C$11*R11)+($C$12*R12)+($C$13*R13)+($C$14*R14)+($C$15*R15)+($C$16*R16)+($C$17*R17) -> 0 | T19: =($C$8*T8)+($C$9*T9)+($C$10*T10)+($C$11*T11)+($C$12*T12)+($C$13*T13)+($C$14*T14)+($C$15*T15)+($C$16*T16)+($C$17*T17) -> 0 | V19: =($C$8*V8)+($C$9*V9)+($C$10*V10)+($C$11*V11)+($C$12*V12)+($C$13*V13)+($C$14*V14)+($C$15*V15)+($C$16*V16)+($C$17*V17) -> 0 | X19: =($C$8*X8)+($C$9*X9)+($C$10*X10)+($C$11*X11)+($C$12*X12)+($C$13*X13)+($C$14*X14)+($C$15*X15)+($C$16*X16)+($C$17*X17) -> 0 | Z19: =($C$8*Z8)+($C$9*Z9)+($C$10*Z10)+($C$11*Z11)+($C$12*Z12)+($C$13*Z13)+($C$14*Z14)+($C$15*Z15)+($C$16*Z16)+($C$17*Z17) -> 0
B20: Acumulado | C20: =SUM(C8:C19) -> 195822.04 | D20: =D19 -> 34099.227 | F20: =F19+D20 -> 84453.359 | H20: =H19+F20 -> 143183.59 | J20: =J19+H20 -> 181816.29 | L20: =L19+J20 -> 195822.04 | N20: =N19+L20 -> 195822.04 | P20: =P19+N20 -> 195822.04 | R20: =R19+P20 -> 195822.04 | T20: =T19+R20 -> 195822.04 | V20: =V19+T20 -> 195822.04 | X20: =X19+V20 -> 195822.04 | Z20: =Z19+X20 -> 195822.04

Sheet BDI
C3: ITENS | E3: SIGLA | F3: VALORES
C4: TAXA DE RATEIO DA ADMINISTRAÇÃO CENTRAL | E4: AC | F4: 0.037
C5: TAXA DE SEGURO E GARANTIADO EMPREENDIMENTO | E5: S+G | F5: 0.0064
C6: TAXA DE RISCO | E6: R | F6: 0.018
C7: TAXA DE DESPESAS FINANCEIRAS | E7: DF | F7: 0.0133
C8: TAXA DE LUCRO | E8: L | F8: 0.0634
C9: TAXAS E TRIBUTOS | D9: PIS (geralmente 0,65%) | E9: I | F9: 0.0065
D10: COFINS (geralmente 3,00%) | F10: 0.03
D11: ISS (legislação municipal) | F11: 0.05
D12: CPRB (INSS) | F12: 0
C13: BDI RESULTANTE | F13: =(((1+(F4+F6+F5))*(1+F7)*(1+F8)/(1-(F9+F10+F11+F12))-1)) -> 0.2520026
