Workbook

Sheet Projeto padrão 220V
B1: MINISTÉRIO DA EDUCAÇÃO
B5: Obra: Projeto Padrão FNDE - Escola 04 Salas de Aula - Tensão 220V | F5: Data | G5: 43732
B6: Preço base: Sinapi 05/2019 com desoneração
B7: Estado: | C7: RS | I7: BDI: | J7: 0.2485
B8: Planilha Orçamentária JÚLIO BORGES
E10: Escola 04 Salas de Aula - 220V | F10: un | G10: 1 | J10: =J351 -> 1262706.8
B12: ITEM | C12: CÓDIGO | D12: FONTE | E12: DESCRIÇÃO DOS SERVIÇOS | F12: UN. | G12: QUANT. | H12: PREÇO SEM BDI (R$) | I12: PREÇO COM BDI (R$) | J12: VALOR (R$) | K12: QDADE EXECUTADO | L12: VALOR | M12: % | N12: QDADE A EXECUTAR | O12: VALOR | P12: %
B14: 1. | E14: SERVIÇOS PRELIMINARES | J14: =J22 -> 22616.293 | L14: =SUM(L15:L21) -> 22616.293 | O14: =SUM(O15:O21) -> 0 | Q14: =J14-L14-O14 -> 0
B15: 1.1 | C15: 74209/1 | D15: SINAPI | E15: Placa de obra em chapa zincada, instalada | F15: m² | G15: 6.4 | H15: 320.16 | I15: =H15+H15*$J$7 -> 399.71976 | J15: =I15*G15 -> 2558.2065 | K15: 6.4 | L15: =K15*I15 -> 2558.2065 | M15: =L15/J15*100 -> 100 | N15: =G15-K15 -> 0 | O15: =N15*I15 -> 0 | P15: =O15/J15*100 -> 0 | Q15: =J15-L15-O15 -> 0
B16: 1.2 | C16: 93210 | D16: SINAPI | E16: Barracão para escritório de obra porte pequeno s=25,41m² | F16: m² | G16: 20 | H16: 378 | I16: =H16+H16*$J$7 -> 471.933 | J16: =I16*G16 -> 9438.66 | K16: 20 | L16: =K16*I16 -> 9438.66 | M16: =L16/J16*100 -> 100 | N16: =G16-K16 -> 0 | O16: =N16*I16 -> 0 | P16: =O16/J16*100 -> 0 | Q16: =J16-L16-O16 -> 0
B17: 1.3 | C17: 74077/3 | D17: SINAPI | E17: Locação de construção de edificação com gabarito de madeira | F17: m² | G17: 972.34 | H17: 4.7 | I17: =H17+H17*$J$7 -> 5.86795 | J17: =I17*G17 -> 5705.6425 | K17: 972.34 | L17: =K17*I17 -> 5705.6425 | M17: =L17/J17*100 -> 100 | N17: =G17-K17 -> 0 | O17: =N17*I17 -> 0 | P17: =O17/J17*100 -> 0 | Q17: =J17-L17-O17 -> 0
B18: 1.4 | C18: C2850 | D18: SEINFRA | E18: Ligação provisória de energia elétrica em canteiro de obra | F18: un | G18: 1 | H18: 1585 | I18: =H18+H18*$J$7 -> 1978.8725 | J18: =I18*G18 -> 1978.8725 | K18: 1 | L18: =K18*I18 -> 1978.8725 | M18: =L18/J18*100 -> 100 | N18: =G18-K18 -> 0 | O18: =N18*I18 -> 0 | P18: =O18/J18*100 -> 0 | Q18: =J18-L18-O18 -> 0
B19: 1.5 | C19: C2851 | D19: SEINFRA | E19: Instalação provisória de água | F19: un | G19: 1 | H19: 899 | I19: =H19+H19*$J$7 -> 1122.4015 | J19: =I19*G19 -> 1122.4015 | K19: 1 | L19: =K19*I19 -> 1122.4015 | M19: =L19/J19*100 -> 100 | N19: =G19-K19 -> 0 | O19: =N19*I19 -> 0 | P19: =O19/J19*100 -> 0 | Q19: =J19-L19-O19 -> 0
B20: 1.6 | C20: C2849 | D20: SEINFRA | E20: Instalações provisórias de esgoto | F20: un | G20: 1 | H20: 206 | I20: =H20+H20*$J$7 -> 257.191 | J20: =I20*G20 -> 257.191 | K20: 1 | L20: =K20*I20 -> 257.191 | M20: =L20/J20*100 -> 100 | N20: =G20-K20 -> 0 | O20: =N20*I20 -> 0 | P20: =O20/J20*100 -> 0 | Q20: =J20-L20-O20 -> 0
B21: 1.7 | C21: C2290 | D21: SEINFRA | E21: Sondagem do terreno | F21: m | G21: 5 | H21: 249.15 | I21: =H21+H21*$J$7 -> 311.06378 | J21: =I21*G21 -> 1555.3189 | K21: 5 | L21: =K21*I21 -> 1555.3189 | M21: =L21/J21*100 -> 100 | N21: =G21-K21 -> 0 | O21: =N21*I21 -> 0 | P21: =O21/J21*100 -> 0 | Q21: =J21-L21-O21 -> 0
H22: Subtotal | J22: =SUM(J15:J21) -> 22616.293
Q23: =J23-L23-O23 -> 0
B24: 2. | E24: MOVIMENTO DE TERRAS PARA FUNDAÇÕES | J24: =J29 -> 28880.808 | L24: =SUM(L25:L28) -> 28880.808 | O24: =SUM(O25:O28) -> 0
B25: 2.1 | C25: 55835 | D25: SINAPI | E25: Aterro apiloado em camadas de 0,20 m com material argilo - arenoso (entre baldrames) | F25: m³ | G25: 334.12 | H25: 49 | I25: =H25+H25*$J$7 -> 61.1765 | J25: =I25*G25 -> 20440.292 | K25: 334.12 | L25: =K25*I25 -> 20440.292 | M25: =L25/J25*100 -> 100 | N25: =G25-K25 -> 0 | O25: =N25*I25 -> 0 | P25: =O25/J25*100 -> 0 | Q25: =J25-L25-O25 -> 0
B26: 2.2 | C26: 93358 | D26: SINAPI | E26: Escavação mecanizada de valas em qualquer terreno até h=1,50 m | F26: m³ | G26: 83.22 | H26: 53.04 | I26: =H26+H26*$J$7 -> 66.22044 | J26: =I26*G26 -> 5510.865 | K26: 83.22 | L26: =K26*I26 -> 5510.865 | M26: =L26/J26*100 -> 100 | N26: =G26-K26 -> 0 | O26: =N26*I26 -> 0 | P26: =O26/J26*100 -> 0 | Q26: =J26-L26-O26 -> 0
B27: 2.3 | C27: 94098 | D27: SINAPI | E27: Regularização e compactação do fundo de valas | F27: m² | G27: 160.83 | H27: 4.75 | I27: =H27+H27*$J$7 -> 5.930375 | J27: =I27*G27 -> 953.78221 | K27: 160.83 | L27: =K27*I27 -> 953.78221 | M27: =L27/J27*100 -> 100 | N27: =G27-K27 -> 0 | O27: =N27*I27 -> 0 | P27: =O27/J27*100 -> 0 | Q27: =J27-L27-O27 -> 0
B28: 2.4 | C28: 96995 | D28: SINAPI | E28: Reaterro apiloado de vala com material da obra | F28: m³ | G28: 49.21 | H28: 32.16 | I28: =H28+H28*$J$7 -> 40.15176 | J28: =I28*G28 -> 1975.8681 | K28: 49.21 | L28: =K28*I28 -> 1975.8681 | M28: =L28/J28*100 -> 100 | N28: =G28-K28 -> 0 | O28: =N28*I28 -> 0 | P28: =O28/J28*100 -> 0 | Q28: =J28-L28-O28 -> 0
H29: Subtotal | J29: =SUM(J25:J28) -> 28880.808
Q30: =J30-L30-O30 -> 0
B31: 3. | E31: FUNDAÇÕES | J31: =J54 -> 117415.39 | L31: =SUM(L33:L53) -> 102536.62 | O31: =SUM(O33:O53) -> 14878.771 | Q31: =O31+L31 -> 117415.39
B32: 3.1 | E32: CONCRETO ARMADO PARA FUNDAÇÕES | G32: 0 | Q32: =J32-L32-O32 -> 0
B33: 3.1.1 | C33: 74156/3 | D33: SINAPI | E33: Estaca a trado (broca) d=20 cm com concreto fck=15 Mpa (sem armação) | F33: m | G33: 392 | H33: 42.5 | I33: =H33+H33*$J$7 -> 53.06125 | J33: =I33*G33 -> 20800.01 | K33: 392 | L33: =K33*I33 -> 20800.01 | M33: =L33/J33*100 -> 100 | N33: =G33-K33 -> 0 | O33: =N33*I33 -> 0 | P33: =O33/J33*100 -> 0 | Q33: =J33-L33-O33 -> 0
B34: 3.1.2 | C34: 95240 | D34: SINAPI | E34: Lastro de concreto magro (e=3,0 cm) - preparo mecânico | F34: m² | G34: 55.02 | H34: 17.53 | I34: =H34+H34*$J$7 -> 21.886205 | J34: =I34*G34 -> 1204.179 | K34: 55.02 | L34: =K34*I34 -> 1204.179 | M34: =L34/J34*100 -> 100 | N34: =G34-K34 -> 0 | O34: =N34*I34 -> 0 | P34: =O34/J34*100 -> 0 | Q34: =J34-L34-O34 -> 0
B35: 3.1.3 | C35: 92418 | D35: SINAPI | E35: Forma de madeira em tábuas para fundações, com reaproveitamento | F35: m² | G35: 146.95 | H35: 59.03 | I35: =H35+H35*$J$7 -> 73.698955 | J35: =I35*G35 -> 10830.061 | K35: 146.95 | L35: =K35*I35 -> 10830.061 | M35: =L35/J35*100 -> 100 | N35: =G35-K35 -> 0 | O35: =N35*I35 -> 0 | P35: =O35/J35*100 -> 0 | Q35: =J35-L35-O35 -> 0
B36: 3.1.4 | C36: 92916 | D36: SINAPI | E36: Armação de aço CA-50 Ø 6.3mm; incluso fornecimento, corte, dobra e colocação | F36: kg | G36: 6.55 | H36: 10.68 | I36: =H36+H36*$J$7 -> 13.33398 | J36: =I36*G36 -> 87.337569 | K36: 6.55 | L36: =K36*I36 -> 87.337569 | M36: =L36/J36*100 -> 100 | N36: =G36-K36 -> 0 | O36: =N36*I36 -> 0 | P36: =O36/J36*100 -> 0 | Q36: =J36-L36-O36 -> 0
B37: 3.1.5 | C37: 92917 | D37: SINAPI | E37: Armação de aço CA-50 Ø 8mm; incluso fornecimento, corte, dobra e colocação | F37: kg | G37: 32.45 | H37: 10.64 | I37: =H37+H37*$J$7 -> 13.28404 | J37: =I37*G37 -> 431.0671 | K37: 32.45 | L37: =K37*I37 -> 431.0671 | M37: =L37/J37*100 -> 100 | N37: =G37-K37 -> 0 | O37: =N37*I37 -> 0 | P37: =O37/J37*100 -> 0 | Q37: =J37-L37-O37 -> 0
B38: 3.1.6 | C38: 92919 | D38: SINAPI | E38: Armação de aço CA-50 Ø 10mm; incluso fornecimento, corte, dobra e colocação | F38: kg | G38: 270.18 | H38: 8.75 | I38: =H38+H38*$J$7 -> 10.924375 | J38: =I38*G38 -> 2951.5476 | K38: 270.18 | L38: =K38*I38 -> 2951.5476 | M38: =L38/J38*100 -> 100 | N38: =G38-K38 -> 0 | O38: =N38*I38 -> 0 | P38: =O38/J38*100 -> 0 | Q38: =J38-L38-O38 -> 0
B39: 3.1.7 | C39: 92921 | D39: SINAPI | E39: Armação de aço CA-50 Ø 12.5mm; incluso fornecimento, corte, dobra e colocação | F39: kg | G39: 32.73 | H39: 7.88 | I39: =H39+H39*$J$7 -> 9.83818 | J39: =I39*G39 -> 322.00363 | K39: 32.73 | L39: =K39*I39 -> 322.00363 | M39: =L39/J39*100 -> 100 | N39: =G39-K39 -> 0 | O39: =N39*I39 -> 0 | P39: =O39/J39*100 -> 0 | Q39: =J39-L39-O39 -> 0
B40: 3.1.8 | C40: 92915 | D40: SINAPI | E40: Armação de aço CA-60 Ø 5,0mm; incluso fornecimento, corte, dobra e colocação | F40: kg | G40: 272.64 | H40: 11.95 | I40: =H40+H40*$J$7 -> 14.919575 | J40: =I40*G40 -> 4067.6729 | K40: 272.64 | L40: =K40*I40 -> 4067.6729 | M40: =L40/J40*100 -> 100 | N40: =G40-K40 -> 0 | O40: =N40*I40 -> 0 | P40: =O40/J40*100 -> 0 | Q40: =J40-L40-O40 -> 0
B41: 3.1.9 | C41: 92720 | D41: SINAPI | E41: Concreto para Fundação fck=25MPa, incluindo preparo, lançamento, adensamento | F41: m³ | G41: 14.27 | H41: 336.76 | I41: =H41+H41*$J$7 -> 420.44486 | J41: =I41*G41 -> 5999.7482 | K41: 14.27 | L41: =K41*I41 -> 5999.7482 | M41: =L41/J41*100 -> 100 | N41: =G41-K41 -> 0 | O41: =N41*I41 -> 0 | P41: =O41/J41*100 -> 0 | Q41: =J41-L41-O41 -> 0
B42: 3.2 | E42: CONCRETO ARMADO PARA FUNDAÇÕES - VIGAS BALDRAMES | G42: 0 | Q42: =J42-L42-O42 -> 0
B43: 3.2.1 | C43: 92418 | D43: SINAPI | E43: Forma de madeira em tábuas para fundações, com reaproveitamento | F43: m² | G43: 401.89 | H43: 59.03 | I43: =H43+H43*$J$7 -> 73.698955 | J43: =I43*G43 -> 29618.873 | K43: 401.89 | L43: =K43*I43 -> 29618.873 | M43: =L43/J43*100 -> 100 | N43: =G43-K43 -> 0 | O43: =N43*I43 -> 0 | P43: =O43/J43*100 -> 0 | Q43: =J43-L43-O43 -> 0
B44: 3.2.2 | C44: 92777 | D44: SINAPI | E44: Armação de aço CA-50 Ø 8mm; incluso fornecimento, corte, dobra e colocação | F44: kg | G44: 705.27 | H44: 11.25 | I44: =H44+H44*$J$7 -> 14.045625 | J44: =I44*G44 -> 9905.9579 | K44: 705.27 | L44: =K44*I44 -> 9905.9579 | M44: =L44/J44*100 -> 100 | N44: =G44-K44 -> 0 | O44: =N44*I44 -> 0 | P44: =O44/J44*100 -> 0 | Q44: =J44-L44-O44 -> 0
B45: 3.2.3 | C45: 92778 | D45: SINAPI | E45: Armação de aço CA-50 Ø 10mm; incluso fornecimento, corte, dobra e colocação | F45: kg | G45: 100.09 | H45: 9.19 | I45: =H45+H45*$J$7 -> 11.473715 | J45: =I45*G45 -> 1148.4041 | K45: 100.09 | L45: =K45*I45 -> 1148.4041 | M45: =L45/J45*100 -> 100 | N45: =G45-K45 -> 0 | O45: =N45*I45 -> 0 | P45: =O45/J45*100 -> 0 | Q45: =J45-L45-O45 -> 0
B46: 3.2.4 | C46: 92915 | D46: SINAPI | E46: Armação de aço CA-60 Ø 5,0mm; incluso fornecimento, corte, dobra e colocação | F46: kg | G46: 349.73 | H46: 11.95 | I46: =H46+H46*$J$7 -> 14.919575 | J46: =I46*G46 -> 5217.823 | K46: 349.73 | L46: =K46*I46 -> 5217.823 | M46: =L46/J46*100 -> 100 | N46: =G46-K46 -> 0 | O46: =N46*I46 -> 0 | P46: =O46/J46*100 -> 0 | Q46: =J46-L46-O46 -> 0
...

Sheet cronograma
A1: Ministério da Educação
A4: Obra: Projeto Padrão FNDE -Escola 04 Salas de Aula - 220V
A5: Município:
A6: Endereço:
A8: PLANEJAMENTO
A10: ITEM | B10: DESCRIÇÃO DOS SERVIÇOS | C10: VALOR (R$) | D10: % ITEM | E10: 1 | F10: 2 | G10: 3 | H10: 4 | I10: 5 | J10: 6
A12: 1 | B12: SERVIÇOS PRELIMINARES | C12: ='Projeto padrão 220V'!J14 -> 22616.293 | D12: =C12/$C$53 -> 0.017910962 | E12: 1
E13: =C12*E12 -> 22616.293
A14: 2 | B14: MOVIMENTO DE TERRAS PARA FUNDAÇÕES | C14: ='Projeto padrão 220V'!J24 -> 28880.808 | D14: =C14/$C$53 -> 0.022872141 | E14: 0.8 | F14: 0.2
E15: =$C14*E14 -> 23104.646 | F15: =F14*C14 -> 5776.1615
A16: 3 | B16: FUNDAÇÕES | C16: ='Projeto padrão 220V'!J31 -> 117415.39 | D16: =C16/$C$53 -> 0.092987057 | E16: 0.3 | F16: 0.7
E17: =E16*C16 -> 35224.616 | F17: =C16*F16 -> 82190.77
A18: 4 | B18: SUPERESTRUTURA | C18: ='Projeto padrão 220V'!J56 -> 150040.89 | D18: =C18/$C$53 -> 0.11882481 | F18: 0.8 | G18: 0.2
F19: =C18*F18 -> 120032.71 | G19: =C18*G18 -> 30008.177
A20: 5 | B20: SISTEMA DE VEDAÇÃO VERTICAL INTERNO E EXTERNO (PAREDES) | C20: ='Projeto padrão 220V'!J73 -> 54145.938 | D20: =C20/$C$53 -> 0.042880849 | F20: 0.1 | G20: 0.6 | H20: 0.3
F21: =F20*C20 -> 5414.5938 | G21: =G20*C20 -> 32487.563 | H21: =H20*C20 -> 16243.781
A22: 6 | B22: ESQUADRIAS | C22: ='Projeto padrão 220V'!J80 -> 84942.737 | D22: =C22/$C$53 -> 0.067270359 | G22: 0.3 | H22: 0.6 | I22: 0.1
G23: =G22*C22 -> 25482.821 | H23: =H22*C22 -> 50965.642 | I23: =I22*C22 -> 8494.2737
A24: 7 | B24: SISTEMAS DE COBERTURA | C24: ='Projeto padrão 220V'!J113 -> 186194.98 | D24: =C24/$C$53 -> 0.14745702 | G24: 0.4 | H24: 0.5 | I24: 0.1
G25: =G24*C24 -> 74477.992 | H25: =C24*H24 -> 93097.49 | I25: =I24*C24 -> 18619.498
A26: 8 | B26: IMPERMEABILIZAÇÃO | C26: ='Projeto padrão 220V'!J124 -> 4721.5584 | D26: =C26/$C$53 -> 0.0037392359 | F26: 1
F27: =F26*C26 -> 4721.5584
A28: 9 | B28: REVESTIMENTOS INTERNOS E EXTERNOS | C28: ='Projeto padrão 220V'!J128 -> 174854.87 | D28: =C28/$C$53 -> 0.13847623 | H28: 0.5 | I28: 0.5
H29: =H28*C28 -> 87427.435 | I29: =I28*C28 -> 87427.435
A30: 10 | B30: SISTEMAS DE PISOS INTERNOS E EXTERNOS (PAVIMENTAÇÃO) | C30: ='Projeto padrão 220V'!J139 -> 146167.88 | D30: =C30/$C$53 -> 0.11575758 | G30: 0.3 | H30: 0.2 | I30: 0.4 | J30: 0.1
G31: =G30*C30 -> 43850.365 | H31: =H30*C30 -> 29233.576 | I31: =I30*C30 -> 58467.153 | J31: =J30*C30 -> 14616.788
A32: 11 | B32: PINTURA | C32: ='Projeto padrão 220V'!J155 -> 38271.577 | D32: =C32/$C$53 -> 0.030309156 | H32: 0.2 | I32: 0.5 | J32: 0.3
H33: =H32*C32 -> 7654.3154 | I33: =I32*C32 -> 19135.788 | J33: =J32*C32 -> 11481.473
A34: 12 | B34: INSTALAÇÕES HIDRÁULICA | C34: ='Projeto padrão 220V'!J165 -> 43802.886 | D34: =C34/$C$53 -> 0.034689674 | G34: 0.4 | H34: 0.4 | I34: 0.2
G35: =G34*C34 -> 17521.154 | H35: =H34*C34 -> 17521.154 | I35: =I34*C34 -> 8760.5772
A36: 13 | B36: INSTALAÇÃO SANITÁRIA | C36: ='Projeto padrão 220V'!J195 -> 46441.428 | D36: =C36/$C$53 -> 0.036779266 | F36: 0.1 | G36: 0.5 | H36: 0.2 | I36: 0.2
F37: =F36*C36 -> 4644.1428 | G37: =G36*C36 -> 23220.714 | H37: =H36*C36 -> 9288.2856 | I37: =I36*C36 -> 9288.2856
A38: 14 | B38: LOUÇAS E METAIS | C38: ='Projeto padrão 220V'!J216 -> 17118.009 | D38: =C38/$C$53 -> 0.013556599 | I38: 1
I39: =I38*C38 -> 17118.009
A40: 15 | B40: INSTALAÇÃO DE GÁS COMBUSTIVEL | C40: ='Projeto padrão 220V'!J240 -> 2022.9148 | D40: =C40/$C$53 -> 0.0016020464 | H40: 0.5 | I40: 0.5
H41: =H40*C40 -> 1011.4574 | I41: =I40*C40 -> 1011.4574
A42: 16 | B42: SISTEMA DE PROTEÇÃO CONTRA INCÊNCIO | C42: ='Projeto padrão 220V'!J255 -> 6398.163 | D42: =C42/$C$53 -> 0.005067022 | H42: 0.3 | I42: 0.5 | J42: 0.2
H43: =H42*C42 -> 1919.4489 | I43: =I42*C42 -> 3199.0815 | J43: =J42*C42 -> 1279.6326
A44: 17 | B44: INSTALAÇÕES ELÉTRICAS E TELEFÔNICAS | C44: ='Projeto padrão 220V'!J264 -> 47985.804 | D44: =C44/$C$53 -> 0.038002334 | G44: 0.5 | H44: 0.3 | I44: 0.2
G45: =G44*C44 -> 23992.902 | H45: =$C44*H44 -> 14395.741 | I45: =$C44*I44 -> 9597.1608
...
