Workbook

Sheet Projeto padrão 220V
B1: MINISTÉRIO DA EDUCAÇÃO
B5: Obra: Projeto Padrão FNDE - Escola 04 Salas de Aula - Tensão 220V | F5: Data | G5: 43732
B6: Preço base: Sinapi 05/2019 com desoneração
B7: Estado: | C7: RS | I7: BDI: | J7: 0.2485
B8: Planilha Orçamentária JÚLIO BORGES
E10: Escola 04 Salas de Aula - 220V | F10: un | G10: 1 | J10: =J351 -> 1262706.8
B12: ITEM | C12: CÓDIGO | D12: FONTE | E12: DESCRIÇÃO DOS SERVIÇOS | F12: UN. | G12: QUANT. | H12: PREÇO SEM BDI (R$) | I12: PREÇO COM BDI (R$) | J12: VALOR (R$) | K12: QDADE EXECUTADO | L12: VALOR | M12: % | N12: QDADE A EXECUTAR | O12: VALOR | P12: %
B14: 1. | E14: SERVIÇOS PRELIMINARES | J14: =J22 -> 22616.293 | L14: =SUM(L15:L21) -> 22616.293 | O14: =SUM(O15:O21) -> 0 | Q14: =J14-L14-O14 -> 0
B15: 1.1 | C15: 74209/1 | D15: SINAPI | E15: Placa de obra em chapa zincada, instalada | F15: m² | G15: 6.4 | H15: 320.16 | I15: =H15+H15*$J$7 -> 399.71976 | J15: =I15*G15 -> 2558.2065 | K15: 6.4 | L15: =K15*I15 -> 2558.2065 | M15: =L15/J15*100 -> 100 | N15: =G15-K15 -> 0 | O15: =N15*I15 -> 0 | P15: =O15/J15*100 -> 0 | Q15: =J15-L15-O15 -> 0
B16: 1.2 | C16: 93210 | D16: SINAPI | E16: Barracão para escritório de obra porte pequeno s=25,41m² | F16: m² | G16: 20 | H16: 378 | I16: =H16+H16*$J$7 -> 471.933 | J16: =I16*G16 -> 9438.66 | K16: 20 | L16: =K16*I16 -> 9438.66 | M16: =L16/J16*100 -> 100 | N16: =G16-K16 -> 0 | O16: =N16*I16 -> 0 | P16: =O16/J16*100 -> 0 | Q16: =J16-L16-O16 -> 0
B17: 1.3 | C17: 74077/3 | D17: SINAPI | E17: Locação de construção de edificação com gabarito de madeira | F17: m² | G17: 972.34 | H17: 4.7 | I17: =H17+H17*$J$7 -> 5.86795 | J17: =I17*G17 -> 5705.6425 | K17: 972.34 | L17: =K17*I17 -> 5705.6425 | M17: =L17/J17*100 -> 100 | N17: =G17-K17 -> 0 | O17: =N17*I17 -> 0 | P17: =O17/J17*100 -> 0 | Q17: =J17-L17-O17 -> 0
B18: 1.4 | C18: C2850 | D18: SEINFRA | E18: Ligação provisória de energia elétrica em canteiro de obra | F18: un | G18: 1 | H18: 1585 | I18: =H18+H18*$J$7 -> 1978.8725 | J18: =I18*G18 -> 1978.8725 | K18: 1 | L18: =K18*I18 -> 1978.8725 | M18: =L18/J18*100 -> 100 | N18: =G18-K18 -> 0 | O18: =N18*I18 -> 0 | P18: =O18/J18*100 -> 0 | Q18: =J18-L18-O18 -> 0
B19: 1.5 | C19: C2851 | D19: SEINFRA | E19: Instalação provisória de água | F19: un | G19: 1 | H19: 899 | I19: =H19+H19*$J$7 -> 1122.4015 | J19: =I19*G19 -> 1122.4015 | K19: 1 | L19: =K19*I19 -> 1122.4015 | M19: =L19/J19*100 -> 100 | N19: =G19-K19 -> 0 | O19: =N19*I19 -> 0 | P19: =O19/J19*100 -> 0 | Q19: =J19-L19-O19 -> 0
B20: 1.6 | C20: C2849 | D20: SEINFRA | E20: Instalações provisórias de esgoto | F20: un | G20: 1 | H20: 206 | I20: =H20+H20*$J$7 -> 257.191 | J20: =I20*G20 -> 257.191 | K20: 1 | L20: =K20*I20 -> 257.191 | M20: =L20/J20*100 -> 100 | N20: =G20-K20 -> 0 | O20: =N20*I20 -> 0 | P20: =O20/J20*100 -> 0 | Q20: =J20-L20-O20 -> 0
B21: 1.7 | C21: C2290 | D21: SEINFRA | E21: Sondagem do terreno | F21: m | G21: 5 | H21: 249.15 | I21: =H21+H21*$J$7 -> 311.06378 | J21: =I21*G21 -> 1555.3189 | K21: 5 | L21: =K21*I21 -> 1555.3189 | M21: =L21/J21*100 -> 100 | N21: =G21-K21 -> 0 | O21: =N21*I21 -> 0 | P21: =O21/J21*100 -> 0 | Q21: =J21-L21-O21 -> 0
H22: Subtotal | J22: =SUM(J15:J21) -> 22616.293
Q23: =J23-L23-O23 -> 0
B24: 2. | E24: MOVIMENTO DE TERRAS PARA FUNDAÇÕES | J24: =J29 -> 28880.808 | L24: =SUM(L25:L28) -> 28880.808 | O24: =SUM(O25:O28) -> 0
B25: 2.1 | C25: 55835 | D25: SINAPI | E25: Aterro apiloado em camadas de 0,20 m com material argilo - arenoso (entre baldrames) | F25: m³ | G25: 334.12 | H25: 49 | I25: =H25+H25*$J$7 -> 61.1765 | J25: =I25*G25 -> 20440.292 | K25: 334.12 | L25: =K25*I25 -> 20440.292 | M25: =L25/J25*100 -> 100 | N25: =G25-K25 -> 0 | O25: =N25*I25 -> 0 | P25: =O25/J25*100 -> 0 | Q25: =J25-L25-O25 -> 0
B26: 2.2 | C26: 93358 | D26: SINAPI | E26: Escavação mecanizada de valas em qualquer terreno até h=1,50 m | F26: m³ | G26: 83.22 | H26: 53.04 | I26: =H26+H26*$J$7 -> 66.22044 | J26: =I26*G26 -> 5510.865 | K26: 83.22 | L26: =K26*I26 -> 5510.865 | M26: =L26/J26*100 -> 100 | N26: =G26-K26 -> 0 | O26: =N26*I26 -> 0 | P26: =O26/J26*100 -> 0 | Q26: =J26-L26-O26 -> 0
B27: 2.3 | C27: 94098 | D27: SINAPI | E27: Regularização e compactação do fundo de valas | F27: m² | G27: 160.83 | H27: 4.75 | I27: =H27+H27*$J$7 -> 5.930375 | J27: =I27*G27 -> 953.78221 | K27: 160.83 | L27: =K27*I27 -> 953.78221 | M27: =L27/J27*100 -> 100 | N27: =G27-K27 -> 0 | O27: =N27*I27 -> 0 | P27: =O27/J27*100 -> 0 | Q27: =J27-L27-O27 -> 0
B28: 2.4 | C28: 96995 | D28: SINAPI | E28: Reaterro apiloado de vala com material da obra | F28: m³ | G28: 49.21 | H28: 32.16 | I28: =H28+H28*$J$7 -> 40.15176 | J28: =I28*G28 -> 1975.8681 | K28: 49.21 | L28: =K28*I28 -> 1975.8681 | M28: =L28/J28*100 -> 100 | N28: =G28-K28 -> 0 | O28: =N28*I28 -> 0 | P28: =O28/J28*100 -> 0 | Q28: =J28-L28-O28 -> 0
H29: Subtotal | J29: =SUM(J25:J28) -> 28880.808
Q30: =J30-L30-O30 -> 0
B31: 3. | E31: FUNDAÇÕES | J31: =J54 -> 117415.39 | L31: =SUM(L33:L53) -> 102536.62 | O31: =SUM(O33:O53) -> 14878.771 | Q31: =O31+L31 -> 117415.39
B32: 3.1 | E32: CONCRETO ARMADO PARA FUNDAÇÕES | G32: 0 | Q32: =J32-L32-O32 -> 0
B33: 3.1.1 | C33: 74156/3 | D33: SINAPI | E33: Estaca a trado (broca) d=20 cm com concreto fck=15 Mpa (sem armação) | F33: m | G33: 392 | H33: 42.5 | I33: =H33+H33*$J$7 -> 53.06125 | J33: =I33*G33 -> 20800.01 | K33: 392 | L33: =K33*I33 -> 20800.01 | M33: =L33/J33*100 -> 100 | N33: =G33-K33 -> 0 | O33: =N33*I33 -> 0 | P33: =O33/J33*100 -> 0 | Q33: =J33-L33-O33 -> 0
B34: 3.1.2 | C34: 95240 | D34: SINAPI | E34: Lastro de concreto magro (e=3,0 cm) - preparo mecânico | F34: m² | G34: 55.02 | H34: 17.53 | I34: =H34+H34*$J$7 -> 21.886205 | J34: =I34*G34 -> 1204.179 | K34: 55.02 | L34: =K34*I34 -> 1204.179 | M34: =L34/J34*100 -> 100 | N34: =G34-K34 -> 0 | O34: =N34*I34 -> 0 | P34: =O34/J34*100 -> 0 | Q34: =J34-L34-O34 -> 0
B35: 3.1.3 | C35: 92418 | D35: SINAPI | E35: Forma de madeira em tábuas para fundações, com reaproveitamento | F35: m² | G35: 146.95 | H35: 59.03 | I35: =H35+H35*$J$7 -> 73.698955 | J35: =I35*G35 -> 10830.061 | K35: 146.95 | L35: =K35*I35 -> 10830.061 | M35: =L35/J35*100 -> 100 | N35: =G35-K35 -> 0 | O35: =N35*I35 -> 0 | P35: =O35/J35*100 -> 0 | Q35: =J35-L35-O35 -> 0
B36: 3.1.4 | C36: 92916 | D36: SINAPI | E36: Armação de aço CA-50 Ø 6.3mm; incluso fornecimento, corte, dobra e colocação | F36: kg | G36: 6.55 | H36: 10.68 | I36: =H36+H36*$J$7 -> 13.33398 | J36: =I36*G36 -> 87.337569 | K36: 6.55 | L36: =K36*I36 -> 87.337569 | M36: =L36/J36*100 -> 100 | N36: =G36-K36 -> 0 | O36: =N36*I36 -> 0 | P36: =O36/J36*100 -> 0 | Q36: =J36-L36-O36 -> 0
B37: 3.1.5 | C37: 92917 | D37: SINAPI | E37: Armação de aço CA-50 Ø 8mm; incluso fornecimento, corte, dobra e colocação | F37: kg | G37: 32.45 | H37: 10.64 | I37: =H37+H37*$J$7 -> 13.28404 | J37: =I37*G37 -> 431.0671 | K37: 32.45 | L37: =K37*I37 -> 431.0671 | M37: =L37/J37*100 -> 100 | N37: =G37-K37 -> 0 | O37: =N37*I37 -> 0 | P37: =O37/J37*100 -> 0 | Q37: =J37-L37-O37 -> 0
B38: 3.1.6 | C38: 92919 | D38: SINAPI | E38: Armação de aço CA-50 Ø 10mm; incluso fornecimento, corte, dobra e colocação | F38: kg | G38: 270.18 | H38: 8.75 | I38: =H38+H38*$J$7 -> 10.924375 | J38: =I38*G38 -> 2951.5476 | K38: 270.18 | L38: =K38*I38 -> 2951.5476 | M38: =L38/J38*100 -> 100 | N38: =G38-K38 -> 0 | O38: =N38*I38 -> 0 | P38: =O38/J38*100 -> 0 | Q38: =J38-L38-O38 -> 0
B39: 3.1.7 | C39: 92921 | D39: SINAPI | E39: Armação de aço CA-50 Ø 12.5mm; incluso fornecimento, corte, dobra e colocação | F39: kg | G39: 32.73 | H39: 7.88 | I39: =H39+H39*$J$7 -> 9.83818 | J39: =I39*G39 -> 322.00363 | K39: 32.73 | L39: =K39*I39 -> 322.00363 | M39: =L39/J39*100 -> 100 | N39: =G39-K39 -> 0 | O39: =N39*I39 -> 0 | P39: =O39/J39*100 -> 0 | Q39: =J39-L39-O39 -> 0
B40: 3.1.8 | C40: 92915 | D40: SINAPI | E40: Armação de aço CA-60 Ø 5,0mm; incluso fornecimento, corte, dobra e colocação | F40: kg | G40: 272.64 | H40: 11.95 | I40: =H40+H40*$J$7 -> 14.919575 | J40: =I40*G40 -> 4067.6729 | K40: 272.64 | L40: =K40*I40 -> 4067.6729 | M40: =L40/J40*100 -> 100 | N40: =G40-K40 -> 0 | O40: =N40*I40 -> 0 | P40: =O40/J40*100 -> 0 | Q40: =J40-L40-O40 -> 0
B41: 3.1.9 | C41: 92720 | D41: SINAPI | E41: Concreto para Fundação fck=25MPa, incluindo preparo, lançamento, adensamento | F41: m³ | G41: 14.27 | H41: 336.76 | I41: =H41+H41*$J$7 -> 420.44486 | J41: =I41*G41 -> 5999.7482 | K41: 14.27 | L41: =K41*I41 -> 5999.7482 | M41: =L41/J41*100 -> 100 | N41: =G41-K41 -> 0 | O41: =N41*I41 -> 0 | P41: =O41/J41*100 -> 0 | Q41: =J41-L41-O41 -> 0
B42: 3.2 | E42: CONCRETO ARMADO PARA FUNDAÇÕES - VIGAS BALDRAMES | G42: 0 | Q42: =J42-L42-O42 -> 0
B43: 3.2.1 | C43: 92418 | D43: SINAPI | E43: Forma de madeira em tábuas para fundações, com reaproveitamento | F43: m² | G43: 401.89 | H43: 59.03 | I43: =H43+H43*$J$7 -> 73.698955 | J43: =I43*G43 -> 29618.873 | K43: 401.89 | L43: =K43*I43 -> 29618.873 | M43: =L43/J43*100 -> 100 | N43: =G43-K43 -> 0 | O43: =N43*I43 -> 0 | P43: =O43/J43*100 -> 0 | Q43: =J43-L43-O43 -> 0
B44: 3.2.2 | C44: 92777 | D44: SINAPI | E44: Armação de aço CA-50 Ø 8mm; incluso fornecimento, corte, dobra e colocação | F44: kg | G44: 705.27 | H44: 11.25 | I44: =H44+H44*$J$7 -> 14.045625 | J44: =I44*G44 -> 9905.9579 | K44: 705.27 | L44: =K44*I44 -> 9905.9579 | M44: =L44/J44*100 -> 100 | N44: =G44-K44 -> 0 | O44: =N44*I44 -> 0 | P44: =O44/J44*100 -> 0 | Q44: =J44-L44-O44 -> 0
B45: 3.2.3 | C45: 92778 | D45: SINAPI | E45: Armação de aço CA-50 Ø 10mm; incluso fornecimento, corte, dobra e colocação | F45: kg | G45: 100.09 | H45: 9.19 | I45: =H45+H45*$J$7 -> 11.473715 | J45: =I45*G45 -> 1148.4041 | K45: 100.09 | L45: =K45*I45 -> 1148.4041 | M45: =L45/J45*100 -> 100 | N45: =G45-K45 -> 0 | O45: =N45*I45 -> 0 | P45: =O45/J45*100 -> 0 | Q45: =J45-L45-O45 -> 0
B46: 3.2.4 | C46: 92915 | D46: SINAPI | E46: Armação de aço CA-60 Ø 5,0mm; incluso fornecimento, corte, dobra e colocação | F46: kg | G46: 349.73 | H46: 11.95 | I46: =H46+H46*$J$7 -> 14.919575 | J46: =I46*G46 -> 5217.823 | K46: 349.73 | L46: =K46*I46 -> 5217.823 | M46: =L46/J46*100 -> 100 | N46: =G46-K46 -> 0 | O46: =N46*I46 -> 0 | P46: =O46/J46*100 -> 0 | Q46: =J46-L46-O46 -> 0
B47: 3.2.5 | C47: 92720 | D47: SINAPI | E47: Concreto para Fundação fck=25MPa, incluindo preparo, lançamento, adensamento | F47: m³ | G47: 23.67 | H47: 336.76 | I47: =H47+H47*$J$7 -> 420.44486 | J47: =I47*G47 -> 9951.9298 | K47: 23.67 | L47: =K47*I47 -> 9951.9298 | M47: =L47/J47*100 -> 100 | N47: =G47-K47 -> 0 | O47: =N47*I47 -> 0 | P47: =O47/J47*100 -> 0 | Q47: =J47-L47-O47 -> 0
B48: 3.3 | E48: CONCRETO ARMADO PARA FUNDAÇÕES - BASE CAIXA D´ÁGUA | G48: 0 | Q48: =J48-L48-O48 -> 0
B49: 3.3.1 | C49: 92418 | D49: SINAPI | E49: Forma de madeira em tábuas para fundações, com reaproveitamento | F49: m² | G49: 5.6 | H49: 59.03 | I49: =H49+H49*$J$7 -> 73.698955 | J49: =I49*G49 -> 412.71415 | K49: 0 | L49: =K49*I49 -> 0 | M49: =L49/J49*100 -> 0 | N49: =G49-K49 -> 5.6 | O49: =N49*I49 -> 412.71415 | P49: =O49/J49*100 -> 100 | Q49: =J49-L49-O49 -> 0
B50: 3.3.2 | C50: 92778 | D50: SINAPI | E50: Armação de aço CA-50 Ø 10mm; incluso fornecimento, corte, dobra e colocação | F50: kg | G50: 325 | H50: 9.19 | I50: =H50+H50*$J$7 -> 11.473715 | J50: =I50*G50 -> 3728.9574 | K50: 0 | L50: =K50*I50 -> 0 | M50: =L50/J50*100 -> 0 | N50: =G50-K50 -> 325 | O50: =N50*I50 -> 3728.9574 | P50: =O50/J50*100 -> 100 | Q50: =J50-L50-O50 -> 0
B51: 3.3.3 | C51: 92915 | D51: SINAPI | E51: Armação de aço CA-60 Ø 5,0mm; incluso fornecimento, corte, dobra e colocação | F51: kg | G51: 82 | H51: 11.95 | I51: =H51+H51*$J$7 -> 14.919575 | J51: =I51*G51 -> 1223.4051 | K51: 0 | L51: =K51*I51 -> 0 | M51: =L51/J51*100 -> 0 | N51: =G51-K51 -> 82 | O51: =N51*I51 -> 1223.4051 | P51: =O51/J51*100 -> 100 | Q51: =J51-L51-O51 -> 0
B52: 3.3.4 | C52: 92720 | D52: SINAPI | E52: Concreto para Fundação fck=25MPa, incluindo preparo, lançamento, adensamento | F52: m³ | G52: 3.92 | H52: 336.76 | I52: =H52+H52*$J$7 -> 420.44486 | J52: =I52*G52 -> 1648.1439 | K52: 0 | L52: =K52*I52 -> 0 | M52: =L52/J52*100 -> 0 | N52: =G52-K52 -> 3.92 | O52: =N52*I52 -> 1648.1439 | P52: =O52/J52*100 -> 100 | Q52: =J52-L52-O52 -> 0
B53: 3.3.5 | C53: 98230 | D53: SINAPI | E53: Estaca a trado (broca) d=30 cm com concreto fck=20 Mpa (sem armação) | F53: m | G53: 63 | H53: 100 | I53: =H53+H53*$J$7 -> 124.85 | J53: =I53*G53 -> 7865.55 | K53: 0 | L53: =K53*I53 -> 0 | M53: =L53/J53*100 -> 0 | N53: =G53-K53 -> 63 | O53: =N53*I53 -> 7865.55 | P53: =O53/J53*100 -> 100 | Q53: =J53-L53-O53 -> 0
H54: Subtotal | J54: =SUM(J32:J53) -> 117415.39
Q55: =J55-L55-O55 -> 0
B56: 4. | E56: SUPERESTRUTURA | J56: =J71 -> 150040.89 | L56: =SUM(L58:L70) -> 150034.58 | O56: =SUM(O58:O70) -> 6.3105433 | Q56: =O56+L56 -> 150040.89
B57: 4.1 | E57: CONCRETO ARMADO - VIGAS | G57: 0 | Q57: =J57-L57-O57 -> 0
B58: 4.1.1 | C58: 92468 | D58: SINAPI | E58: Montagem e desmontagem de forma para vigas, em chapa de madeira plastificada com reaproveitamento | F58: m² | G58: 390.71 | H58: 60.84 | I58: =H58+H58*$J$7 -> 75.95874 | J58: =I58*G58 -> 29677.839 | K58: 390.71 | L58: =K58*I58 -> 29677.839 | M58: =L58/J58*100 -> 100 | N58: =G58-K58 -> 0 | O58: =N58*I58 -> 0 | P58: =O58/J58*100 -> 0 | Q58: =J58-L58-O58 -> 0
B59: 4.1.2 | C59: 92776 | D59: SINAPI | E59: Armação de aço CA-50 Ø 6.3mm; incluso fornecimento, corte, dobra e colocação | F59: kg | G59: 0.55 | H59: 11.49 | I59: =H59+H59*$J$7 -> 14.345265 | J59: =I59*G59 -> 7.8898958 | K59: 0.55 | L59: =K59*I59 -> 7.8898958 | M59: =L59/J59*100 -> 100 | N59: =G59-K59 -> 0 | O59: =N59*I59 -> 0 | P59: =O59/J59*100 -> 0 | Q59: =J59-L59-O59 -> 0
B60: 4.1.3 | C60: 92777 | D60: SINAPI | E60: Armação de aço CA-50 Ø 8mm; incluso fornecimento, corte, dobra e colocação | F60: kg | G60: 704 | H60: 11.25 | I60: =H60+H60*$J$7 -> 14.045625 | J60: =I60*G60 -> 9888.12 | K60: 704 | L60: =K60*I60 -> 9888.12 | M60: =L60/J60*100 -> 100 | N60: =G60-K60 -> 0 | O60: =N60*I60 -> 0 | P60: =O60/J60*100 -> 0 | Q60: =J60-L60-O60 -> 0
B61: 4.1.4 | C61: 92778 | D61: SINAPI | E61: Armação de aço CA-50 Ø 10mm; incluso fornecimento, corte, dobra e colocação | F61: kg | G61: 100.81 | H61: 9.19 | I61: =H61+H61*$J$7 -> 11.473715 | J61: =I61*G61 -> 1156.6652 | K61: 100.81 | L61: =K61*I61 -> 1156.6652 | M61: =L61/J61*100 -> 100 | N61: =G61-K61 -> 0 | O61: =N61*I61 -> 0 | P61: =O61/J61*100 -> 0 | Q61: =J61-L61-O61 -> 0
B62: 4.1.5 | C62: 92775 | D62: SINAPI | E62: Armação de aço CA-60 Ø 5,0mm; incluso fornecimento, corte, dobra e colocação | F62: kg | G62: 330.73 | H62: 13 | I62: =H62+H62*$J$7 -> 16.2305 | J62: =I62*G62 -> 5367.9133 | K62: 330.73 | L62: =K62*I62 -> 5367.9133 | M62: =L62/J62*100 -> 100 | N62: =G62-K62 -> 0 | O62: =N62*I62 -> 0 | P62: =O62/J62*100 -> 0 | Q62: =J62-L62-O62 -> 0
B63: 4.1.6 | C63: 92720 | D63: SINAPI | E63: Concreto para Estrutura fck=25MPa, incluindo preparo, lançamento, adensamento. | F63: m³ | G63: 24.08 | H63: 336.76 | I63: =H63+H63*$J$7 -> 420.44486 | J63: =I63*G63 -> 10124.312 | K63: 24.08 | L63: =K63*I63 -> 10124.312 | M63: =L63/J63*100 -> 100 | N63: =G63-K63 -> 0 | O63: =N63*I63 -> 0 | P63: =O63/J63*100 -> 0 | Q63: =J63-L63-O63 -> 0
B64: 4.2 | E64: CONCRETO ARMADO - LAJES E PILARES | G64: 0 | I64: =H64+H64*$J$7 -> 0 | J64: =I64*G64 -> 0 | N64: =G64-K64 -> 0 | Q64: =J64-L64-O64 -> 0
B65: 4.2.1 | C65: 92430 | D65: SINAPI | E65: Montagem e desmontagem de forma para pilares, em chapa de madeira compensada plastificada com reaproveitamento | F65: m² | G65: 278.67 | H65: 39.47 | I65: =H65+H65*$J$7 -> 49.278295 | J65: =I65*G65 -> 13732.382 | K65: 278.67 | L65: =K65*I65 -> 13732.382 | M65: =L65/J65*100 -> 100 | N65: =G65-K65 -> 0 | O65: =N65*I65 -> 0 | P65: =O65/J65*100 -> 0 | Q65: =J65-L65-O65 -> 0
B66: 4.2.2 | C66: 92778 | D66: SINAPI | E66: Armação de aço CA-50 Ø 10mm; incluso fornecimento, corte, dobra e colocação | F66: kg | G66: 925.82 | H66: 9.19 | I66: =H66+H66*$J$7 -> 11.473715 | J66: =I66*G66 -> 10622.595 | K66: 925.27 | L66: =K66*I66 -> 10616.284 | M66: =L66/J66*100 -> 99.940593 | N66: =G66-K66 -> 0.55 | O66: =N66*I66 -> 6.3105433 | P66: =O66/J66*100 -> 0.059406796 | Q66: =J66-L66-O66 -> 7.1942452e-13
B67: 4.2.3 | C67: 92779 | D67: SINAPI | E67: Armação de aço CA-50 Ø 12.5mm; incluso fornecimento, corte, dobra e colocação | F67: kg | G67: 102.27 | H67: 8.21 | I67: =H67+H67*$J$7 -> 10.250185 | J67: =I67*G67 -> 1048.2864 | K67: 102.27 | L67: =K67*I67 -> 1048.2864 | M67: =L67/J67*100 -> 100 | N67: =G67-K67 -> 0 | O67: =N67*I67 -> 0 | P67: =O67/J67*100 -> 0 | Q67: =J67-L67-O67 -> 0
B68: 4.2.4 | C68: 92775 | D68: SINAPI | E68: Armação de aço CA-60 Ø 5,0mm; incluso fornecimento, corte, dobra e colocação | F68: kg | G68: 350.73 | H68: 13 | I68: =H68+H68*$J$7 -> 16.2305 | J68: =I68*G68 -> 5692.5233 | K68: 350.73 | L68: =K68*I68 -> 5692.5233 | M68: =L68/J68*100 -> 100 | N68: =G68-K68 -> 0 | O68: =N68*I68 -> 0 | P68: =O68/J68*100 -> 0 | Q68: =J68-L68-O68 -> 0
B69: 4.2.5 | C69: 92720 | D69: SINAPI | E69: Concreto para Estrutura fck=25MPa, incluindo preparo, lançamento, adensamento. | F69: m³ | G69: 14.24 | H69: 336.76 | I69: =H69+H69*$J$7 -> 420.44486 | J69: =I69*G69 -> 5987.1348 | K69: 14.24 | L69: =K69*I69 -> 5987.1348 | M69: =L69/J69*100 -> 100 | N69: =G69-K69 -> 0 | O69: =N69*I69 -> 0 | P69: =O69/J69*100 -> 0 | Q69: =J69-L69-O69 -> 0
B70: 4.2.6 | C70: 74202/1 | D70: SINAPI | E70: Laje pré-moldada para forro | F70: m² | G70: 519.88 | H70: 87.41 | I70: =H70+H70*$J$7 -> 109.13138 | J70: =I70*G70 -> 56735.224 | K70: 519.88 | L70: =K70*I70 -> 56735.224 | M70: =L70/J70*100 -> 100 | N70: =G70-K70 -> 0 | O70: =N70*I70 -> 0 | P70: =O70/J70*100 -> 0 | Q70: =J70-L70-O70 -> 0
H71: Subtotal | J71: =SUM(J57:J70) -> 150040.89
Q72: =J72-L72-O72 -> 0
B73: 5. | E73: SISTEMA DE VEDAÇÃO VERTICAL INTERNO E EXTERNO (PAREDES) | J73: =J78 -> 54145.938 | L73: =SUM(L74:L77) -> 42459.408 | O73: =SUM(O74:O77) -> 11686.53 | Q73: =O73+L73 -> 54145.938
B74: 5.1 | C74: 87477 | D74: SINAPI | E74: Alvenaria de vedação de 1/2 vez em tijolos cerâmicos (dimensões nominais: 39x19x09); assentamento em argamassa no traço 1:2:8 (cimento, cal e areia) | F74: m² | G74: 782.68 | H74: 34.99 | I74: =H74+H74*$J$7 -> 43.685015 | J74: =I74*G74 -> 34191.388 | K74: 782.68 | L74: =K74*I74 -> 34191.388 | M74: =L74/J74*100 -> 100 | N74: =G74-K74 -> 0 | O74: =N74*I74 -> 0 | P74: =O74/J74*100 -> 0 | Q74: =J74-L74-O74 -> 0
B75: 5.2 | C75: 93202 | D75: SINAPI | E75: Encunhamento (aperto de alvenaria) em tijolo cerâmicos maciços 5x10x20cm 1 vez (esp. 20cm), assentamento c/ argamassa traço1:6 (cimento e areia) | F75: m | G75: 250.7 | H75: 17.45 | I75: =H75+H75*$J$7 -> 21.786325 | J75: =I75*G75 -> 5461.8317 | K75: 10.03 | L75: =K75*I75 -> 218.51684 | M75: =L75/J75*100 -> 4.0007978 | N75: =G75-K75 -> 240.67 | O75: =N75*I75 -> 5243.3148 | P75: =O75/J75*100 -> 95.999202 | Q75: =J75-L75-O75 -> 0
B76: 5.3 | C76: 93183 | D76: SINAPI | E76: Verga 10X10cm em concreto pre-moldado fck=20MPa | F76: m | G76: 191.6 | H76: 33.65 | I76: =H76+H76*$J$7 -> 42.012025 | J76: =I76*G76 -> 8049.504 | K76: 191.6 | L76: =K76*I76 -> 8049.504 | M76: =L76/J76*100 -> 100 | N76: =G76-K76 -> 0 | O76: =N76*I76 -> 0 | P76: =O76/J76*100 -> 0 | Q76: =J76-L76-O76 -> 0
B77: 5.4 | C77: C4070 | D77: SEINFRA | E77: Divisória de banheiros e sanitários em granito com espessura de 2cm polido assentado com argamassa traço 1:4 | F77: m² | G77: 12.92 | H77: 399.44 | I77: =H77+H77*$J$7 -> 498.70084 | J77: =I77*G77 -> 6443.2149 | K77: 0 | L77: =K77*I77 -> 0 | M77: =L77/J77*100 -> 0 | N77: =G77-K77 -> 12.92 | O77: =N77*I77 -> 6443.2149 | P77: =O77/J77*100 -> 100 | Q77: =J77-L77-O77 -> 0
H78: Subtotal | J78: =SUM(J74:J77) -> 54145.938
Q79: =J79-L79-O79 -> 0
B80: 6. | E80: ESQUADRIAS | J80: =J111 -> 84942.737 | L80: =SUM(L82:L110) -> 0 | O80: =SUM(O82:O110) -> 84942.737 | Q80: =J80-L80-O80 -> 0
B81: 6.1 | E81: PORTAS DE MADEIRA | G81: 0 | Q81: =J81-L81-O81 -> 0
B82: 6.1.1 | C82: 91314 | D82: SINAPI | E82: Porta de abrir em madeira para pintura 0,80x2,10m, espessura 3,5cm, PM1, incluso dobradiças, batentes e fechadura | F82: un | G82: 7 | H82: 756.07 | I82: =H82+H82*$J$7 -> 943.9534 | J82: =I82*G82 -> 6607.6738 | K82: 0 | L82: =K82*I82 -> 0 | M82: =L82/J82*100 -> 0 | N82: =G82-K82 -> 7 | O82: =N82*I82 -> 6607.6738 | P82: =O82/J82*100 -> 100 | Q82: =J82-L82-O82 -> 0
B83: 6.1.2 | C83: 91314 | D83: SINAPI | E83: Porta de abrir em madeira para pintura 0,80x2,10m, espessura 3,5cm, PM2, incluso dobradiças, batentes e fechadura | F83: un | G83: 5 | H83: 756.07 | I83: =H83+H83*$J$7 -> 943.9534 | J83: =I83*G83 -> 4719.767 | K83: 0 | L83: =K83*I83 -> 0 | M83: =L83/J83*100 -> 0 | N83: =G83-K83 -> 5 | O83: =N83*I83 -> 4719.767 | P83: =O83/J83*100 -> 100 | Q83: =J83-L83-O83 -> 0
B84: 6.1.3 | C84: 91314 | D84: SINAPI | E84: Porta de abrir em madeira para pintura 0,80x2,10m, espessura 3,5cm, PM3, incluso dobradiças, batentes e fechadura | F84: un | G84: 2 | H84: 756.07 | I84: =H84+H84*$J$7 -> 943.9534 | J84: =I84*G84 -> 1887.9068 | K84: 0 | L84: =K84*I84 -> 0 | M84: =L84/J84*100 -> 0 | N84: =G84-K84 -> 2 | O84: =N84*I84 -> 1887.9068 | P84: =O84/J84*100 -> 100 | Q84: =J84-L84-O84 -> 0
B85: 6.1.4 | C85: 11480/(91335x0,75) | D85: SINAPI | E85: Porta de abrir em madeira para pintura 0,60x2,10m, espessura 3,5cm, PM4, com veneziana 0,50x0,40m conforme projeto, incluso dobradiças, batentes e fechadura | F85: un | G85: 1 | H85: 699 | I85: =H85+H85*$J$7 -> 872.7015 | J85: =I85*G85 -> 872.7015 | K85: 0 | L85: =K85*I85 -> 0 | M85: =L85/J85*100 -> 0 | N85: =G85-K85 -> 1 | O85: =N85*I85 -> 872.7015 | P85: =O85/J85*100 -> 100 | Q85: =J85-L85-O85 -> 0
B86: 6.1.5 | C86: 91335/3081 | D86: SINAPI | E86: Porta de abrir em madeira para pintura 0,80x2,10m, espessura 3,5cm, PM5, com veneziana 0,50x0,40m conforme projeto, incluso dobradiças, batentes e fechadura | F86: un | G86: 3 | H86: 799 | I86: =H86+H86*$J$7 -> 997.5515 | J86: =I86*G86 -> 2992.6545 | K86: 0 | L86: =K86*I86 -> 0 | M86: =L86/J86*100 -> 0 | N86: =G86-K86 -> 3 | O86: =N86*I86 -> 2992.6545 | P86: =O86/J86*100 -> 100 | Q86: =J86-L86-O86 -> 0
B87: 6.1.6 | C87: 20322/90800 | D87: SINAPI-I | E87: Porta de abrir em chapa de madeira compensada para banheiro revestida com laminado, 0,60x1,60m, PM6, incluso marco e dobradiças | F87: un | G87: 3 | H87: 437 | I87: =H87+H87*$J$7 -> 545.5945 | J87: =I87*G87 -> 1636.7835 | K87: 0 | L87: =K87*I87 -> 0 | M87: =L87/J87*100 -> 0 | N87: =G87-K87 -> 3 | O87: =N87*I87 -> 1636.7835 | P87: =O87/J87*100 -> 100 | Q87: =J87-L87-O87 -> 0
B88: 6.1.7 | C88: 4964/90802 | D88: SINAPI-I | E88: Porta de abrir em chapa de madeira compensada para banheiro revestida com laminado, 0,80x1,60m, PM7, incluso marco e dobradiças | F88: un | G88: 2 | H88: 549 | I88: =H88+H88*$J$7 -> 685.4265 | J88: =I88*G88 -> 1370.853 | K88: 0 | L88: =K88*I88 -> 0 | M88: =L88/J88*100 -> 0 | N88: =G88-K88 -> 2 | O88: =N88*I88 -> 1370.853 | P88: =O88/J88*100 -> 100 | Q88: =J88-L88-O88 -> 0
B89: 6.2 | E89: FERRAGENS E ACESSÓRIOS | G89: 0 | I89: =H89+H89*$J$7 -> 0 | J89: =I89*G89 -> 0 | Q89: =J89-L89-O89 -> 0
B90: 6.2.1 | C90: 36206 | D90: SINAPI-I | E90: Peças de apoio para PNE em aço inox para WC, nas portas PM2 e PM7 e nos lavatórios e paredes | F90: m | G90: 3.3 | H90: 126 | I90: =H90+H90*$J$7 -> 157.311 | J90: =I90*G90 -> 519.1263 | K90: 0 | L90: =K90*I90 -> 0 | M90: =L90/J90*100 -> 0 | N90: =G90-K90 -> 3.3 | O90: =N90*I90 -> 519.1263 | P90: =O90/J90*100 -> 100 | Q90: =J90-L90-O90 -> 0
B91: 6.2.2 | C91: 74046/2 | D91: SINAPI | E91: Tarjeta tipo livre/ocupado para porta de banheiro | F91: un | G91: 5 | H91: 33.22 | I91: =H91+H91*$J$7 -> 41.47517 | J91: =I91*G91 -> 207.37585 | K91: 0 | L91: =K91*I91 -> 0 | M91: =L91/J91*100 -> 0 | N91: =G91-K91 -> 5 | O91: =N91*I91 -> 207.37585 | P91: =O91/J91*100 -> 100 | Q91: =J91-L91-O91 -> 0
B92: 6.2.3 | C92: 39630 | D92: SINAPI-I | E92: Chapa metalica (alumínio) 0,8*0,5x 1mm para as portas - fornecimento e instalação | F92: m² | G92: 5.6 | H92: 56.7 | I92: =H92+H92*$J$7 -> 70.78995 | J92: =I92*G92 -> 396.42372 | K92: 0 | L92: =K92*I92 -> 0 | M92: =L92/J92*100 -> 0 | N92: =G92-K92 -> 5.6 | O92: =N92*I92 -> 396.42372 | P92: =O92/J92*100 -> 100 | Q92: =J92-L92-O92 -> 0
B93: 6.3 | E93: PORTAS DE ALUMÍNIO | G93: 0 | I93: =H93+H93*$J$7 -> 0 | J93: =I93*G93 -> 0 | Q93: =J93-L93-O93 -> 0
B94: 6.3.1 | C94: 94805 | D94: SINAPI | E94: Porta em alumínio de abrir de 0,80x2,10m com divisão horizontal para vidro e veneziana- PA1, conforme projeto de esquadrias, incluso dobradiças, batentes, fechadura e vidro mini boreal | F94: un | G94: 1 | H94: 918 | I94: =H94+H94*$J$7 -> 1146.123 | J94: =I94*G94 -> 1146.123 | K94: 0 | L94: =K94*I94 -> 0 | M94: =L94/J94*100 -> 0 | N94: =G94-K94 -> 1 | O94: =N94*I94 -> 1146.123 | P94: =O94/J94*100 -> 100 | Q94: =J94-L94-O94 -> 0
B95: 6.4 | E95: JANELAS DE ALUMÍNIO | G95: 0 | I95: =H95+H95*$J$7 -> 0 | J95: =I95*G95 -> 0 | Q95: =J95-L95-O95 -> 0
B96: 6.4.1 | C96: 94559 | D96: SINAPI | E96: Janela de Alumínio, basculante 60x40cm, JA-1,conforme projeto de esquadrias, inclusive ferragens | F96: m² | G96: 0.24 | H96: 428.82 | I96: =H96+H96*$J$7 -> 535.38177 | J96: =I96*G96 -> 128.49162 | K96: 0 | L96: =K96*I96 -> 0 | M96: =L96/J96*100 -> 0 | N96: =G96-K96 -> 0.24 | O96: =N96*I96 -> 128.49162 | P96: =O96/J96*100 -> 100 | Q96: =J96-L96-O96 -> 0
B97: 6.4.2 | C97: 94562 | D97: SINAPI | E97: Janela de Alumínio, de abrir 60x90cm, JA-2,conforme projeto de esquadrias, inclusive ferragens | F97: m² | G97: 1.08 | H97: 390.35 | I97: =H97+H97*$J$7 -> 487.35198 | J97: =I97*G97 -> 526.34013 | K97: 0 | L97: =K97*I97 -> 0 | M97: =L97/J97*100 -> 0 | N97: =G97-K97 -> 1.08 | O97: =N97*I97 -> 526.34013 | P97: =O97/J97*100 -> 100 | Q97: =J97-L97-O97 -> 0
B98: 6.4.3 | C98: 94559 | D98: SINAPI | E98: Janela de Alumínio, basculante 100x40cm, JA-3,conforme projeto de esquadrias, inclusive ferragens | F98: m² | G98: 3.2 | H98: 428.82 | I98: =H98+H98*$J$7 -> 535.38177 | J98: =I98*G98 -> 1713.2217 | K98: 0 | L98: =K98*I98 -> 0 | M98: =L98/J98*100 -> 0 | N98: =G98-K98 -> 3.2 | O98: =N98*I98 -> 1713.2217 | P98: =O98/J98*100 -> 100 | Q98: =J98-L98-O98 -> 0
B99: 6.4.4 | C99: 94562 | D99: SINAPI | E99: Janela de Alumínio, de correr 150x40cm, JA-4,conforme projeto de esquadrias, inclusive ferragens | F99: m² | G99: 0.6 | H99: 390.35 | I99: =H99+H99*$J$7 -> 487.35198 | J99: =I99*G99 -> 292.41118 | K99: 0 | L99: =K99*I99 -> 0 | M99: =L99/J99*100 -> 0 | N99: =G99-K99 -> 0.6 | O99: =N99*I99 -> 292.41118 | P99: =O99/J99*100 -> 100 | Q99: =J99-L99-O99 -> 0
B100: 6.4.5 | C100: 94562 | D100: SINAPI | E100: Janela de Alumínio, de correr 120x100cm, JA-5,conforme projeto de esquadrias, inclusive ferragens | F100: m² | G100: 6 | H100: 390.35 | I100: =H100+H100*$J$7 -> 487.35198 | J100: =I100*G100 -> 2924.1119 | K100: 0 | L100: =K100*I100 -> 0 | M100: =L100/J100*100 -> 0 | N100: =G100-K100 -> 6 | O100: =N100*I100 -> 2924.1119 | P100: =O100/J100*100 -> 100 | Q100: =J100-L100-O100 -> 0
B101: 6.4.6 | C101: 94559 | D101: SINAPI | E101: Janela de Alumínio, basculante 150x110cm, JA-6,conforme projeto de esquadrias, inclusive ferragens | F101: m² | G101: 3.3 | H101: 428.82 | I101: =H101+H101*$J$7 -> 535.38177 | J101: =I101*G101 -> 1766.7598 | K101: 0 | L101: =K101*I101 -> 0 | M101: =L101/J101*100 -> 0 | N101: =G101-K101 -> 3.3 | O101: =N101*I101 -> 1766.7598 | P101: =O101/J101*100 -> 100 | Q101: =J101-L101-O101 -> 0
B102: 6.4.7 | C102: 94559 | D102: SINAPI | E102: Janela de Alumínio, basculante 200x110cm, JA-7,conforme projeto de esquadrias, inclusive ferragens | F102: m² | G102: 8.8 | H102: 428.82 | I102: =H102+H102*$J$7 -> 535.38177 | J102: =I102*G102 -> 4711.3596 | K102: 0 | L102: =K102*I102 -> 0 | M102: =L102/J102*100 -> 0 | N102: =G102-K102 -> 8.8 | O102: =N102*I102 -> 4711.3596 | P102: =O102/J102*100 -> 100 | Q102: =J102-L102-O102 -> 0
B103: 6.4.8 | C103: 94559 | D103: SINAPI | E103: Janela de Alumínio, basculante 220X110cm,JA-8, conforme projeto de esquadrias, inclusive ferragens | F103: m² | G103: 48.4 | H103: 428.82 | I103: =H103+H103*$J$7 -> 535.38177 | J103: =I103*G103 -> 25912.478 | K103: 0 | L103: =K103*I103 -> 0 | M103: =L103/J103*100 -> 0 | N103: =G103-K103 -> 48.4 | O103: =N103*I103 -> 25912.478 | P103: =O103/J103*100 -> 100 | Q103: =J103-L103-O103 -> 0
B104: 6.4.9 | C104: 94562 | D104: SINAPI | E104: Janela de Alumínio, com veneziana fixa 180X60cm,JA-9, conforme projeto de esquadrias, inclusive ferragens | F104: m² | G104: 6.48 | H104: 390.35 | I104: =H104+H104*$J$7 -> 487.35198 | J104: =I104*G104 -> 3158.0408 | K104: 0 | L104: =K104*I104 -> 0 | M104: =L104/J104*100 -> 0 | N104: =G104-K104 -> 6.48 | O104: =N104*I104 -> 3158.0408 | P104: =O104/J104*100 -> 100 | Q104: =J104-L104-O104 -> 0
B105: 6.4.10 | C105: 85010 | D105: SINAPI | E105: Janela de Alumínio, fixa, JA-10, conforme projeto de esquadrias, inclusive ferragens | F105: m² | G105: 1.98 | H105: 298.96 | I105: =H105+H105*$J$7 -> 373.25156 | J105: =I105*G105 -> 739.03809 | K105: 0 | L105: =K105*I105 -> 0 | M105: =L105/J105*100 -> 0 | N105: =G105-K105 -> 1.98 | O105: =N105*I105 -> 739.03809 | P105: =O105/J105*100 -> 100 | Q105: =J105-L105-O105 -> 0
B106: 6.4.11 | D106: CPU | E106: Tela de nylon de proteção- fixada na esquadria | F106: m² | G106: 4.2 | H106: 38 | I106: =H106+H106*$J$7 -> 47.443 | J106: =I106*G106 -> 199.2606 | K106: 0 | L106: =K106*I106 -> 0 | M106: =L106/J106*100 -> 0 | N106: =G106-K106 -> 4.2 | O106: =N106*I106 -> 199.2606 | P106: =O106/J106*100 -> 100 | Q106: =J106-L106-O106 -> 0
...

Sheet cronograma
A1: Ministério da Educação
A4: Obra: Projeto Padrão FNDE -Escola 04 Salas de Aula - 220V
A5: Município:
A6: Endereço:
A8: PLANEJAMENTO
A10: ITEM | B10: DESCRIÇÃO DOS SERVIÇOS | C10: VALOR (R$) | D10: % ITEM | E10: 1 | F10: 2 | G10: 3 | H10: 4 | I10: 5 | J10: 6
A12: 1 | B12: SERVIÇOS PRELIMINARES | C12: ='Projeto padrão 220V'!J14 -> 22616.293 | D12: =C12/$C$53 -> 0.017910962 | E12: 1
E13: =C12*E12 -> 22616.293
A14: 2 | B14: MOVIMENTO DE TERRAS PARA FUNDAÇÕES | C14: ='Projeto padrão 220V'!J24 -> 28880.808 | D14: =C14/$C$53 -> 0.022872141 | E14: 0.8 | F14: 0.2
E15: =$C14*E14 -> 23104.646 | F15: =F14*C14 -> 5776.1615
A16: 3 | B16: FUNDAÇÕES | C16: ='Projeto padrão 220V'!J31 -> 117415.39 | D16: =C16/$C$53 -> 0.092987057 | E16: 0.3 | F16: 0.7
E17: =E16*C16 -> 35224.616 | F17: =C16*F16 -> 82190.77
A18: 4 | B18: SUPERESTRUTURA | C18: ='Projeto padrão 220V'!J56 -> 150040.89 | D18: =C18/$C$53 -> 0.11882481 | F18: 0.8 | G18: 0.2
F19: =C18*F18 -> 120032.71 | G19: =C18*G18 -> 30008.177
A20: 5 | B20: SISTEMA DE VEDAÇÃO VERTICAL INTERNO E EXTERNO (PAREDES) | C20: ='Projeto padrão 220V'!J73 -> 54145.938 | D20: =C20/$C$53 -> 0.042880849 | F20: 0.1 | G20: 0.6 | H20: 0.3
F21: =F20*C20 -> 5414.5938 | G21: =G20*C20 -> 32487.563 | H21: =H20*C20 -> 16243.781
A22: 6 | B22: ESQUADRIAS | C22: ='Projeto padrão 220V'!J80 -> 84942.737 | D22: =C22/$C$53 -> 0.067270359 | G22: 0.3 | H22: 0.6 | I22: 0.1
G23: =G22*C22 -> 25482.821 | H23: =H22*C22 -> 50965.642 | I23: =I22*C22 -> 8494.2737
A24: 7 | B24: SISTEMAS DE COBERTURA | C24: ='Projeto padrão 220V'!J113 -> 186194.98 | D24: =C24/$C$53 -> 0.14745702 | G24: 0.4 | H24: 0.5 | I24: 0.1
G25: =G24*C24 -> 74477.992 | H25: =C24*H24 -> 93097.49 | I25: =I24*C24 -> 18619.498
A26: 8 | B26: IMPERMEABILIZAÇÃO | C26: ='Projeto padrão 220V'!J124 -> 4721.5584 | D26: =C26/$C$53 -> 0.0037392359 | F26: 1
F27: =F26*C26 -> 4721.5584
A28: 9 | B28: REVESTIMENTOS INTERNOS E EXTERNOS | C28: ='Projeto padrão 220V'!J128 -> 174854.87 | D28: =C28/$C$53 -> 0.13847623 | H28: 0.5 | I28: 0.5
H29: =H28*C28 -> 87427.435 | I29: =I28*C28 -> 87427.435
A30: 10 | B30: SISTEMAS DE PISOS INTERNOS E EXTERNOS (PAVIMENTAÇÃO) | C30: ='Projeto padrão 220V'!J139 -> 146167.88 | D30: =C30/$C$53 -> 0.11575758 | G30: 0.3 | H30: 0.2 | I30: 0.4 | J30: 0.1
G31: =G30*C30 -> 43850.365 | H31: =H30*C30 -> 29233.576 | I31: =I30*C30 -> 58467.153 | J31: =J30*C30 -> 14616.788
A32: 11 | B32: PINTURA | C32: ='Projeto padrão 220V'!J155 -> 38271.577 | D32: =C32/$C$53 -> 0.030309156 | H32: 0.2 | I32: 0.5 | J32: 0.3
H33: =H32*C32 -> 7654.3154 | I33: =I32*C32 -> 19135.788 | J33: =J32*C32 -> 11481.473
A34: 12 | B34: INSTALAÇÕES HIDRÁULICA | C34: ='Projeto padrão 220V'!J165 -> 43802.886 | D34: =C34/$C$53 -> 0.034689674 | G34: 0.4 | H34: 0.4 | I34: 0.2
G35: =G34*C34 -> 17521.154 | H35: =H34*C34 -> 17521.154 | I35: =I34*C34 -> 8760.5772
A36: 13 | B36: INSTALAÇÃO SANITÁRIA | C36: ='Projeto padrão 220V'!J195 -> 46441.428 | D36: =C36/$C$53 -> 0.036779266 | F36: 0.1 | G36: 0.5 | H36: 0.2 | I36: 0.2
F37: =F36*C36 -> 4644.1428 | G37: =G36*C36 -> 23220.714 | H37: =H36*C36 -> 9288.2856 | I37: =I36*C36 -> 9288.2856
A38: 14 | B38: LOUÇAS E METAIS | C38: ='Projeto padrão 220V'!J216 -> 17118.009 | D38: =C38/$C$53 -> 0.013556599 | I38: 1
I39: =I38*C38 -> 17118.009
A40: 15 | B40: INSTALAÇÃO DE GÁS COMBUSTIVEL | C40: ='Projeto padrão 220V'!J240 -> 2022.9148 | D40: =C40/$C$53 -> 0.0016020464 | H40: 0.5 | I40: 0.5
H41: =H40*C40 -> 1011.4574 | I41: =I40*C40 -> 1011.4574
A42: 16 | B42: SISTEMA DE PROTEÇÃO CONTRA INCÊNCIO | C42: ='Projeto padrão 220V'!J255 -> 6398.163 | D42: =C42/$C$53 -> 0.005067022 | H42: 0.3 | I42: 0.5 | J42: 0.2
H43: =H42*C42 -> 1919.4489 | I43: =I42*C42 -> 3199.0815 | J43: =J42*C42 -> 1279.6326
A44: 17 | B44: INSTALAÇÕES ELÉTRICAS E TELEFÔNICAS | C44: ='Projeto padrão 220V'!J264 -> 47985.804 | D44: =C44/$C$53 -> 0.038002334 | G44: 0.5 | H44: 0.3 | I44: 0.2
G45: =G44*C44 -> 23992.902 | H45: =$C44*H44 -> 14395.741 | I45: =$C44*I44 -> 9597.1608
A46: 18 | B46: SISTEMA DE PROTEÇÃO CONTRA DESCARGAS ATMOSFÉRICAS (SPDA) | C46: ='Projeto padrão 220V'!J322 -> 39967.579 | D46: =C46/$C$53 -> 0.031652304 | F46: 0.4 | G46: 0.4 | H46: 0.2
F47: =F46*C46 -> 15987.032 | G47: =G46*C46 -> 15987.032 | H47: =H46*C46 -> 7993.5158
A48: 19 | B48: SERVIÇOS COMPLEMENTARES | C48: ='Projeto padrão 220V'!J334 -> 48228.449 | D48: =C48/$C$53 -> 0.038194496 | I48: 0.6 | J48: 0.4
I49: =I48*C48 -> 28937.069 | J49: =J48*C48 -> 19291.379
A50: 20 | B50: SERVIÇOS FINAIS | C50: ='Projeto padrão 220V'!J347 -> 2488.6313 | D50: =C50/$C$53 -> 0.0019708703 | J50: 1
J51: =$C50*J50 -> 2488.6313
A53: Valores totais | C53: =ROUNDDOWN(C12+C14+C16+C18+C20+C22+C24+C26+C28+C30+C32+C34+C36+C38+C40+C42+C44+C46+C48+C50,2) -> 1262706.8 | D53: =SUM(D11:D51) -> 1 | E53: =E13+E15+E17+E19+E25+E27+E43+E45+E49+E51+E21+E23+E29+E31+E33+E35+E37+E39+E41+E47 -> 80945.555 | F53: =F13+F15+F17+F19+F25+F27+F43+F45+F49+F51+F21+F23+F29+F31+F33+F35+F37+F39+F41+F47 -> 238766.97 | G53: =G13+G15+G17+G19+G25+G27+G43+G45+G49+G51+G21+G23+G29+G31+G33+G35+G37+G39+G41+G47 -> 287028.72 | H53: =H13+H15+H17+H19+H25+H27+H43+H45+H49+H51+H21+H23+H29+H31+H33+H35+H37+H39+H41+H47 -> 336751.84 | I53: =I13+I15+I17+I19+I25+I27+I43+I45+I49+I51+I21+I23+I29+I31+I33+I35+I37+I39+I41+I47 -> 270055.79 | J53: =J13+J15+J17+J19+J25+J27+J43+J45+J49+J51+J21+J23+J29+J31+J33+J35+J37+J39+J41+J47 -> 49157.905
E54: =E53/$C$53 -> 0.064104792 | F54: =F53/$C$53 -> 0.18909138 | G54: =G53/$C$53 -> 0.22731225 | H54: =H53/$C$53 -> 0.26669046 | I54: =I53/$C$53 -> 0.21387055 | J54: =J53/$C$53 -> 0.038930578
E55: =D55+E54 -> 0.064104792 | F55: =E55+F54 -> 0.25319617 | G55: =F55+G54 -> 0.48050843 | H55: =G55+H54 -> 0.74719888 | I55: =H55+I54 -> 0.96106943 | J55: =I55+J54 -> 1
